BEGIN:VCALENDAR
VERSION:2.0
PRODID:-//bc magazine - ECPv6.15.20//NONSGML v1.0//EN
CALSCALE:GREGORIAN
METHOD:PUBLISH
X-WR-CALNAME:bc magazine
X-ORIGINAL-URL:https://www.bcmagazine.net
X-WR-CALDESC:Events for bc magazine
REFRESH-INTERVAL;VALUE=DURATION:PT1H
X-Robots-Tag:noindex
X-PUBLISHED-TTL:PT1H
BEGIN:VTIMEZONE
TZID:Asia/Hong_Kong
BEGIN:STANDARD
TZOFFSETFROM:+0800
TZOFFSETTO:+0800
TZNAME:HKT
DTSTART:20170101T000000
END:STANDARD
END:VTIMEZONE
BEGIN:VEVENT
DTSTART;TZID=Asia/Hong_Kong:20180515T193000
DTEND;TZID=Asia/Hong_Kong:20180515T193000
DTSTAMP:20260425T064715
CREATED:19180412T073450Z
LAST-MODIFIED:20180412T075406Z
UID:10003940-1526412600-1526412600@www.bcmagazine.net
SUMMARY:Musicus Heritage Community Concert Series
DESCRIPTION:Musicus Heritage Community Concert Series : Dances and Fairy Tales\nDate: 5:30pm\, 7:30pm\, 15 May\, 2018\nVenue: Nan Lian Garden\nTickets: $200 from Cityline
URL:https://www.bcmagazine.net/event/musicus-heritage-community-concert-series-2018/
LOCATION:Nan Lian Garden\, 60 Fung Tak Road\, Diamond Hill\, Hong Kong
CATEGORIES:2018,Concert,Music,Performing Arts
GEO:22.3391533;114.205358
X-APPLE-STRUCTURED-LOCATION;VALUE=URI;X-ADDRESS=Nan Lian Garden 60 Fung Tak Road Diamond Hill Hong Kong;X-APPLE-RADIUS=500;X-TITLE=60 Fung Tak Road:geo:114.205358,22.3391533
END:VEVENT
END:VCALENDAR