BEGIN:VCALENDAR
VERSION:2.0
PRODID:-//bc magazine - ECPv6.15.20//NONSGML v1.0//EN
CALSCALE:GREGORIAN
METHOD:PUBLISH
X-WR-CALNAME:bc magazine
X-ORIGINAL-URL:https://www.bcmagazine.net
X-WR-CALDESC:Events for bc magazine
REFRESH-INTERVAL;VALUE=DURATION:PT1H
X-Robots-Tag:noindex
X-PUBLISHED-TTL:PT1H
BEGIN:VTIMEZONE
TZID:Asia/Hong_Kong
BEGIN:STANDARD
TZOFFSETFROM:+0800
TZOFFSETTO:+0800
TZNAME:HKT
DTSTART:20190101T000000
END:STANDARD
END:VTIMEZONE
BEGIN:VEVENT
DTSTART;VALUE=DATE:20220604
DTEND;VALUE=DATE:20220606
DTSTAMP:20260424T163922
CREATED:20180405T081942Z
LAST-MODIFIED:20220530T090429Z
UID:10006487-1654300800-1654473599@www.bcmagazine.net
SUMMARY:Project June 4th
DESCRIPTION:Project June 4th\nDate: 4 June\, 2022 (noon CET)\nVenue: live stream on Zoom and Youtube\nTickets: Free\nMore info: www.mingapur.com\nlive stream on Zoom and Youtube
URL:https://www.bcmagazine.net/event/project-june-4-2022/
LOCATION:Online\, Hong Kong
CATEGORIES:2022,Dance,Free,livestream,Performing Arts
ATTACH;FMTTYPE=image/jpeg:https://www.bcmagazine.net/wp-content/uploads/2018/04/project-4-june-2022.jpg
END:VEVENT
BEGIN:VEVENT
DTSTART;VALUE=DATE:20210319
DTEND;VALUE=DATE:20210420
DTSTAMP:20260424T163922
CREATED:19180208T065813Z
LAST-MODIFIED:20210315T141837Z
UID:10003781-1616112000-1618876799@www.bcmagazine.net
SUMMARY:HK Flower Show
DESCRIPTION:Hong Kong Flower Show 2021\n Date: 19 March – 19 April\, 2021\nVenue: Onlive\nTickets: Free
URL:https://www.bcmagazine.net/event/hong-kong-flower-show-2021/
LOCATION:Online\, Hong Kong
CATEGORIES:2021,Exhibition,Lifestyle,Other
ATTACH;FMTTYPE=image/jpeg:https://www.bcmagazine.net/wp-content/uploads/1918/02/flower-show-2021.jpg
END:VEVENT
BEGIN:VEVENT
DTSTART;VALUE=DATE:20210225
DTEND;VALUE=DATE:20210302
DTSTAMP:20260424T163922
CREATED:19210209T093112Z
LAST-MODIFIED:20210209T094054Z
UID:10005090-1614211200-1614643199@www.bcmagazine.net
SUMMARY:Larger Than Life: The American Civil Rights Movement in Documentaries
DESCRIPTION:Larger Than Life: the American Civil Rights Movement in Documentaries\nDate: 25 February – 1 March\, 2021\nVenue: Vimeo\nTickets: Free
URL:https://www.bcmagazine.net/event/larger-than-life-the-american-civil-rights-movement-in-documentaries/
LOCATION:Online\, Hong Kong
CATEGORIES:2021,Film,Free,Lifestyle,Performing Arts,talk
ATTACH;FMTTYPE=image/png:https://www.bcmagazine.net/wp-content/uploads/2021/02/larger-than-life-2021.png
END:VEVENT
BEGIN:VEVENT
DTSTART;TZID=Asia/Hong_Kong:20201114T130000
DTEND;TZID=Asia/Hong_Kong:20201114T130000
DTSTAMP:20260424T163922
CREATED:19170916T105728Z
LAST-MODIFIED:20201110T114452Z
UID:10003480-1605358800-1605358800@www.bcmagazine.net
SUMMARY:Hong Kong Pride Parade 2020
DESCRIPTION:Hong Kong Pride Parade 2020\nDate: 1pm\, 14 November\, 2020\nVenue: online\nTickets: Free
URL:https://www.bcmagazine.net/event/hong-kong-pride-parade-2020/
LOCATION:Online\, Hong Kong
CATEGORIES:2020,Free,LGBT,Lifestyle
ATTACH;FMTTYPE=image/jpeg:https://www.bcmagazine.net/wp-content/uploads/1917/09/hk-pride-2020.jpg
END:VEVENT
BEGIN:VEVENT
DTSTART;VALUE=DATE:20201111
DTEND;VALUE=DATE:20201216
DTSTAMP:20260424T163922
CREATED:20201023T073117Z
LAST-MODIFIED:20201026T143622Z
UID:10006640-1605052800-1608076799@www.bcmagazine.net
SUMMARY:Wine & Dine Festival 2020
DESCRIPTION:Wine & Dine Festival 2020\nDate: 11 November – 15 December\, 2020\nVenue: Online + Offline\nTickets: various
URL:https://www.bcmagazine.net/event/wine-dine-festival-2020/
LOCATION:Online\, Hong Kong
CATEGORIES:2020,Food,Nightlife
ATTACH;FMTTYPE=image/jpeg:https://www.bcmagazine.net/wp-content/uploads/1916/10/hktb-wine-and-dine-2020.jpg
END:VEVENT
BEGIN:VEVENT
DTSTART;TZID=Asia/Hong_Kong:20201101T193000
DTEND;TZID=Asia/Hong_Kong:20201101T193000
DTSTAMP:20260424T163922
CREATED:20200901T084823Z
LAST-MODIFIED:20201112T093352Z
UID:10006631-1604259000-1604259000@www.bcmagazine.net
SUMMARY:Pink Dot Hong Kong
DESCRIPTION:Pink Dot Hong Kong\nDate: 1 November\, 2020\nVenue: Various\nTickets: Free
URL:https://www.bcmagazine.net/event/pink-dot-hong-kong/
LOCATION:Online\, Hong Kong
CATEGORIES:2020,Charity,Free,LGBT
ATTACH;FMTTYPE=image/jpeg:https://www.bcmagazine.net/wp-content/uploads/2018/09/pink-dot-2020.jpg
END:VEVENT
BEGIN:VEVENT
DTSTART;TZID=Asia/Hong_Kong:20200623T210000
DTEND;TZID=Asia/Hong_Kong:20200623T210000
DTSTAMP:20260424T163922
CREATED:20200617T094512Z
LAST-MODIFIED:20200617T101406Z
UID:10006625-1592946000-1592946000@www.bcmagazine.net
SUMMARY:Robynn Yip
DESCRIPTION:Robynn Yip\nDate: 9pm\, 23 June\, 2020\nVenue: LivefromHome\nTickets: Free
URL:https://www.bcmagazine.net/event/robynn-yip-23-06-2020/
LOCATION:Online\, Hong Kong
CATEGORIES:2020,Concert,Free,livestream,Music,Performing Arts,Virtual Tour
ATTACH;FMTTYPE=image/jpeg:https://www.bcmagazine.net/wp-content/uploads/2020/04/Robynn-Yip-2020.jpg
END:VEVENT
BEGIN:VEVENT
DTSTART;VALUE=DATE:20200620
DTEND;VALUE=DATE:20200622
DTSTAMP:20260424T163922
CREATED:20200615T044512Z
LAST-MODIFIED:20200617T015116Z
UID:10006624-1592611200-1592783999@www.bcmagazine.net
SUMMARY:Make Music\, Hong Kong!
DESCRIPTION:Make Music\, Hong Kong!\nDate: 20-21 June\, 2020\nVenue: online\nTickets: Free\nMore info:\nLive Streaming 20 June\nInterzone Collective: 4pm\nKolor: 6pm\nWong Wo黃禍：8pm\nDavid Boring: 10pm
URL:https://www.bcmagazine.net/event/make-music-hong-kong-2020/
LOCATION:Online\, Hong Kong
CATEGORIES:2020,Concert,Music,Performing Arts
ATTACH;FMTTYPE=image/jpeg:https://www.bcmagazine.net/wp-content/uploads/2020/04/MMHK-2020-poster.jpg
END:VEVENT
END:VCALENDAR