BEGIN:VCALENDAR
VERSION:2.0
PRODID:-//bc magazine - ECPv6.15.20//NONSGML v1.0//EN
CALSCALE:GREGORIAN
METHOD:PUBLISH
X-WR-CALNAME:bc magazine
X-ORIGINAL-URL:https://www.bcmagazine.net
X-WR-CALDESC:Events for bc magazine
REFRESH-INTERVAL;VALUE=DURATION:PT1H
X-Robots-Tag:noindex
X-PUBLISHED-TTL:PT1H
BEGIN:VTIMEZONE
TZID:Asia/Hong_Kong
BEGIN:STANDARD
TZOFFSETFROM:+0800
TZOFFSETTO:+0800
TZNAME:HKT
DTSTART:20140101T000000
END:STANDARD
END:VTIMEZONE
BEGIN:VEVENT
DTSTART;TZID=Asia/Hong_Kong:20160831T200000
DTEND;TZID=Asia/Hong_Kong:20160831T200000
DTSTAMP:20260425T002307
CREATED:19160815T153953Z
LAST-MODIFIED:20160815T160124Z
UID:10000671-1472673600-1472673600@www.bcmagazine.net
SUMMARY:The Tapi Project
DESCRIPTION:The Tapi Project\nDate: 8pm\, 31 August\, 2016\nVenue: Orange Peel\nTickets: free
URL:https://www.bcmagazine.net/event/the-tapi-project-orange-peel-2016/
LOCATION:Orange Peel\, 2/F\, 38-44 D'Aguilar Street\, Central\, Hong Kong\, Hong Kong
CATEGORIES:2016,Concert,Music
GEO:22.2807864;114.1553675
X-APPLE-STRUCTURED-LOCATION;VALUE=URI;X-ADDRESS=Orange Peel 2/F 38-44 D'Aguilar Street Central Hong Kong Hong Kong;X-APPLE-RADIUS=500;X-TITLE=2/F\, 38-44 D'Aguilar Street\, Central:geo:114.1553675,22.2807864
END:VEVENT
BEGIN:VEVENT
DTSTART;TZID=Asia/Hong_Kong:20160110T193000
DTEND;TZID=Asia/Hong_Kong:20160110T193000
DTSTAMP:20260425T002307
CREATED:19160105T152530Z
LAST-MODIFIED:20160105T153109Z
UID:10001067-1452454200-1452454200@www.bcmagazine.net
SUMMARY:WonFu
DESCRIPTION:WonFu are a Taiwanese folk-rock band formed in 1998. The band has played various music festivals across Asia\, and has been nominated for “Best Band” by Taiwanese Golden Melody Awards three times (equivalent to the Grammy Awards in Taiwan). The band is known for their unique creativity\, sense of humor\, music technique and imagination. \nWonFu – Papa I Want To Be A Star\nDate: 7:30pm\, 10 January\, 2016\nVenue: Orange Peel\nTickets: $340 from Ticketflap
URL:https://www.bcmagazine.net/event/wonfu-papa-i-want-to-be-a-star-2016/
LOCATION:Orange Peel\, 2/F\, 38-44 D'Aguilar Street\, Central\, Hong Kong\, Hong Kong
CATEGORIES:2016,Concert,Music
ATTACH;FMTTYPE=image/jpeg:https://www.bcmagazine.net/wp-content/uploads/2016/01/facebook_event_1698014270411392.jpg
GEO:22.2807864;114.1553675
X-APPLE-STRUCTURED-LOCATION;VALUE=URI;X-ADDRESS=Orange Peel 2/F 38-44 D'Aguilar Street Central Hong Kong Hong Kong;X-APPLE-RADIUS=500;X-TITLE=2/F\, 38-44 D'Aguilar Street\, Central:geo:114.1553675,22.2807864
END:VEVENT
BEGIN:VEVENT
DTSTART;TZID=Asia/Hong_Kong:20151210T213000
DTEND;TZID=Asia/Hong_Kong:20151210T233000
DTSTAMP:20260425T002307
CREATED:19151206T113245Z
LAST-MODIFIED:20151206T122404Z
UID:10000184-1449783000-1449790200@www.bcmagazine.net
SUMMARY:Soler
DESCRIPTION:Soler – I Love Dogs\nDate: 9:30pm\, 10 December\, 2015\nVenue: Orange Peel\nTickets: $350
URL:https://www.bcmagazine.net/event/soler-i-love-dogs/
LOCATION:Orange Peel\, 2/F\, 38-44 D'Aguilar Street\, Central\, Hong Kong\, Hong Kong
CATEGORIES:2015,Concert,Music
ATTACH;FMTTYPE=image/jpeg:https://www.bcmagazine.net/wp-content/uploads/2015/12/facebook_event_1708962562673638.jpg
GEO:22.2807864;114.1553675
X-APPLE-STRUCTURED-LOCATION;VALUE=URI;X-ADDRESS=Orange Peel 2/F 38-44 D'Aguilar Street Central Hong Kong Hong Kong;X-APPLE-RADIUS=500;X-TITLE=2/F\, 38-44 D'Aguilar Street\, Central:geo:114.1553675,22.2807864
END:VEVENT
END:VCALENDAR