BEGIN:VCALENDAR
VERSION:2.0
PRODID:-//bc magazine - ECPv6.15.20//NONSGML v1.0//EN
CALSCALE:GREGORIAN
METHOD:PUBLISH
X-WR-CALNAME:bc magazine
X-ORIGINAL-URL:https://www.bcmagazine.net
X-WR-CALDESC:Events for bc magazine
REFRESH-INTERVAL;VALUE=DURATION:PT1H
X-Robots-Tag:noindex
X-PUBLISHED-TTL:PT1H
BEGIN:VTIMEZONE
TZID:Asia/Hong_Kong
BEGIN:STANDARD
TZOFFSETFROM:+0800
TZOFFSETTO:+0800
TZNAME:HKT
DTSTART:20160101T000000
END:STANDARD
END:VTIMEZONE
BEGIN:VEVENT
DTSTART;TZID=Asia/Hong_Kong:20170624T120000
DTEND;TZID=Asia/Hong_Kong:20170624T210000
DTSTAMP:20260424T003157
CREATED:19170520T042806Z
LAST-MODIFIED:20170620T043109Z
UID:10001234-1498305600-1498338000@www.bcmagazine.net
SUMMARY:HK Spirits & Pairing Festival
DESCRIPTION:HK Spirits & Pairing Festival 2017\nDate: 12pm\, 24 June\, 2017\nVenue: The Park Lane Hotel\, Rooftop\nTickets: $680\, $300
URL:https://www.bcmagazine.net/event/hk-spirits-cigar-pairing-festival-2017/
LOCATION:Park Lane Hotel\, Hong Kong
CATEGORIES:2017,Food,Nightlife
GEO:22.396428;114.109497
END:VEVENT
END:VCALENDAR