BEGIN:VCALENDAR
VERSION:2.0
PRODID:-//bc magazine - ECPv6.15.20//NONSGML v1.0//EN
CALSCALE:GREGORIAN
METHOD:PUBLISH
X-ORIGINAL-URL:https://www.bcmagazine.net
X-WR-CALDESC:Events for bc magazine
REFRESH-INTERVAL;VALUE=DURATION:PT1H
X-Robots-Tag:noindex
X-PUBLISHED-TTL:PT1H
BEGIN:VTIMEZONE
TZID:Asia/Hong_Kong
BEGIN:STANDARD
TZOFFSETFROM:+0800
TZOFFSETTO:+0800
TZNAME:HKT
DTSTART:20140101T000000
END:STANDARD
END:VTIMEZONE
BEGIN:VEVENT
DTSTART;TZID=Asia/Hong_Kong:20150718T210000
DTEND;TZID=Asia/Hong_Kong:20150718T223000
DTSTAMP:20260424T180818
CREATED:20150708T044726Z
LAST-MODIFIED:20150708T044726Z
UID:10006048-1437253200-1437258600@www.bcmagazine.net
SUMMARY:Global Float: Hong Kong's Epic Silent Dance Party!
DESCRIPTION:A floating dance party is when a group of people download an epic 90-minute mix\, meet up\, put on headphones\, press play at the same time\, and dance around the city together. It’s an amazing\, synchronous\, goofy\, loud-on-the-inside\, silent-on-the-outside hour-and-a-half of joy. For the fourth year in a row\, the Global Float is happening in dozens of cities around the world\, one after another. \nGlobal Float: Hong Kong’s Epic Silent Dance Party!\nDate: 9pm\, 18 July\, 2015\nVenue: Pier No 9\nTickets: Free\nMore info: https://www.facebook.com/events/1462587654055339/
URL:https://www.bcmagazine.net/event/global-float-hong-kongs-epic-silent-dance-party/
LOCATION:Pier No 9\, Central\, Hong Kong
CATEGORIES:2015,DJ,Free,Music,Nightlife
END:VEVENT
END:VCALENDAR