BEGIN:VCALENDAR
VERSION:2.0
PRODID:-//bc magazine - ECPv6.15.20//NONSGML v1.0//EN
CALSCALE:GREGORIAN
METHOD:PUBLISH
X-WR-CALNAME:bc magazine
X-ORIGINAL-URL:https://www.bcmagazine.net
X-WR-CALDESC:Events for bc magazine
REFRESH-INTERVAL;VALUE=DURATION:PT1H
X-Robots-Tag:noindex
X-PUBLISHED-TTL:PT1H
BEGIN:VTIMEZONE
TZID:Asia/Hong_Kong
BEGIN:STANDARD
TZOFFSETFROM:+0800
TZOFFSETTO:+0800
TZNAME:HKT
DTSTART:20150101T000000
END:STANDARD
END:VTIMEZONE
BEGIN:VEVENT
DTSTART;VALUE=DATE:20180420
DTEND;VALUE=DATE:20180423
DTSTAMP:20260421T151217
CREATED:19180405T081942Z
LAST-MODIFIED:20180412T084523Z
UID:10003931-1524182400-1524441599@www.bcmagazine.net
SUMMARY:The Conscious Festival
DESCRIPTION:The Conscious Festival\nDate: 20-22 April\, 2018\nVenue: PMQ\nTickets: Free
URL:https://www.bcmagazine.net/event/the-conscious-festival-2018/
LOCATION:PMQ\, 35 Aberdeen Street\, Central\, Hong Kong
CATEGORIES:2018,Concert,Film,Food,Free,Lifestyle,Music,Performing Arts
GEO:22.2836011;114.1524554
X-APPLE-STRUCTURED-LOCATION;VALUE=URI;X-ADDRESS=PMQ 35 Aberdeen Street Central Hong Kong;X-APPLE-RADIUS=500;X-TITLE=35 Aberdeen Street:geo:114.1524554,22.2836011
END:VEVENT
BEGIN:VEVENT
DTSTART;TZID=Asia/Hong_Kong:20170826T170000
DTEND;TZID=Asia/Hong_Kong:20170826T170000
DTSTAMP:20260421T151217
CREATED:19170520T053805Z
LAST-MODIFIED:20170520T062128Z
UID:10002629-1503766800-1503766800@www.bcmagazine.net
SUMMARY:Hong Kong International Reggae Ska Festival
DESCRIPTION:Hong Kong International Reggae Ska Festival\nDate: 26 August\, 2017\nVenue: PMQ\nTickets: tbc
URL:https://www.bcmagazine.net/event/hong-kong-international-reggae-ska-festival-2017/
LOCATION:PMQ\, 35 Aberdeen Street\, Central\, Hong Kong
CATEGORIES:2017,Concert,Music,Performing Arts
GEO:22.2836011;114.1524554
X-APPLE-STRUCTURED-LOCATION;VALUE=URI;X-ADDRESS=PMQ 35 Aberdeen Street Central Hong Kong;X-APPLE-RADIUS=500;X-TITLE=35 Aberdeen Street:geo:114.1524554,22.2836011
END:VEVENT
BEGIN:VEVENT
DTSTART;VALUE=DATE:20160820
DTEND;VALUE=DATE:20160821
DTSTAMP:20260421T151217
CREATED:20160615T141533Z
LAST-MODIFIED:20160615T141533Z
UID:10006116-1471651200-1471737599@www.bcmagazine.net
SUMMARY:Reggae Ska Fest
DESCRIPTION:Reggae Ska Fest\nRed Stripes\, Noh Seon Teck\nDate: 20 August\, 2016\nVenue: PMQ\nTickets: $290\, $380 from Ticketflap
URL:https://www.bcmagazine.net/event/reggae-ska-fest-2016/
LOCATION:PMQ\, 35 Aberdeen Street\, Central\, Hong Kong
CATEGORIES:2016,Concert,Music
GEO:22.2836011;114.1524554
X-APPLE-STRUCTURED-LOCATION;VALUE=URI;X-ADDRESS=PMQ 35 Aberdeen Street Central Hong Kong;X-APPLE-RADIUS=500;X-TITLE=35 Aberdeen Street:geo:114.1524554,22.2836011
END:VEVENT
BEGIN:VEVENT
DTSTART;TZID=Asia/Hong_Kong:20160430T110000
DTEND;TZID=Asia/Hong_Kong:20160430T210000
DTSTAMP:20260421T151217
CREATED:20160430T000803Z
LAST-MODIFIED:20160502T041735Z
UID:10006107-1462014000-1462050000@www.bcmagazine.net
SUMMARY:Le French GourMay @ PMQ
DESCRIPTION:The 8th Le French GourMay opens with a celebration of French Food and Wine from the Alsace region of France at PMQ. The 3 day launch party features the flavours and gastronomy of the region including French cheeses\, specialties from the delicatessen\, seafood\, seasonal dishes and of course wine. \nThere’ll also be music with a brass band playing classic French movie soundtracks\, dancers from the Cirque Eloize and an open-air street graffiti party. \nThe participating restaurants and wine shops at PMQ include: B.A.M\, Maison Argaud & Centre du Vin\, Cococabana\, Frensh.hk\, LaBoucherie.com.hk\, Le Port Parfumé\, M&C Asia\, Monsieur Chatté\, PillariWine\, Popsy Modern Kitchen and Tartine. \nFor the full list of events and participating restaurants in the Le French Gourmay see www.frenchgourmay.com \n\nLe French GourMay @ PMQ\nDate: 30 April – 2 May\, 2016\nVenue: PMQ\nTickets: Free\nMore info:\n30 April – 1 May – 11am – 9pm\n2 May – 11am – 8pm
URL:https://www.bcmagazine.net/event/le-french-gourmay-pmq-2016/2016-04-30/
LOCATION:PMQ\, 35 Aberdeen Street\, Central\, Hong Kong
CATEGORIES:2016,Food,Free,Market
GEO:22.2836011;114.1524554
X-APPLE-STRUCTURED-LOCATION;VALUE=URI;X-ADDRESS=PMQ 35 Aberdeen Street Central Hong Kong;X-APPLE-RADIUS=500;X-TITLE=35 Aberdeen Street:geo:114.1524554,22.2836011
END:VEVENT
END:VCALENDAR