BEGIN:VCALENDAR
VERSION:2.0
PRODID:-//bc magazine - ECPv6.15.20//NONSGML v1.0//EN
CALSCALE:GREGORIAN
METHOD:PUBLISH
X-WR-CALNAME:bc magazine
X-ORIGINAL-URL:https://www.bcmagazine.net
X-WR-CALDESC:Events for bc magazine
REFRESH-INTERVAL;VALUE=DURATION:PT1H
X-Robots-Tag:noindex
X-PUBLISHED-TTL:PT1H
BEGIN:VTIMEZONE
TZID:Asia/Hong_Kong
BEGIN:STANDARD
TZOFFSETFROM:+0800
TZOFFSETTO:+0800
TZNAME:HKT
DTSTART:20180101T000000
END:STANDARD
END:VTIMEZONE
BEGIN:VEVENT
DTSTART;VALUE=DATE:20191220
DTEND;VALUE=DATE:20200302
DTSTAMP:20260424T163014
CREATED:19170811T054537Z
LAST-MODIFIED:20191126T110813Z
UID:10003256-1576800000-1583107199@www.bcmagazine.net
SUMMARY:Banksy: Genius or Vandal?
DESCRIPTION:Banksy: Genius or Vandal?\nDate: 11am\, 20 December\, 2019 – 1 March\, 2020\nVenue: Portal 6311\nTickets: $210\, $180
URL:https://www.bcmagazine.net/event/banksy-genius-or-vandal-hong-kong/
LOCATION:Portal 6311\, 1/F\, FTLife Tower\, 18 Sheung Yuet Road\,\, Kowloon Bay\, Hong Kong
CATEGORIES:2019,Concert,DJ,Music,Performing Arts
END:VEVENT
END:VCALENDAR