BEGIN:VCALENDAR
VERSION:2.0
PRODID:-//bc magazine - ECPv6.15.20//NONSGML v1.0//EN
CALSCALE:GREGORIAN
METHOD:PUBLISH
X-WR-CALNAME:bc magazine
X-ORIGINAL-URL:https://www.bcmagazine.net
X-WR-CALDESC:Events for bc magazine
REFRESH-INTERVAL;VALUE=DURATION:PT1H
X-Robots-Tag:noindex
X-PUBLISHED-TTL:PT1H
BEGIN:VTIMEZONE
TZID:Asia/Hong_Kong
BEGIN:STANDARD
TZOFFSETFROM:+0800
TZOFFSETTO:+0800
TZNAME:HKT
DTSTART:20170101T000000
END:STANDARD
END:VTIMEZONE
BEGIN:VEVENT
DTSTART;TZID=Asia/Hong_Kong:20180210T093000
DTEND;TZID=Asia/Hong_Kong:20180210T093000
DTSTAMP:20260423T130500
CREATED:19171217T065358Z
LAST-MODIFIED:20171217T104810Z
UID:10003685-1518255000-1518255000@www.bcmagazine.net
SUMMARY:Valentine's Day Race
DESCRIPTION:Valentine’s Day Race\n Date: 9:30am\, 10 February\, 2018\nVenue: Pui O Beach\nTickets: $400
URL:https://www.bcmagazine.net/event/valentines-day-race-2018/
LOCATION:Pui O Beach\, Hong Kong
CATEGORIES:2018,Lifestyle,Sport
GEO:22.396428;114.109497
END:VEVENT
END:VCALENDAR