BEGIN:VCALENDAR
VERSION:2.0
PRODID:-//bc magazine - ECPv6.15.20//NONSGML v1.0//EN
CALSCALE:GREGORIAN
METHOD:PUBLISH
X-WR-CALNAME:bc magazine
X-ORIGINAL-URL:https://www.bcmagazine.net
X-WR-CALDESC:Events for bc magazine
REFRESH-INTERVAL;VALUE=DURATION:PT1H
X-Robots-Tag:noindex
X-PUBLISHED-TTL:PT1H
BEGIN:VTIMEZONE
TZID:Asia/Hong_Kong
BEGIN:STANDARD
TZOFFSETFROM:+0800
TZOFFSETTO:+0800
TZNAME:HKT
DTSTART:20150101T000000
END:STANDARD
END:VTIMEZONE
BEGIN:VEVENT
DTSTART;TZID=Asia/Hong_Kong:20250429T200000
DTEND;TZID=Asia/Hong_Kong:20250429T200000
DTSTAMP:20260422T193512
CREATED:20250308T004237Z
LAST-MODIFIED:20250429T041753Z
UID:10011334-1745956800-1745956800@www.bcmagazine.net
SUMMARY:M2M
DESCRIPTION:M2M – The Better Endings Tour\nDate: 8pm\, 29 April 2025\nVenue: Queen Elizabeth Stadium\nTickets: $2\,088\, $1\,288\, $888\, $688 from Urbtix
URL:https://www.bcmagazine.net/event/m2m-2025/
LOCATION:Queen Elizabeth Stadium\, 18 Oi Kwan Road\, Wanchai\, Hong Kong
CATEGORIES:2025,Concert,Free,Music,Nightlife,Performing Arts
ATTACH;FMTTYPE=image/webp:https://www.bcmagazine.net/wp-content/uploads/2022/06/M2M-hong-kong-2025.webp
GEO:22.2751271;114.1789682
X-APPLE-STRUCTURED-LOCATION;VALUE=URI;X-ADDRESS=Queen Elizabeth Stadium 18 Oi Kwan Road Wanchai Hong Kong;X-APPLE-RADIUS=500;X-TITLE=18 Oi Kwan Road:geo:114.1789682,22.2751271
END:VEVENT
BEGIN:VEVENT
DTSTART;TZID=Asia/Hong_Kong:20190428T170000
DTEND;TZID=Asia/Hong_Kong:20190428T193000
DTSTAMP:20260422T193512
CREATED:19181213T044512Z
LAST-MODIFIED:20190125T180247Z
UID:10004682-1556470800-1556479800@www.bcmagazine.net
SUMMARY:Jazz Marathon 2019
DESCRIPTION:Jazz Marathon 2019\nDate: 5pm\, 27 & 28 April\, 2019\nVenue: Queen Elizabeth Stadium\nTickets: $600\, $420\, $280\, $180 from Urbtix\nMore info:\nSaturday: Patrick Lui Jazz Orchestra\, Angelo Debarre Trio\, Doctor 3\, Ulf Wakenius Scandinavian All-Stars Quartet\, RubberBand\, Sharon Lui\nSunday: Ted Lo\, Chinese Ensemble on Jazz\, Rhani Krija\, Quadro Nuevo\, Patax\, Steve Smith and Vital Information\, Angelita Li
URL:https://www.bcmagazine.net/event/jazz-marathon-28-04-2019/
LOCATION:Queen Elizabeth Stadium\, 18 Oi Kwan Road\, Wanchai\, Hong Kong
CATEGORIES:2019,Concert,Jazz,Music,Performing Arts
ATTACH;FMTTYPE=image/jpeg:https://www.bcmagazine.net/wp-content/uploads/1918/12/Jazz-Marathon-2019.jpg
GEO:22.2751271;114.1789682
X-APPLE-STRUCTURED-LOCATION;VALUE=URI;X-ADDRESS=Queen Elizabeth Stadium 18 Oi Kwan Road Wanchai Hong Kong;X-APPLE-RADIUS=500;X-TITLE=18 Oi Kwan Road:geo:114.1789682,22.2751271
END:VEVENT
BEGIN:VEVENT
DTSTART;TZID=Asia/Hong_Kong:20190427T170000
DTEND;TZID=Asia/Hong_Kong:20190427T193000
DTSTAMP:20260422T193512
CREATED:19181213T044512Z
LAST-MODIFIED:20190125T180300Z
UID:10004681-1556384400-1556393400@www.bcmagazine.net
SUMMARY:Jazz Marathon 2019
DESCRIPTION:Jazz Marathon 2019\nDate: 5pm\, 27 & 28 April\, 2019\nVenue: Queen Elizabeth Stadium\nTickets: $600\, $420\, $280\, $180 from Urbtix\nMore info:\nSaturday: Patrick Lui Jazz Orchestra\, Angelo Debarre Trio\, Doctor 3\, Ulf Wakenius Scandinavian All-Stars Quartet\, RubberBand\, Sharon Lui\nSunday: Ted Lo\, Chinese Ensemble on Jazz\, Rhani Krija\, Quadro Nuevo\, Patax\, Steve Smith and Vital Information\, Angelita Li
URL:https://www.bcmagazine.net/event/jazz-marathon-27-04-2019/
LOCATION:Queen Elizabeth Stadium\, 18 Oi Kwan Road\, Wanchai\, Hong Kong
CATEGORIES:2019,Concert,Jazz,Music,Performing Arts
ATTACH;FMTTYPE=image/jpeg:https://www.bcmagazine.net/wp-content/uploads/1918/12/Jazz-Marathon-2019.jpg
GEO:22.2751271;114.1789682
X-APPLE-STRUCTURED-LOCATION;VALUE=URI;X-ADDRESS=Queen Elizabeth Stadium 18 Oi Kwan Road Wanchai Hong Kong;X-APPLE-RADIUS=500;X-TITLE=18 Oi Kwan Road:geo:114.1789682,22.2751271
END:VEVENT
BEGIN:VEVENT
DTSTART;TZID=Asia/Hong_Kong:20180405T200000
DTEND;TZID=Asia/Hong_Kong:20180405T200000
DTSTAMP:20260422T193512
CREATED:20180214T102637Z
LAST-MODIFIED:20180214T102804Z
UID:10006478-1522958400-1522958400@www.bcmagazine.net
SUMMARY:UB40
DESCRIPTION:UB40\nDate: 8pm\, 5 April\, 2018\nVenue: QE Stadium\nTickets: $888\, $488\, $288
URL:https://www.bcmagazine.net/event/ub40-2018/
LOCATION:Queen Elizabeth Stadium\, 18 Oi Kwan Road\, Wanchai\, Hong Kong
CATEGORIES:2018,Concert,Music,Performing Arts
GEO:22.2751271;114.1789682
X-APPLE-STRUCTURED-LOCATION;VALUE=URI;X-ADDRESS=Queen Elizabeth Stadium 18 Oi Kwan Road Wanchai Hong Kong;X-APPLE-RADIUS=500;X-TITLE=18 Oi Kwan Road:geo:114.1789682,22.2751271
END:VEVENT
BEGIN:VEVENT
DTSTART;TZID=Asia/Hong_Kong:20171106T200000
DTEND;TZID=Asia/Hong_Kong:20171106T200000
DTSTAMP:20260422T193512
CREATED:19170903T040056Z
LAST-MODIFIED:20170903T042352Z
UID:10003323-1509998400-1509998400@www.bcmagazine.net
SUMMARY:Lisa
DESCRIPTION:Lisa\nDate: 8pm\, 6 November\, 2017\nVenue: Tuen Mun Town Hall\, Auditorium\nTickets: $450\, $350\, $200 from Urbtix
URL:https://www.bcmagazine.net/event/lisa-06-11-2017/
LOCATION:Queen Elizabeth Stadium\, 18 Oi Kwan Road\, Wanchai\, Hong Kong
CATEGORIES:2017,Concert,Music,Performing Arts
GEO:22.2751271;114.1789682
X-APPLE-STRUCTURED-LOCATION;VALUE=URI;X-ADDRESS=Queen Elizabeth Stadium 18 Oi Kwan Road Wanchai Hong Kong;X-APPLE-RADIUS=500;X-TITLE=18 Oi Kwan Road:geo:114.1789682,22.2751271
END:VEVENT
BEGIN:VEVENT
DTSTART;TZID=Asia/Hong_Kong:20171018T201500
DTEND;TZID=Asia/Hong_Kong:20171018T201500
DTSTAMP:20260422T193512
CREATED:19170903T040056Z
LAST-MODIFIED:20170903T043045Z
UID:10003366-1508357700-1508357700@www.bcmagazine.net
SUMMARY:Show Your Big Smile
DESCRIPTION:Show Your Big Smile\nPhil Lam\, Supper Moment\, Lil Ashes\, Ng Lin Fung\, Siu Yuen\, Maggie Tsoi\nDate: 8:15pm\, 18 October\, 2017\nVenue: Queen Elizabeth Stadium\nTickets: $280\, $180\, $100 from Urbtix
URL:https://www.bcmagazine.net/event/show-your-big-smile-2017/
LOCATION:Queen Elizabeth Stadium\, 18 Oi Kwan Road\, Wanchai\, Hong Kong
CATEGORIES:2017,Concert,Music,Performing Arts
GEO:22.2751271;114.1789682
X-APPLE-STRUCTURED-LOCATION;VALUE=URI;X-ADDRESS=Queen Elizabeth Stadium 18 Oi Kwan Road Wanchai Hong Kong;X-APPLE-RADIUS=500;X-TITLE=18 Oi Kwan Road:geo:114.1789682,22.2751271
END:VEVENT
BEGIN:VEVENT
DTSTART;TZID=Asia/Hong_Kong:20171014T200000
DTEND;TZID=Asia/Hong_Kong:20171014T200000
DTSTAMP:20260422T193512
CREATED:19170903T040056Z
LAST-MODIFIED:20170903T042729Z
UID:10003356-1508011200-1508011200@www.bcmagazine.net
SUMMARY:Vincie
DESCRIPTION:Vincie\nDate: 8pm\, 13-14 October\, 2017\nVenue: Queen Elizabeth Stadium\nTickets: $680\, $480\, $280 from Urbtix
URL:https://www.bcmagazine.net/event/vincie-14-10-2017/
LOCATION:Queen Elizabeth Stadium\, 18 Oi Kwan Road\, Wanchai\, Hong Kong
CATEGORIES:2017,Concert,Music,Performing Arts
GEO:22.2751271;114.1789682
X-APPLE-STRUCTURED-LOCATION;VALUE=URI;X-ADDRESS=Queen Elizabeth Stadium 18 Oi Kwan Road Wanchai Hong Kong;X-APPLE-RADIUS=500;X-TITLE=18 Oi Kwan Road:geo:114.1789682,22.2751271
END:VEVENT
BEGIN:VEVENT
DTSTART;TZID=Asia/Hong_Kong:20171013T200000
DTEND;TZID=Asia/Hong_Kong:20171013T200000
DTSTAMP:20260422T193512
CREATED:19170903T040056Z
LAST-MODIFIED:20170903T042637Z
UID:10003340-1507924800-1507924800@www.bcmagazine.net
SUMMARY:Vincie
DESCRIPTION:Vincie\nDate: 8pm\, 13-14 October\, 2017\nVenue: Queen Elizabeth Stadium\nTickets: $680\, $480\, $280 from Urbtix
URL:https://www.bcmagazine.net/event/vincie-13-10-2017/
LOCATION:Queen Elizabeth Stadium\, 18 Oi Kwan Road\, Wanchai\, Hong Kong
CATEGORIES:2017,Concert,Music,Performing Arts
GEO:22.2751271;114.1789682
X-APPLE-STRUCTURED-LOCATION;VALUE=URI;X-ADDRESS=Queen Elizabeth Stadium 18 Oi Kwan Road Wanchai Hong Kong;X-APPLE-RADIUS=500;X-TITLE=18 Oi Kwan Road:geo:114.1789682,22.2751271
END:VEVENT
BEGIN:VEVENT
DTSTART;TZID=Asia/Hong_Kong:20171005T200000
DTEND;TZID=Asia/Hong_Kong:20171005T200000
DTSTAMP:20260422T193512
CREATED:19170903T040056Z
LAST-MODIFIED:20170903T042107Z
UID:10003309-1507233600-1507233600@www.bcmagazine.net
SUMMARY:Lisa
DESCRIPTION:Lisa\nDate: 8pm\, 5 October\, 2017\nVenue: Queen Elizabeth Stadium\nTickets: $580\, $480\, $280 from Urbtix
URL:https://www.bcmagazine.net/event/lisa-05-10-2017/
LOCATION:Queen Elizabeth Stadium\, 18 Oi Kwan Road\, Wanchai\, Hong Kong
CATEGORIES:2017,Concert,Music,Performing Arts
GEO:22.2751271;114.1789682
X-APPLE-STRUCTURED-LOCATION;VALUE=URI;X-ADDRESS=Queen Elizabeth Stadium 18 Oi Kwan Road Wanchai Hong Kong;X-APPLE-RADIUS=500;X-TITLE=18 Oi Kwan Road:geo:114.1789682,22.2751271
END:VEVENT
BEGIN:VEVENT
DTSTART;VALUE=DATE:20170916
DTEND;VALUE=DATE:20170918
DTSTAMP:20260422T193512
CREATED:19170903T040056Z
LAST-MODIFIED:20170903T080116Z
UID:10003387-1505520000-1505692799@www.bcmagazine.net
SUMMARY:Presidents Cup Volleyball Invitational
DESCRIPTION:Presidents Cup Volleyball Invitational\nVolleyball Association of Hong Kong\nDate: 16-17 September\, 2017\nVenue: Queen Elizabeth Stadium\nTickets: $50
URL:https://www.bcmagazine.net/event/presidents-cup-volleyball-invitational-2017/
LOCATION:Queen Elizabeth Stadium\, 18 Oi Kwan Road\, Wanchai\, Hong Kong
CATEGORIES:2017,Sport,Volleyball
GEO:22.2751271;114.1789682
X-APPLE-STRUCTURED-LOCATION;VALUE=URI;X-ADDRESS=Queen Elizabeth Stadium 18 Oi Kwan Road Wanchai Hong Kong;X-APPLE-RADIUS=500;X-TITLE=18 Oi Kwan Road:geo:114.1789682,22.2751271
END:VEVENT
BEGIN:VEVENT
DTSTART;VALUE=DATE:20170720
DTEND;VALUE=DATE:20170724
DTSTAMP:20260422T193512
CREATED:19170615T064338Z
LAST-MODIFIED:20170616T082645Z
UID:10002899-1500508800-1500854399@www.bcmagazine.net
SUMMARY:Hong Kong Masters
DESCRIPTION:Hong Kong Masters\nDate: 20-23 July\, 2017\nVenue: Queen Elizabeth Stadium\nTickets: tbc
URL:https://www.bcmagazine.net/event/hong-kong-masters-2017/
LOCATION:Queen Elizabeth Stadium\, 18 Oi Kwan Road\, Wanchai\, Hong Kong
CATEGORIES:2017,Sport
GEO:22.2751271;114.1789682
X-APPLE-STRUCTURED-LOCATION;VALUE=URI;X-ADDRESS=Queen Elizabeth Stadium 18 Oi Kwan Road Wanchai Hong Kong;X-APPLE-RADIUS=500;X-TITLE=18 Oi Kwan Road:geo:114.1789682,22.2751271
END:VEVENT
BEGIN:VEVENT
DTSTART;TZID=Asia/Hong_Kong:20170604T200000
DTEND;TZID=Asia/Hong_Kong:20170604T200000
DTSTAMP:20260422T193512
CREATED:19170421T030220Z
LAST-MODIFIED:20170422T170409Z
UID:10001159-1496606400-1496606400@www.bcmagazine.net
SUMMARY:Albert Au
DESCRIPTION:Albert Au Thanks! 40th Anniversary Concert\nDate: 8pm\, 1-4 June\, 2017\nVenue: QE Stadium\nTickets: $1\,000\, $680\, $480\, $380\, $180 from Urbtix
URL:https://www.bcmagazine.net/event/albert-au-2017/2017-06-04/
LOCATION:Queen Elizabeth Stadium\, 18 Oi Kwan Road\, Wanchai\, Hong Kong
CATEGORIES:2017,Concert,Music,Performing Arts
GEO:22.2751271;114.1789682
X-APPLE-STRUCTURED-LOCATION;VALUE=URI;X-ADDRESS=Queen Elizabeth Stadium 18 Oi Kwan Road Wanchai Hong Kong;X-APPLE-RADIUS=500;X-TITLE=18 Oi Kwan Road:geo:114.1789682,22.2751271
END:VEVENT
BEGIN:VEVENT
DTSTART;TZID=Asia/Hong_Kong:20170603T200000
DTEND;TZID=Asia/Hong_Kong:20170603T200000
DTSTAMP:20260422T193512
CREATED:19170421T030220Z
LAST-MODIFIED:20170422T170409Z
UID:10001158-1496520000-1496520000@www.bcmagazine.net
SUMMARY:Albert Au
DESCRIPTION:Albert Au Thanks! 40th Anniversary Concert\nDate: 8pm\, 1-4 June\, 2017\nVenue: QE Stadium\nTickets: $1\,000\, $680\, $480\, $380\, $180 from Urbtix
URL:https://www.bcmagazine.net/event/albert-au-2017/2017-06-03/
LOCATION:Queen Elizabeth Stadium\, 18 Oi Kwan Road\, Wanchai\, Hong Kong
CATEGORIES:2017,Concert,Music,Performing Arts
GEO:22.2751271;114.1789682
X-APPLE-STRUCTURED-LOCATION;VALUE=URI;X-ADDRESS=Queen Elizabeth Stadium 18 Oi Kwan Road Wanchai Hong Kong;X-APPLE-RADIUS=500;X-TITLE=18 Oi Kwan Road:geo:114.1789682,22.2751271
END:VEVENT
BEGIN:VEVENT
DTSTART;TZID=Asia/Hong_Kong:20170602T200000
DTEND;TZID=Asia/Hong_Kong:20170602T200000
DTSTAMP:20260422T193512
CREATED:19170421T030220Z
LAST-MODIFIED:20170422T170409Z
UID:10001157-1496433600-1496433600@www.bcmagazine.net
SUMMARY:Albert Au
DESCRIPTION:Albert Au Thanks! 40th Anniversary Concert\nDate: 8pm\, 1-4 June\, 2017\nVenue: QE Stadium\nTickets: $1\,000\, $680\, $480\, $380\, $180 from Urbtix
URL:https://www.bcmagazine.net/event/albert-au-2017/2017-06-02/
LOCATION:Queen Elizabeth Stadium\, 18 Oi Kwan Road\, Wanchai\, Hong Kong
CATEGORIES:2017,Concert,Music,Performing Arts
GEO:22.2751271;114.1789682
X-APPLE-STRUCTURED-LOCATION;VALUE=URI;X-ADDRESS=Queen Elizabeth Stadium 18 Oi Kwan Road Wanchai Hong Kong;X-APPLE-RADIUS=500;X-TITLE=18 Oi Kwan Road:geo:114.1789682,22.2751271
END:VEVENT
BEGIN:VEVENT
DTSTART;TZID=Asia/Hong_Kong:20170601T200000
DTEND;TZID=Asia/Hong_Kong:20170601T200000
DTSTAMP:20260422T193512
CREATED:19170421T030220Z
LAST-MODIFIED:20170422T170409Z
UID:10001156-1496347200-1496347200@www.bcmagazine.net
SUMMARY:Albert Au
DESCRIPTION:Albert Au Thanks! 40th Anniversary Concert\nDate: 8pm\, 1-4 June\, 2017\nVenue: QE Stadium\nTickets: $1\,000\, $680\, $480\, $380\, $180 from Urbtix
URL:https://www.bcmagazine.net/event/albert-au-2017/2017-06-01/
LOCATION:Queen Elizabeth Stadium\, 18 Oi Kwan Road\, Wanchai\, Hong Kong
CATEGORIES:2017,Concert,Music,Performing Arts
GEO:22.2751271;114.1789682
X-APPLE-STRUCTURED-LOCATION;VALUE=URI;X-ADDRESS=Queen Elizabeth Stadium 18 Oi Kwan Road Wanchai Hong Kong;X-APPLE-RADIUS=500;X-TITLE=18 Oi Kwan Road:geo:114.1789682,22.2751271
END:VEVENT
BEGIN:VEVENT
DTSTART;TZID=Asia/Hong_Kong:20170530T153000
DTEND;TZID=Asia/Hong_Kong:20170530T153000
DTSTAMP:20260422T193512
CREATED:19170421T030220Z
LAST-MODIFIED:20170422T170841Z
UID:10001160-1496158200-1496158200@www.bcmagazine.net
SUMMARY:My Hong Kong Dream 2017
DESCRIPTION:My Hong Kong Dream 2017\nDate: 3:30pm\, 30 May\, 2017\nVenue: QE Stadium\nTickets: $150\, $100\, $50 from Urbtix
URL:https://www.bcmagazine.net/event/my-hong-kong-dream-2017/
LOCATION:Queen Elizabeth Stadium\, 18 Oi Kwan Road\, Wanchai\, Hong Kong
CATEGORIES:2017,Concert,Music,Performing Arts
GEO:22.2751271;114.1789682
X-APPLE-STRUCTURED-LOCATION;VALUE=URI;X-ADDRESS=Queen Elizabeth Stadium 18 Oi Kwan Road Wanchai Hong Kong;X-APPLE-RADIUS=500;X-TITLE=18 Oi Kwan Road:geo:114.1789682,22.2751271
END:VEVENT
BEGIN:VEVENT
DTSTART;VALUE=DATE:20170506
DTEND;VALUE=DATE:20170508
DTSTAMP:20260422T193512
CREATED:19170421T030220Z
LAST-MODIFIED:20220928T102423Z
UID:10002552-1494028800-1494201599@www.bcmagazine.net
SUMMARY:Sky in the Water
DESCRIPTION:Sky in the Water\nDate: 6-7 May\, 2017\nVenue: QE Stadium\nTickets: $60\, $40 from Urbtix
URL:https://www.bcmagazine.net/event/sky-in-the-water-2017/
LOCATION:Queen Elizabeth Stadium\, 18 Oi Kwan Road\, Wanchai\, Hong Kong
CATEGORIES:2017,Concert,Music,Performing Arts
GEO:22.2751271;114.1789682
X-APPLE-STRUCTURED-LOCATION;VALUE=URI;X-ADDRESS=Queen Elizabeth Stadium 18 Oi Kwan Road Wanchai Hong Kong;X-APPLE-RADIUS=500;X-TITLE=18 Oi Kwan Road:geo:114.1789682,22.2751271
END:VEVENT
BEGIN:VEVENT
DTSTART;TZID=Asia/Hong_Kong:20170310T190000
DTEND;TZID=Asia/Hong_Kong:20170310T190000
DTSTAMP:20260422T193512
CREATED:19161221T100953Z
LAST-MODIFIED:20161221T101519Z
UID:10002408-1489172400-1489172400@www.bcmagazine.net
SUMMARY:Anisong Fantasy Live
DESCRIPTION:Anisong Fantasy Live\nAimer\, Alisa Takigawa\, Elisa\, Garnidelia\, Kalafina\, Luna Haruna\nDate: 7pm\, 10 March\, 2017\nVenue: QE Stadium\nTickets: $1\,380\, $880\, $680\, $480 from Urbtix
URL:https://www.bcmagazine.net/event/anisong-fantasy-live/
LOCATION:Queen Elizabeth Stadium\, 18 Oi Kwan Road\, Wanchai\, Hong Kong
CATEGORIES:2017,Concert,Music
GEO:22.2751271;114.1789682
X-APPLE-STRUCTURED-LOCATION;VALUE=URI;X-ADDRESS=Queen Elizabeth Stadium 18 Oi Kwan Road Wanchai Hong Kong;X-APPLE-RADIUS=500;X-TITLE=18 Oi Kwan Road:geo:114.1789682,22.2751271
END:VEVENT
BEGIN:VEVENT
DTSTART;TZID=Asia/Hong_Kong:20161030T200000
DTEND;TZID=Asia/Hong_Kong:20161030T200000
DTSTAMP:20260422T193512
CREATED:19161011T105742Z
LAST-MODIFIED:20161011T105938Z
UID:10002265-1477857600-1477857600@www.bcmagazine.net
SUMMARY:Cheng Sir & Friends
DESCRIPTION:Cheng Sir & Friends\nDate: 8pm\, 27-30 October\, 2016\nVenue: QE Stadium\nTickets: $580\, $480\, $380\, $180 from Urbtix
URL:https://www.bcmagazine.net/event/cheng-sir-friends-2016/2016-10-30/
LOCATION:Queen Elizabeth Stadium\, 18 Oi Kwan Road\, Wanchai\, Hong Kong
CATEGORIES:2016,Concert,Music
GEO:22.2751271;114.1789682
X-APPLE-STRUCTURED-LOCATION;VALUE=URI;X-ADDRESS=Queen Elizabeth Stadium 18 Oi Kwan Road Wanchai Hong Kong;X-APPLE-RADIUS=500;X-TITLE=18 Oi Kwan Road:geo:114.1789682,22.2751271
END:VEVENT
BEGIN:VEVENT
DTSTART;TZID=Asia/Hong_Kong:20161029T200000
DTEND;TZID=Asia/Hong_Kong:20161029T200000
DTSTAMP:20260422T193512
CREATED:19161011T105742Z
LAST-MODIFIED:20161011T105938Z
UID:10002264-1477771200-1477771200@www.bcmagazine.net
SUMMARY:Cheng Sir & Friends
DESCRIPTION:Cheng Sir & Friends\nDate: 8pm\, 27-30 October\, 2016\nVenue: QE Stadium\nTickets: $580\, $480\, $380\, $180 from Urbtix
URL:https://www.bcmagazine.net/event/cheng-sir-friends-2016/2016-10-29/
LOCATION:Queen Elizabeth Stadium\, 18 Oi Kwan Road\, Wanchai\, Hong Kong
CATEGORIES:2016,Concert,Music
GEO:22.2751271;114.1789682
X-APPLE-STRUCTURED-LOCATION;VALUE=URI;X-ADDRESS=Queen Elizabeth Stadium 18 Oi Kwan Road Wanchai Hong Kong;X-APPLE-RADIUS=500;X-TITLE=18 Oi Kwan Road:geo:114.1789682,22.2751271
END:VEVENT
BEGIN:VEVENT
DTSTART;TZID=Asia/Hong_Kong:20161028T200000
DTEND;TZID=Asia/Hong_Kong:20161028T200000
DTSTAMP:20260422T193512
CREATED:19161011T105742Z
LAST-MODIFIED:20161011T105938Z
UID:10002263-1477684800-1477684800@www.bcmagazine.net
SUMMARY:Cheng Sir & Friends
DESCRIPTION:Cheng Sir & Friends\nDate: 8pm\, 27-30 October\, 2016\nVenue: QE Stadium\nTickets: $580\, $480\, $380\, $180 from Urbtix
URL:https://www.bcmagazine.net/event/cheng-sir-friends-2016/2016-10-28/
LOCATION:Queen Elizabeth Stadium\, 18 Oi Kwan Road\, Wanchai\, Hong Kong
CATEGORIES:2016,Concert,Music
GEO:22.2751271;114.1789682
X-APPLE-STRUCTURED-LOCATION;VALUE=URI;X-ADDRESS=Queen Elizabeth Stadium 18 Oi Kwan Road Wanchai Hong Kong;X-APPLE-RADIUS=500;X-TITLE=18 Oi Kwan Road:geo:114.1789682,22.2751271
END:VEVENT
BEGIN:VEVENT
DTSTART;TZID=Asia/Hong_Kong:20161027T200000
DTEND;TZID=Asia/Hong_Kong:20161027T200000
DTSTAMP:20260422T193512
CREATED:19161011T105742Z
LAST-MODIFIED:20161011T105938Z
UID:10002262-1477598400-1477598400@www.bcmagazine.net
SUMMARY:Cheng Sir & Friends
DESCRIPTION:Cheng Sir & Friends\nDate: 8pm\, 27-30 October\, 2016\nVenue: QE Stadium\nTickets: $580\, $480\, $380\, $180 from Urbtix
URL:https://www.bcmagazine.net/event/cheng-sir-friends-2016/2016-10-27/
LOCATION:Queen Elizabeth Stadium\, 18 Oi Kwan Road\, Wanchai\, Hong Kong
CATEGORIES:2016,Concert,Music
GEO:22.2751271;114.1789682
X-APPLE-STRUCTURED-LOCATION;VALUE=URI;X-ADDRESS=Queen Elizabeth Stadium 18 Oi Kwan Road Wanchai Hong Kong;X-APPLE-RADIUS=500;X-TITLE=18 Oi Kwan Road:geo:114.1789682,22.2751271
END:VEVENT
BEGIN:VEVENT
DTSTART;TZID=Asia/Hong_Kong:20161020T201500
DTEND;TZID=Asia/Hong_Kong:20161020T201500
DTSTAMP:20260422T193512
CREATED:19161011T104951Z
LAST-MODIFIED:20161011T105706Z
UID:10002261-1476994500-1476994500@www.bcmagazine.net
SUMMARY:Jun Kung
DESCRIPTION:Jun Kung Just a Concert 2016\nDate: 8:15pm\, 20 October\, 2016\nVenue: QE Stadium\nTickets: $580\, $480 from Urbtix
URL:https://www.bcmagazine.net/event/jun-kung-just-a-concert-2016/
LOCATION:Queen Elizabeth Stadium\, 18 Oi Kwan Road\, Wanchai\, Hong Kong
CATEGORIES:2016,Concert,Music
GEO:22.2751271;114.1789682
X-APPLE-STRUCTURED-LOCATION;VALUE=URI;X-ADDRESS=Queen Elizabeth Stadium 18 Oi Kwan Road Wanchai Hong Kong;X-APPLE-RADIUS=500;X-TITLE=18 Oi Kwan Road:geo:114.1789682,22.2751271
END:VEVENT
BEGIN:VEVENT
DTSTART;TZID=Asia/Hong_Kong:20160725T190000
DTEND;TZID=Asia/Hong_Kong:20160725T190000
DTSTAMP:20260422T193512
CREATED:19160530T171042Z
LAST-MODIFIED:20160530T171918Z
UID:10001704-1469473200-1469473200@www.bcmagazine.net
SUMMARY:Supernova HK
DESCRIPTION:Supernova HK Grand Final\nDate: 7pm\, 25 July 2016\nVenue: Queen Elizabeth Stadium\nTickets: $300\, $250\, $200\, $150 from Urbtix
URL:https://www.bcmagazine.net/event/supernova-hk-2016/
LOCATION:Queen Elizabeth Stadium\, 18 Oi Kwan Road\, Wanchai\, Hong Kong
CATEGORIES:2016,Concert,Music
GEO:22.2751271;114.1789682
X-APPLE-STRUCTURED-LOCATION;VALUE=URI;X-ADDRESS=Queen Elizabeth Stadium 18 Oi Kwan Road Wanchai Hong Kong;X-APPLE-RADIUS=500;X-TITLE=18 Oi Kwan Road:geo:114.1789682,22.2751271
END:VEVENT
BEGIN:VEVENT
DTSTART;TZID=Asia/Hong_Kong:20160612T183000
DTEND;TZID=Asia/Hong_Kong:20160612T183000
DTSTAMP:20260422T193512
CREATED:19160530T170703Z
LAST-MODIFIED:20160530T171008Z
UID:10000572-1465756200-1465756200@www.bcmagazine.net
SUMMARY:Hong Kong Bodybuilding Championships
DESCRIPTION:Hong Kong Bodybuilding Championships\nDate: 6:30pm\, 12 June 2016\nVenue: Queen Elizabeth Stadium\nTickets: $120\, $100 from Urbtix
URL:https://www.bcmagazine.net/event/hk-bodybuilding-championships-2016/
LOCATION:Queen Elizabeth Stadium\, 18 Oi Kwan Road\, Wanchai\, Hong Kong
CATEGORIES:2016,Sport
GEO:22.2751271;114.1789682
X-APPLE-STRUCTURED-LOCATION;VALUE=URI;X-ADDRESS=Queen Elizabeth Stadium 18 Oi Kwan Road Wanchai Hong Kong;X-APPLE-RADIUS=500;X-TITLE=18 Oi Kwan Road:geo:114.1789682,22.2751271
END:VEVENT
BEGIN:VEVENT
DTSTART;TZID=Asia/Hong_Kong:20160611T200000
DTEND;TZID=Asia/Hong_Kong:20160611T200000
DTSTAMP:20260422T193512
CREATED:19160530T170357Z
LAST-MODIFIED:20160530T170634Z
UID:10000570-1465675200-1465675200@www.bcmagazine.net
SUMMARY:Alex Wong
DESCRIPTION:Alex Wong Fortune Awakens Talk Show\nDate: 8pm\, 11 June 2016\nVenue: Queen Elizabeth Stadium\nTickets: $300 from Urbtix
URL:https://www.bcmagazine.net/event/alex-wong/
LOCATION:Queen Elizabeth Stadium\, 18 Oi Kwan Road\, Wanchai\, Hong Kong
CATEGORIES:2016,Other
GEO:22.2751271;114.1789682
X-APPLE-STRUCTURED-LOCATION;VALUE=URI;X-ADDRESS=Queen Elizabeth Stadium 18 Oi Kwan Road Wanchai Hong Kong;X-APPLE-RADIUS=500;X-TITLE=18 Oi Kwan Road:geo:114.1789682,22.2751271
END:VEVENT
BEGIN:VEVENT
DTSTART;TZID=Asia/Hong_Kong:20160526T200000
DTEND;TZID=Asia/Hong_Kong:20160526T200000
DTSTAMP:20260422T193512
CREATED:19160327T172235Z
LAST-MODIFIED:20160327T172811Z
UID:10000435-1464292800-1464292800@www.bcmagazine.net
SUMMARY:Albert Au
DESCRIPTION:Albert Au Let’s Sing For Life\nDate: 8pm\, 26-28 May\, 2016\nVenue: Queen Elizabeth Stadium\nTickets: $580\, $480\, $380\, $280\, $180 from Urbtix
URL:https://www.bcmagazine.net/event/albert-au-lets-sing-for-life-2016/2016-05-26/
LOCATION:Queen Elizabeth Stadium\, 18 Oi Kwan Road\, Wanchai\, Hong Kong
CATEGORIES:2016,Concert,Music
GEO:22.2751271;114.1789682
X-APPLE-STRUCTURED-LOCATION;VALUE=URI;X-ADDRESS=Queen Elizabeth Stadium 18 Oi Kwan Road Wanchai Hong Kong;X-APPLE-RADIUS=500;X-TITLE=18 Oi Kwan Road:geo:114.1789682,22.2751271
END:VEVENT
BEGIN:VEVENT
DTSTART;VALUE=DATE:20160413
DTEND;VALUE=DATE:20160414
DTSTAMP:20260422T193512
CREATED:19160327T173018Z
LAST-MODIFIED:20160327T175153Z
UID:10000437-1460505600-1460591999@www.bcmagazine.net
SUMMARY:Asian Olympic Table Tennis Qualification
DESCRIPTION:Asian Olympic Table Tennis Qualification\nHong Kong Table Tennis Association\nDate: 13-17 April\, 2016\nVenue: Queen Elizabeth Stadium\nTickets: $150\, $100 from Urbtix\nMore info:\nThree sessions per day: 9:30am\, 2pm\, 7pm
URL:https://www.bcmagazine.net/event/asian-olympic-table-tennis-qualification-2016/2016-04-13/
LOCATION:Queen Elizabeth Stadium\, 18 Oi Kwan Road\, Wanchai\, Hong Kong
CATEGORIES:2016,Sport
GEO:22.2751271;114.1789682
X-APPLE-STRUCTURED-LOCATION;VALUE=URI;X-ADDRESS=Queen Elizabeth Stadium 18 Oi Kwan Road Wanchai Hong Kong;X-APPLE-RADIUS=500;X-TITLE=18 Oi Kwan Road:geo:114.1789682,22.2751271
END:VEVENT
BEGIN:VEVENT
DTSTART;TZID=Asia/Hong_Kong:20160217T200000
DTEND;TZID=Asia/Hong_Kong:20160217T200000
DTSTAMP:20260422T193512
CREATED:19151221T132624Z
LAST-MODIFIED:20151221T133430Z
UID:10001003-1455739200-1455739200@www.bcmagazine.net
SUMMARY:Bianco
DESCRIPTION:Bianco\nNoFit State Circus\nDate: 17-21 February\, 2016\nVenue: Queen Elizabeth Stadium\nTickets: $380 from Urbtix
URL:https://www.bcmagazine.net/event/bianco/2016-02-17/
LOCATION:Queen Elizabeth Stadium\, 18 Oi Kwan Road\, Wanchai\, Hong Kong
CATEGORIES:2016,Performing Arts
GEO:22.2751271;114.1789682
X-APPLE-STRUCTURED-LOCATION;VALUE=URI;X-ADDRESS=Queen Elizabeth Stadium 18 Oi Kwan Road Wanchai Hong Kong;X-APPLE-RADIUS=500;X-TITLE=18 Oi Kwan Road:geo:114.1789682,22.2751271
END:VEVENT
BEGIN:VEVENT
DTSTART;TZID=Asia/Hong_Kong:20160121T200000
DTEND;TZID=Asia/Hong_Kong:20160121T200000
DTSTAMP:20260422T193512
CREATED:19151221T131347Z
LAST-MODIFIED:20151221T131553Z
UID:10000966-1453406400-1453406400@www.bcmagazine.net
SUMMARY:Voice Talent Challenge
DESCRIPTION:Voice Talent Challenge\nDate: 8pm\, 21January\, 2016\nVenue: Queen Elizabeth Stadium\nTickets: $120\, $100 from Urbtix
URL:https://www.bcmagazine.net/event/voice-talent-challenge/
LOCATION:Queen Elizabeth Stadium\, 18 Oi Kwan Road\, Wanchai\, Hong Kong
CATEGORIES:2016,Music
GEO:22.2751271;114.1789682
X-APPLE-STRUCTURED-LOCATION;VALUE=URI;X-ADDRESS=Queen Elizabeth Stadium 18 Oi Kwan Road Wanchai Hong Kong;X-APPLE-RADIUS=500;X-TITLE=18 Oi Kwan Road:geo:114.1789682,22.2751271
END:VEVENT
END:VCALENDAR