BEGIN:VCALENDAR
VERSION:2.0
PRODID:-//bc magazine - ECPv6.15.20//NONSGML v1.0//EN
CALSCALE:GREGORIAN
METHOD:PUBLISH
X-ORIGINAL-URL:https://www.bcmagazine.net
X-WR-CALDESC:Events for bc magazine
REFRESH-INTERVAL;VALUE=DURATION:PT1H
X-Robots-Tag:noindex
X-PUBLISHED-TTL:PT1H
BEGIN:VTIMEZONE
TZID:Asia/Hong_Kong
BEGIN:STANDARD
TZOFFSETFROM:+0800
TZOFFSETTO:+0800
TZNAME:HKT
DTSTART:20160101T000000
END:STANDARD
END:VTIMEZONE
BEGIN:VEVENT
DTSTART;TZID=Asia/Hong_Kong:20170602T180000
DTEND;TZID=Asia/Hong_Kong:20170602T220000
DTSTAMP:20260425T002552
CREATED:19170515T051839Z
LAST-MODIFIED:20170515T052330Z
UID:10002627-1496426400-1496440800@www.bcmagazine.net
SUMMARY:Riesling Weeks Kick Off Celebration
DESCRIPTION:Riesling Weeks Kick Off Celebration\nDate: 6pm\, 2 June\, 2017\nVenue: Oasis Room\, Renaissance Harbour View Hotel Hong\nKong\nTickets: $450\, $250 from Ticketflap
URL:https://www.bcmagazine.net/event/riesling-weeks-kick-off-celebration-2017/
LOCATION:Renaissance Hotel\, Hong Kong
CATEGORIES:2017,Food,Nightlife
GEO:22.396428;114.109497
END:VEVENT
END:VCALENDAR