BEGIN:VCALENDAR
VERSION:2.0
PRODID:-//bc magazine - ECPv6.15.20//NONSGML v1.0//EN
CALSCALE:GREGORIAN
METHOD:PUBLISH
X-WR-CALNAME:bc magazine
X-ORIGINAL-URL:https://www.bcmagazine.net
X-WR-CALDESC:Events for bc magazine
REFRESH-INTERVAL;VALUE=DURATION:PT1H
X-Robots-Tag:noindex
X-PUBLISHED-TTL:PT1H
BEGIN:VTIMEZONE
TZID:Asia/Hong_Kong
BEGIN:STANDARD
TZOFFSETFROM:+0800
TZOFFSETTO:+0800
TZNAME:HKT
DTSTART:20150101T000000
END:STANDARD
END:VTIMEZONE
BEGIN:VEVENT
DTSTART;TZID=Asia/Hong_Kong:20160903T201500
DTEND;TZID=Asia/Hong_Kong:20160903T201500
DTSTAMP:20260421T230413
CREATED:19160825T025737Z
LAST-MODIFIED:20160825T030712Z
UID:10001962-1472933700-1472933700@www.bcmagazine.net
SUMMARY:The White Affair
DESCRIPTION:The White Affair\nDate: 8pm\, 3 September\, 2016\nVenue: Seafood Room\nTickets: $650 from Pelago
URL:https://www.bcmagazine.net/event/the-white-affair-sept-2016/
LOCATION:Seafood Room\, Hong Kong
CATEGORIES:2016,Nightlife
GEO:22.396428;114.109497
END:VEVENT
BEGIN:VEVENT
DTSTART;TZID=Asia/Hong_Kong:20160804T200000
DTEND;TZID=Asia/Hong_Kong:20160804T200000
DTSTAMP:20260421T230413
CREATED:19160718T021012Z
LAST-MODIFIED:20160718T021324Z
UID:10001917-1470340800-1470340800@www.bcmagazine.net
SUMMARY:St Tropez
DESCRIPTION:St Tropez\nDate: 8pm\, 4 August\, 2016\nVenue: Seafood Room\nTickets: $650
URL:https://www.bcmagazine.net/event/st-tropez-08-2016/
LOCATION:Seafood Room\, Hong Kong
CATEGORIES:2016,Nightlife
GEO:22.396428;114.109497
END:VEVENT
END:VCALENDAR