BEGIN:VCALENDAR
VERSION:2.0
PRODID:-//bc magazine - ECPv6.15.20//NONSGML v1.0//EN
CALSCALE:GREGORIAN
METHOD:PUBLISH
X-ORIGINAL-URL:https://www.bcmagazine.net
X-WR-CALDESC:Events for bc magazine
REFRESH-INTERVAL;VALUE=DURATION:PT1H
X-Robots-Tag:noindex
X-PUBLISHED-TTL:PT1H
BEGIN:VTIMEZONE
TZID:Asia/Hong_Kong
BEGIN:STANDARD
TZOFFSETFROM:+0800
TZOFFSETTO:+0800
TZNAME:HKT
DTSTART:20170101T000000
END:STANDARD
END:VTIMEZONE
BEGIN:VEVENT
DTSTART;TZID=Asia/Hong_Kong:20181130T130000
DTEND;TZID=Asia/Hong_Kong:20181130T130000
DTSTAMP:20260421T185044
CREATED:19181127T072433Z
LAST-MODIFIED:20181130T090553Z
UID:10004586-1543582800-1543582800@www.bcmagazine.net
SUMMARY:TEDxTinHauWomen
DESCRIPTION:TEDxTinHauWomen – Showing Up Now\nDate: 1pm\, 30 November\, 2018\nVenue: Sky100\nTickets: $450
URL:https://www.bcmagazine.net/event/tedxtinhauwomen-2018/
LOCATION:Sky100\, ICC Tower\, Austin Road\, West Kowloon\, Hong Kong
CATEGORIES:2018,LGBT,Lifestyle,Other,Performing Arts,talk
ATTACH;FMTTYPE=image/jpeg:https://www.bcmagazine.net/wp-content/uploads/2018/11/44304530_533902263738937_2846252445984620544_o.jpg
END:VEVENT
END:VCALENDAR