BEGIN:VCALENDAR
VERSION:2.0
PRODID:-//bc magazine - ECPv6.15.20//NONSGML v1.0//EN
CALSCALE:GREGORIAN
METHOD:PUBLISH
X-WR-CALNAME:bc magazine
X-ORIGINAL-URL:https://www.bcmagazine.net
X-WR-CALDESC:Events for bc magazine
REFRESH-INTERVAL;VALUE=DURATION:PT1H
X-Robots-Tag:noindex
X-PUBLISHED-TTL:PT1H
BEGIN:VTIMEZONE
TZID:Asia/Hong_Kong
BEGIN:STANDARD
TZOFFSETFROM:+0800
TZOFFSETTO:+0800
TZNAME:HKT
DTSTART:20140101T000000
END:STANDARD
END:VTIMEZONE
BEGIN:VEVENT
DTSTART;TZID=Asia/Hong_Kong:20190824T170000
DTEND;TZID=Asia/Hong_Kong:20190824T170000
DTSTAMP:20260424T221600
CREATED:20190112T053805Z
LAST-MODIFIED:20190226T075515Z
UID:10006561-1566666000-1566666000@www.bcmagazine.net
SUMMARY:Hong Kong International Reggae Ska Festival
DESCRIPTION:Hong Kong International Reggae Ska Festival\nDate: 24 August\, 2019\nVenue: Southorn Stadium\nTickets: $580\, $520\, $480 (advance) from Ticketflap
URL:https://www.bcmagazine.net/event/hong-kong-international-reggae-ska-festival-2019/
LOCATION:Southorn Stadium\, 111 Johnston Road\, Wanchai\, Hong Kong
CATEGORIES:2019,Concert,Music,Performing Arts
ATTACH;FMTTYPE=image/jpeg:https://www.bcmagazine.net/wp-content/uploads/2018/04/hk-ska-reggae-festival-2019.jpg
GEO:22.2767697;114.1730209
X-APPLE-STRUCTURED-LOCATION;VALUE=URI;X-ADDRESS=Southorn Stadium 111 Johnston Road Wanchai Hong Kong;X-APPLE-RADIUS=500;X-TITLE=111 Johnston Road:geo:114.1730209,22.2767697
END:VEVENT
BEGIN:VEVENT
DTSTART;TZID=Asia/Hong_Kong:20181123T203000
DTEND;TZID=Asia/Hong_Kong:20181123T203000
DTSTAMP:20260424T221600
CREATED:19180528T020834Z
LAST-MODIFIED:20180726T125331Z
UID:10004059-1543005000-1543005000@www.bcmagazine.net
SUMMARY:Franz Ferdinand
DESCRIPTION:Franz Ferdinand\nDate: 8:30pm\, 23 November\, 2018\nVenue: Southorn Stadium\nTickets: $595\, $550
URL:https://www.bcmagazine.net/event/franz-ferdinand-2018/
LOCATION:Southorn Stadium\, 111 Johnston Road\, Wanchai\, Hong Kong
CATEGORIES:2018,Concert,Music,Performing Arts
ATTACH;FMTTYPE=image/jpeg:https://www.bcmagazine.net/wp-content/uploads/1918/05/Franz-Ferdinand-400x584-2018.jpg
GEO:22.2767697;114.1730209
X-APPLE-STRUCTURED-LOCATION;VALUE=URI;X-ADDRESS=Southorn Stadium 111 Johnston Road Wanchai Hong Kong;X-APPLE-RADIUS=500;X-TITLE=111 Johnston Road:geo:114.1730209,22.2767697
END:VEVENT
BEGIN:VEVENT
DTSTART;TZID=Asia/Hong_Kong:20181013T180000
DTEND;TZID=Asia/Hong_Kong:20181013T180000
DTSTAMP:20260424T221600
CREATED:20180902T083647Z
LAST-MODIFIED:20180903T025851Z
UID:10006526-1539453600-1539453600@www.bcmagazine.net
SUMMARY:Navratri Utsav
DESCRIPTION:Navratri Utsav\nDate: 6pm\, 13 October\, 2018\nVenue: Southorn Stadium\nTickets: $200 from Ticketflap
URL:https://www.bcmagazine.net/event/navratri-utsav-2018/
LOCATION:Southorn Stadium\, 111 Johnston Road\, Wanchai\, Hong Kong
CATEGORIES:2018,Concert,Jazz,Music,Performing Arts
ATTACH;FMTTYPE=image/jpeg:https://www.bcmagazine.net/wp-content/uploads/1918/07/Navratri-Utsav-2018.jpg
GEO:22.2767697;114.1730209
X-APPLE-STRUCTURED-LOCATION;VALUE=URI;X-ADDRESS=Southorn Stadium 111 Johnston Road Wanchai Hong Kong;X-APPLE-RADIUS=500;X-TITLE=111 Johnston Road:geo:114.1730209,22.2767697
END:VEVENT
BEGIN:VEVENT
DTSTART;TZID=Asia/Hong_Kong:20150918T193000
DTEND;TZID=Asia/Hong_Kong:20150918T230000
DTSTAMP:20260424T221600
CREATED:20150624T073026Z
LAST-MODIFIED:20150824T073237Z
UID:10006029-1442604600-1442617200@www.bcmagazine.net
SUMMARY:Hong Kong's Best Dance Crew
DESCRIPTION:Hong Kong’s Best Dance Crew\nDate: 7:30pm\, 18 September\, 2015\nVenue: Southorn Stadium\nTickets: $220\, $170 from HKTicketing
URL:https://www.bcmagazine.net/event/hong-kongs-best-dance-crew/
LOCATION:Southorn Stadium\, 111 Johnston Road\, Wanchai\, Hong Kong
CATEGORIES:2015,Concert,Dance
GEO:22.2767697;114.1730209
X-APPLE-STRUCTURED-LOCATION;VALUE=URI;X-ADDRESS=Southorn Stadium 111 Johnston Road Wanchai Hong Kong;X-APPLE-RADIUS=500;X-TITLE=111 Johnston Road:geo:114.1730209,22.2767697
END:VEVENT
BEGIN:VEVENT
DTSTART;TZID=Asia/Hong_Kong:20150808T133000
DTEND;TZID=Asia/Hong_Kong:20150808T220000
DTSTAMP:20260424T221600
CREATED:20150428T103723Z
LAST-MODIFIED:20150728T104146Z
UID:10005799-1439040600-1439071200@www.bcmagazine.net
SUMMARY:MYO-Band WBPF Pro Mr World & HKBPSF Championship 2015
DESCRIPTION:MYO-Band WBPF Pro Mr World & HKBPSF Championship 2015\nWhen: 1:30pm\, 8 August\, 2015\nWhere: Southorn Stadium\, Wanchai\nTickets: $300\, $200 from HKTicketing
URL:https://www.bcmagazine.net/event/myo-band-wbpf-pro-mr-world-hkbpsf-championship-2015/
LOCATION:Southorn Stadium\, 111 Johnston Road\, Wanchai\, Hong Kong
CATEGORIES:2015,Sport
GEO:22.2767697;114.1730209
X-APPLE-STRUCTURED-LOCATION;VALUE=URI;X-ADDRESS=Southorn Stadium 111 Johnston Road Wanchai Hong Kong;X-APPLE-RADIUS=500;X-TITLE=111 Johnston Road:geo:114.1730209,22.2767697
END:VEVENT
END:VCALENDAR