BEGIN:VCALENDAR
VERSION:2.0
PRODID:-//bc magazine - ECPv6.15.20//NONSGML v1.0//EN
CALSCALE:GREGORIAN
METHOD:PUBLISH
X-WR-CALNAME:bc magazine
X-ORIGINAL-URL:https://www.bcmagazine.net
X-WR-CALDESC:Events for bc magazine
REFRESH-INTERVAL;VALUE=DURATION:PT1H
X-Robots-Tag:noindex
X-PUBLISHED-TTL:PT1H
BEGIN:VTIMEZONE
TZID:Asia/Hong_Kong
BEGIN:STANDARD
TZOFFSETFROM:+0800
TZOFFSETTO:+0800
TZNAME:HKT
DTSTART:20210101T000000
END:STANDARD
END:VTIMEZONE
BEGIN:VEVENT
DTSTART;TZID=Asia/Hong_Kong:20230710T200000
DTEND;TZID=Asia/Hong_Kong:20230710T200000
DTSTAMP:20260423T114056
CREATED:19230221T211102Z
LAST-MODIFIED:20230221T211942Z
UID:10006737-1689019200-1689019200@www.bcmagazine.net
SUMMARY:Cigarettes After Sex
DESCRIPTION:Cigarettes After Sex\nDate: 8pm\, 10 July 2023\nVenue: Kitec\, Star Hall\nTickets: $590 from HKTicketing
URL:https://www.bcmagazine.net/event/cigarettes-after-sex-2023/
LOCATION:KITEC\, Star Hall\, KITEC\, 1 Trademart Drive\, Kowloon Bay\, Hong Kong
CATEGORIES:2023,Concert,Music,Performing Arts
ATTACH;FMTTYPE=image/png:https://www.bcmagazine.net/wp-content/uploads/2023/02/Cigarettes-After-Sex-2023.png
GEO:22.3239575;114.2037608
X-APPLE-STRUCTURED-LOCATION;VALUE=URI;X-ADDRESS=KITEC Star Hall KITEC 1 Trademart Drive Kowloon Bay Hong Kong;X-APPLE-RADIUS=500;X-TITLE=KITEC\, 1 Trademart Drive:geo:114.2037608,22.3239575
END:VEVENT
BEGIN:VEVENT
DTSTART;TZID=Asia/Hong_Kong:20230710T200000
DTEND;TZID=Asia/Hong_Kong:20230710T200000
DTSTAMP:20260423T114056
CREATED:19190728T124055Z
LAST-MODIFIED:20240117T105122Z
UID:10009435-1689019200-1689019200@www.bcmagazine.net
SUMMARY:Cigarettes After Sex
DESCRIPTION:Cigarettes After Sex\nDate: 8pm\, 10 July 2023\nVenue: Kitec\, Star Hall\nTickets: $590 from HKTicketing
URL:https://www.bcmagazine.net/event/cigarettes-after-sex/
LOCATION:KITEC\, Star Hall\, KITEC\, 1 Trademart Drive\, Kowloon Bay\, Hong Kong
CATEGORIES:2023,Concert,Music,Performing Arts
ATTACH;FMTTYPE=image/jpeg:https://www.bcmagazine.net/wp-content/uploads/1919/07/cigattes-after-sex-hk-2023.jpeg
GEO:22.3239575;114.2037608
X-APPLE-STRUCTURED-LOCATION;VALUE=URI;X-ADDRESS=KITEC Star Hall KITEC 1 Trademart Drive Kowloon Bay Hong Kong;X-APPLE-RADIUS=500;X-TITLE=KITEC\, 1 Trademart Drive:geo:114.2037608,22.3239575
END:VEVENT
BEGIN:VEVENT
DTSTART;TZID=Asia/Hong_Kong:20230516T200000
DTEND;TZID=Asia/Hong_Kong:20230516T200000
DTSTAMP:20260423T114056
CREATED:19230221T211102Z
LAST-MODIFIED:20230221T214232Z
UID:10006738-1684267200-1684267200@www.bcmagazine.net
SUMMARY:Honne May
DESCRIPTION:Honne May Asia Tour\nDate: 8pm\, 16 May 2023\nVenue: Kitec\, Star Hall\nTickets: $1\,800\, $590 from HKTicketing
URL:https://www.bcmagazine.net/event/honne-may-2023/
LOCATION:KITEC\, Star Hall\, KITEC\, 1 Trademart Drive\, Kowloon Bay\, Hong Kong
CATEGORIES:2023,Concert,Music,Performing Arts
ATTACH;FMTTYPE=image/png:https://www.bcmagazine.net/wp-content/uploads/1923/02/Honne-May-2023.png
GEO:22.3239575;114.2037608
X-APPLE-STRUCTURED-LOCATION;VALUE=URI;X-ADDRESS=KITEC Star Hall KITEC 1 Trademart Drive Kowloon Bay Hong Kong;X-APPLE-RADIUS=500;X-TITLE=KITEC\, 1 Trademart Drive:geo:114.2037608,22.3239575
END:VEVENT
BEGIN:VEVENT
DTSTART;TZID=Asia/Hong_Kong:20230409T160000
DTEND;TZID=Asia/Hong_Kong:20230409T160000
DTSTAMP:20260423T114056
CREATED:19230221T211102Z
LAST-MODIFIED:20230221T214703Z
UID:10006739-1681056000-1681056000@www.bcmagazine.net
SUMMARY:You Ya
DESCRIPTION:You Ta\nDate: 4pm\, 9 April 2023\nVenue: Kitec\, Star Hall\nTickets: $680\, $580\, $480\, $380 from HKTicketing
URL:https://www.bcmagazine.net/event/you-ya/
LOCATION:KITEC\, Star Hall\, KITEC\, 1 Trademart Drive\, Kowloon Bay\, Hong Kong
CATEGORIES:2023,Concert,Music,Performing Arts
ATTACH;FMTTYPE=image/jpeg:https://www.bcmagazine.net/wp-content/uploads/1923/02/you-ya-2023.jpeg
GEO:22.3239575;114.2037608
X-APPLE-STRUCTURED-LOCATION;VALUE=URI;X-ADDRESS=KITEC Star Hall KITEC 1 Trademart Drive Kowloon Bay Hong Kong;X-APPLE-RADIUS=500;X-TITLE=KITEC\, 1 Trademart Drive:geo:114.2037608,22.3239575
END:VEVENT
BEGIN:VEVENT
DTSTART;TZID=Asia/Hong_Kong:20230329T200000
DTEND;TZID=Asia/Hong_Kong:20230329T200000
DTSTAMP:20260423T114056
CREATED:19230221T211102Z
LAST-MODIFIED:20230221T215223Z
UID:10006740-1680120000-1680120000@www.bcmagazine.net
SUMMARY:Kang Daniel
DESCRIPTION:Kang Daniel – First Paradise\nDate: 8pm\, 29 March 2023\nVenue: Kitec\, Star Hall\nTickets: $1\,680\, $1\,280\, $880 from HKTicketing
URL:https://www.bcmagazine.net/event/kang-daniel-2023/
LOCATION:KITEC\, Star Hall\, KITEC\, 1 Trademart Drive\, Kowloon Bay\, Hong Kong
CATEGORIES:2023,Concert,Kpop,Music,Performing Arts
ATTACH;FMTTYPE=image/jpeg:https://www.bcmagazine.net/wp-content/uploads/1923/02/kang-daniel-2023.jpeg
GEO:22.3239575;114.2037608
X-APPLE-STRUCTURED-LOCATION;VALUE=URI;X-ADDRESS=KITEC Star Hall KITEC 1 Trademart Drive Kowloon Bay Hong Kong;X-APPLE-RADIUS=500;X-TITLE=KITEC\, 1 Trademart Drive:geo:114.2037608,22.3239575
END:VEVENT
BEGIN:VEVENT
DTSTART;TZID=Asia/Hong_Kong:20230319T200000
DTEND;TZID=Asia/Hong_Kong:20230319T200000
DTSTAMP:20260423T114056
CREATED:19230221T211102Z
LAST-MODIFIED:20230223T204450Z
UID:10006751-1679256000-1679256000@www.bcmagazine.net
SUMMARY:Christopher Wong
DESCRIPTION:Christopher Wong\nDate: 8pm\, 18-19 March 2023\nVenue: Kitec\, Star Hall\nTickets: $780\, $580\, $380 from HKTicketing
URL:https://www.bcmagazine.net/event/christopher-wong-2023/2023-03-19/
LOCATION:KITEC\, Star Hall\, KITEC\, 1 Trademart Drive\, Kowloon Bay\, Hong Kong
CATEGORIES:2023,Concert,Music,Performing Arts
ATTACH;FMTTYPE=image/jpeg:https://www.bcmagazine.net/wp-content/uploads/1923/02/Christopher-Wong-2023.jpg
GEO:22.3239575;114.2037608
X-APPLE-STRUCTURED-LOCATION;VALUE=URI;X-ADDRESS=KITEC Star Hall KITEC 1 Trademart Drive Kowloon Bay Hong Kong;X-APPLE-RADIUS=500;X-TITLE=KITEC\, 1 Trademart Drive:geo:114.2037608,22.3239575
END:VEVENT
BEGIN:VEVENT
DTSTART;TZID=Asia/Hong_Kong:20230318T200000
DTEND;TZID=Asia/Hong_Kong:20230318T200000
DTSTAMP:20260423T114056
CREATED:19230221T211102Z
LAST-MODIFIED:20230223T204450Z
UID:10006750-1679169600-1679169600@www.bcmagazine.net
SUMMARY:Christopher Wong
DESCRIPTION:Christopher Wong\nDate: 8pm\, 18-19 March 2023\nVenue: Kitec\, Star Hall\nTickets: $780\, $580\, $380 from HKTicketing
URL:https://www.bcmagazine.net/event/christopher-wong-2023/2023-03-18/
LOCATION:KITEC\, Star Hall\, KITEC\, 1 Trademart Drive\, Kowloon Bay\, Hong Kong
CATEGORIES:2023,Concert,Music,Performing Arts
ATTACH;FMTTYPE=image/jpeg:https://www.bcmagazine.net/wp-content/uploads/1923/02/Christopher-Wong-2023.jpg
GEO:22.3239575;114.2037608
X-APPLE-STRUCTURED-LOCATION;VALUE=URI;X-ADDRESS=KITEC Star Hall KITEC 1 Trademart Drive Kowloon Bay Hong Kong;X-APPLE-RADIUS=500;X-TITLE=KITEC\, 1 Trademart Drive:geo:114.2037608,22.3239575
END:VEVENT
BEGIN:VEVENT
DTSTART;TZID=Asia/Hong_Kong:20230304T200000
DTEND;TZID=Asia/Hong_Kong:20230304T200000
DTSTAMP:20260423T114056
CREATED:19230221T211102Z
LAST-MODIFIED:20230310T153328Z
UID:10006771-1677960000-1677960000@www.bcmagazine.net
SUMMARY:五堅情
DESCRIPTION:五堅情  Wolf – Moon Landing\nDate: 8pm\, 4 March\, 2023\nVenue: Kitec\, Star Hall\nTickets: $1\,080\, $880\, $680\, $380
URL:https://www.bcmagazine.net/event/%e4%ba%94%e5%a0%85%e6%83%85-2023/
LOCATION:KITEC\, Star Hall\, KITEC\, 1 Trademart Drive\, Kowloon Bay\, Hong Kong
CATEGORIES:2023,Concert,Music,Performing Arts
ATTACH;FMTTYPE=image/jpeg:https://www.bcmagazine.net/wp-content/uploads/1923/02/五堅情-2023-Moon-Landing.jpg
GEO:22.3239575;114.2037608
X-APPLE-STRUCTURED-LOCATION;VALUE=URI;X-ADDRESS=KITEC Star Hall KITEC 1 Trademart Drive Kowloon Bay Hong Kong;X-APPLE-RADIUS=500;X-TITLE=KITEC\, 1 Trademart Drive:geo:114.2037608,22.3239575
END:VEVENT
BEGIN:VEVENT
DTSTART;TZID=Asia/Hong_Kong:20221016T201500
DTEND;TZID=Asia/Hong_Kong:20221016T201500
DTSTAMP:20260423T114056
CREATED:19180608T094055Z
LAST-MODIFIED:20220810T011127Z
UID:10004243-1665951300-1665951300@www.bcmagazine.net
SUMMARY:My Little Airport
DESCRIPTION:My Little Airport\nDate: 8:15pm\, 13-16 October\, 2022\nVenue: Kitec\, Star Hall\nTickets: $680
URL:https://www.bcmagazine.net/event/my-little-airport-2/2022-10-16/
LOCATION:KITEC\, Star Hall\, KITEC\, 1 Trademart Drive\, Kowloon Bay\, Hong Kong
CATEGORIES:2022,Concert,Music,Performing Arts
ATTACH;FMTTYPE=image/jpeg:https://www.bcmagazine.net/wp-content/uploads/1918/06/My-Little-Airport-Live-2022.jpg
GEO:22.3239575;114.2037608
X-APPLE-STRUCTURED-LOCATION;VALUE=URI;X-ADDRESS=KITEC Star Hall KITEC 1 Trademart Drive Kowloon Bay Hong Kong;X-APPLE-RADIUS=500;X-TITLE=KITEC\, 1 Trademart Drive:geo:114.2037608,22.3239575
END:VEVENT
BEGIN:VEVENT
DTSTART;TZID=Asia/Hong_Kong:20221015T201500
DTEND;TZID=Asia/Hong_Kong:20221015T201500
DTSTAMP:20260423T114056
CREATED:19180608T094055Z
LAST-MODIFIED:20220810T011127Z
UID:10004242-1665864900-1665864900@www.bcmagazine.net
SUMMARY:My Little Airport
DESCRIPTION:My Little Airport\nDate: 8:15pm\, 13-16 October\, 2022\nVenue: Kitec\, Star Hall\nTickets: $680
URL:https://www.bcmagazine.net/event/my-little-airport-2/2022-10-15/
LOCATION:KITEC\, Star Hall\, KITEC\, 1 Trademart Drive\, Kowloon Bay\, Hong Kong
CATEGORIES:2022,Concert,Music,Performing Arts
ATTACH;FMTTYPE=image/jpeg:https://www.bcmagazine.net/wp-content/uploads/1918/06/My-Little-Airport-Live-2022.jpg
GEO:22.3239575;114.2037608
X-APPLE-STRUCTURED-LOCATION;VALUE=URI;X-ADDRESS=KITEC Star Hall KITEC 1 Trademart Drive Kowloon Bay Hong Kong;X-APPLE-RADIUS=500;X-TITLE=KITEC\, 1 Trademart Drive:geo:114.2037608,22.3239575
END:VEVENT
BEGIN:VEVENT
DTSTART;TZID=Asia/Hong_Kong:20221014T201500
DTEND;TZID=Asia/Hong_Kong:20221014T201500
DTSTAMP:20260423T114056
CREATED:19180608T094055Z
LAST-MODIFIED:20220810T011127Z
UID:10004241-1665778500-1665778500@www.bcmagazine.net
SUMMARY:My Little Airport
DESCRIPTION:My Little Airport\nDate: 8:15pm\, 13-16 October\, 2022\nVenue: Kitec\, Star Hall\nTickets: $680
URL:https://www.bcmagazine.net/event/my-little-airport-2/2022-10-14/
LOCATION:KITEC\, Star Hall\, KITEC\, 1 Trademart Drive\, Kowloon Bay\, Hong Kong
CATEGORIES:2022,Concert,Music,Performing Arts
ATTACH;FMTTYPE=image/jpeg:https://www.bcmagazine.net/wp-content/uploads/1918/06/My-Little-Airport-Live-2022.jpg
GEO:22.3239575;114.2037608
X-APPLE-STRUCTURED-LOCATION;VALUE=URI;X-ADDRESS=KITEC Star Hall KITEC 1 Trademart Drive Kowloon Bay Hong Kong;X-APPLE-RADIUS=500;X-TITLE=KITEC\, 1 Trademart Drive:geo:114.2037608,22.3239575
END:VEVENT
BEGIN:VEVENT
DTSTART;TZID=Asia/Hong_Kong:20221013T201500
DTEND;TZID=Asia/Hong_Kong:20221013T201500
DTSTAMP:20260423T114056
CREATED:19180608T094055Z
LAST-MODIFIED:20220810T011127Z
UID:10004240-1665692100-1665692100@www.bcmagazine.net
SUMMARY:My Little Airport
DESCRIPTION:My Little Airport\nDate: 8:15pm\, 13-16 October\, 2022\nVenue: Kitec\, Star Hall\nTickets: $680
URL:https://www.bcmagazine.net/event/my-little-airport-2/2022-10-13/
LOCATION:KITEC\, Star Hall\, KITEC\, 1 Trademart Drive\, Kowloon Bay\, Hong Kong
CATEGORIES:2022,Concert,Music,Performing Arts
ATTACH;FMTTYPE=image/jpeg:https://www.bcmagazine.net/wp-content/uploads/1918/06/My-Little-Airport-Live-2022.jpg
GEO:22.3239575;114.2037608
X-APPLE-STRUCTURED-LOCATION;VALUE=URI;X-ADDRESS=KITEC Star Hall KITEC 1 Trademart Drive Kowloon Bay Hong Kong;X-APPLE-RADIUS=500;X-TITLE=KITEC\, 1 Trademart Drive:geo:114.2037608,22.3239575
END:VEVENT
BEGIN:VEVENT
DTSTART;TZID=Asia/Hong_Kong:20220918T200000
DTEND;TZID=Asia/Hong_Kong:20220918T200000
DTSTAMP:20260423T114056
CREATED:19190728T124055Z
LAST-MODIFIED:20220810T015044Z
UID:10004872-1663531200-1663531200@www.bcmagazine.net
SUMMARY:Josie & The Uni Boys
DESCRIPTION:Josie & The Uni Boys – The Flash Back Now Party​\nDate: 8pm\, 17-18 September\, 2022\nVenue: Kitec\, Star Hall\nTickets: $880\, $580\, $380 from HKTicketing
URL:https://www.bcmagazine.net/event/josie-the-uni-boys/2022-09-18/
LOCATION:KITEC\, Star Hall\, KITEC\, 1 Trademart Drive\, Kowloon Bay\, Hong Kong
CATEGORIES:2022,Concert,Music,Performing Arts
ATTACH;FMTTYPE=image/jpeg:https://www.bcmagazine.net/wp-content/uploads/1919/07/Josie-The-Uni-Boys-The-Flash-Back-Now-Party​-2022.jpeg
GEO:22.3239575;114.2037608
X-APPLE-STRUCTURED-LOCATION;VALUE=URI;X-ADDRESS=KITEC Star Hall KITEC 1 Trademart Drive Kowloon Bay Hong Kong;X-APPLE-RADIUS=500;X-TITLE=KITEC\, 1 Trademart Drive:geo:114.2037608,22.3239575
END:VEVENT
BEGIN:VEVENT
DTSTART;TZID=Asia/Hong_Kong:20220917T200000
DTEND;TZID=Asia/Hong_Kong:20220917T200000
DTSTAMP:20260423T114056
CREATED:19190728T124055Z
LAST-MODIFIED:20220810T015044Z
UID:10004871-1663444800-1663444800@www.bcmagazine.net
SUMMARY:Josie & The Uni Boys
DESCRIPTION:Josie & The Uni Boys – The Flash Back Now Party​\nDate: 8pm\, 17-18 September\, 2022\nVenue: Kitec\, Star Hall\nTickets: $880\, $580\, $380 from HKTicketing
URL:https://www.bcmagazine.net/event/josie-the-uni-boys/2022-09-17/
LOCATION:KITEC\, Star Hall\, KITEC\, 1 Trademart Drive\, Kowloon Bay\, Hong Kong
CATEGORIES:2022,Concert,Music,Performing Arts
ATTACH;FMTTYPE=image/jpeg:https://www.bcmagazine.net/wp-content/uploads/1919/07/Josie-The-Uni-Boys-The-Flash-Back-Now-Party​-2022.jpeg
GEO:22.3239575;114.2037608
X-APPLE-STRUCTURED-LOCATION;VALUE=URI;X-ADDRESS=KITEC Star Hall KITEC 1 Trademart Drive Kowloon Bay Hong Kong;X-APPLE-RADIUS=500;X-TITLE=KITEC\, 1 Trademart Drive:geo:114.2037608,22.3239575
END:VEVENT
BEGIN:VEVENT
DTSTART;TZID=Asia/Hong_Kong:20220914T200000
DTEND;TZID=Asia/Hong_Kong:20220914T200000
DTSTAMP:20260423T114056
CREATED:19190728T124055Z
LAST-MODIFIED:20220810T014322Z
UID:10004844-1663185600-1663185600@www.bcmagazine.net
SUMMARY:Bedrex Showcase
DESCRIPTION:Bedrex Showcase 2022\nDate: 8pm\, 13-14 September\, 2022\nVenue: Kitec\, Star Hall\nTickets: $240\, $200\, $180\, $160
URL:https://www.bcmagazine.net/event/bedrex-showcase/2022-09-14/
LOCATION:KITEC\, Star Hall\, KITEC\, 1 Trademart Drive\, Kowloon Bay\, Hong Kong
CATEGORIES:2022,Concert,Dance,Music,Performing Arts
ATTACH;FMTTYPE=image/jpeg:https://www.bcmagazine.net/wp-content/uploads/1919/07/Bedrex-2022.jpeg
GEO:22.3239575;114.2037608
X-APPLE-STRUCTURED-LOCATION;VALUE=URI;X-ADDRESS=KITEC Star Hall KITEC 1 Trademart Drive Kowloon Bay Hong Kong;X-APPLE-RADIUS=500;X-TITLE=KITEC\, 1 Trademart Drive:geo:114.2037608,22.3239575
END:VEVENT
BEGIN:VEVENT
DTSTART;TZID=Asia/Hong_Kong:20220913T200000
DTEND;TZID=Asia/Hong_Kong:20220913T200000
DTSTAMP:20260423T114056
CREATED:19190728T124055Z
LAST-MODIFIED:20220810T014322Z
UID:10004843-1663099200-1663099200@www.bcmagazine.net
SUMMARY:Bedrex Showcase
DESCRIPTION:Bedrex Showcase 2022\nDate: 8pm\, 13-14 September\, 2022\nVenue: Kitec\, Star Hall\nTickets: $240\, $200\, $180\, $160
URL:https://www.bcmagazine.net/event/bedrex-showcase/2022-09-13/
LOCATION:KITEC\, Star Hall\, KITEC\, 1 Trademart Drive\, Kowloon Bay\, Hong Kong
CATEGORIES:2022,Concert,Dance,Music,Performing Arts
ATTACH;FMTTYPE=image/jpeg:https://www.bcmagazine.net/wp-content/uploads/1919/07/Bedrex-2022.jpeg
GEO:22.3239575;114.2037608
X-APPLE-STRUCTURED-LOCATION;VALUE=URI;X-ADDRESS=KITEC Star Hall KITEC 1 Trademart Drive Kowloon Bay Hong Kong;X-APPLE-RADIUS=500;X-TITLE=KITEC\, 1 Trademart Drive:geo:114.2037608,22.3239575
END:VEVENT
BEGIN:VEVENT
DTSTART;TZID=Asia/Hong_Kong:20220904T200000
DTEND;TZID=Asia/Hong_Kong:20220904T200000
DTSTAMP:20260423T114056
CREATED:19190728T124055Z
LAST-MODIFIED:20220810T013730Z
UID:10004870-1662321600-1662321600@www.bcmagazine.net
SUMMARY:Frenemy
DESCRIPTION:Frenemy\nDate: 8pm\, 2-4 September\, 2022\nVenue: Kitec\, Star Hall\nTickets: $880\, $680 from HKTicketing
URL:https://www.bcmagazine.net/event/frenemy/2022-09-04/
LOCATION:KITEC\, Star Hall\, KITEC\, 1 Trademart Drive\, Kowloon Bay\, Hong Kong
CATEGORIES:2022,Concert,Music,Performing Arts
ATTACH;FMTTYPE=image/jpeg:https://www.bcmagazine.net/wp-content/uploads/2022/07/frenemy-2022-live.jpeg
GEO:22.3239575;114.2037608
X-APPLE-STRUCTURED-LOCATION;VALUE=URI;X-ADDRESS=KITEC Star Hall KITEC 1 Trademart Drive Kowloon Bay Hong Kong;X-APPLE-RADIUS=500;X-TITLE=KITEC\, 1 Trademart Drive:geo:114.2037608,22.3239575
END:VEVENT
BEGIN:VEVENT
DTSTART;TZID=Asia/Hong_Kong:20220903T200000
DTEND;TZID=Asia/Hong_Kong:20220903T200000
DTSTAMP:20260423T114056
CREATED:19190728T124055Z
LAST-MODIFIED:20220810T013730Z
UID:10004869-1662235200-1662235200@www.bcmagazine.net
SUMMARY:Frenemy
DESCRIPTION:Frenemy\nDate: 8pm\, 2-4 September\, 2022\nVenue: Kitec\, Star Hall\nTickets: $880\, $680 from HKTicketing
URL:https://www.bcmagazine.net/event/frenemy/2022-09-03/
LOCATION:KITEC\, Star Hall\, KITEC\, 1 Trademart Drive\, Kowloon Bay\, Hong Kong
CATEGORIES:2022,Concert,Music,Performing Arts
ATTACH;FMTTYPE=image/jpeg:https://www.bcmagazine.net/wp-content/uploads/2022/07/frenemy-2022-live.jpeg
GEO:22.3239575;114.2037608
X-APPLE-STRUCTURED-LOCATION;VALUE=URI;X-ADDRESS=KITEC Star Hall KITEC 1 Trademart Drive Kowloon Bay Hong Kong;X-APPLE-RADIUS=500;X-TITLE=KITEC\, 1 Trademart Drive:geo:114.2037608,22.3239575
END:VEVENT
BEGIN:VEVENT
DTSTART;TZID=Asia/Hong_Kong:20220902T200000
DTEND;TZID=Asia/Hong_Kong:20220902T200000
DTSTAMP:20260423T114056
CREATED:19190728T124055Z
LAST-MODIFIED:20220810T013730Z
UID:10004868-1662148800-1662148800@www.bcmagazine.net
SUMMARY:Frenemy
DESCRIPTION:Frenemy\nDate: 8pm\, 2-4 September\, 2022\nVenue: Kitec\, Star Hall\nTickets: $880\, $680 from HKTicketing
URL:https://www.bcmagazine.net/event/frenemy/2022-09-02/
LOCATION:KITEC\, Star Hall\, KITEC\, 1 Trademart Drive\, Kowloon Bay\, Hong Kong
CATEGORIES:2022,Concert,Music,Performing Arts
ATTACH;FMTTYPE=image/jpeg:https://www.bcmagazine.net/wp-content/uploads/2022/07/frenemy-2022-live.jpeg
GEO:22.3239575;114.2037608
X-APPLE-STRUCTURED-LOCATION;VALUE=URI;X-ADDRESS=KITEC Star Hall KITEC 1 Trademart Drive Kowloon Bay Hong Kong;X-APPLE-RADIUS=500;X-TITLE=KITEC\, 1 Trademart Drive:geo:114.2037608,22.3239575
END:VEVENT
BEGIN:VEVENT
DTSTART;TZID=Asia/Hong_Kong:20220827T200000
DTEND;TZID=Asia/Hong_Kong:20220827T200000
DTSTAMP:20260423T114056
CREATED:20220728T124055Z
LAST-MODIFIED:20220810T013300Z
UID:10006712-1661630400-1661630400@www.bcmagazine.net
SUMMARY:Jason Chan & Sophy Wong
DESCRIPTION:This is Live – Jason Chan & Sophy Wong\nDate: 8pm\, 27 August\, 2022\nVenue: Kitec\, Star Hall\nTickets: $780\, $580\, $380 from HKTicketing
URL:https://www.bcmagazine.net/event/jason-chan-sophy-wong/
LOCATION:KITEC\, Star Hall\, KITEC\, 1 Trademart Drive\, Kowloon Bay\, Hong Kong
CATEGORIES:2022,Concert,Music,Performing Arts
ATTACH;FMTTYPE=image/jpeg:https://www.bcmagazine.net/wp-content/uploads/2022/07/sophy-wong-jason-chan-2022.jpeg
GEO:22.3239575;114.2037608
X-APPLE-STRUCTURED-LOCATION;VALUE=URI;X-ADDRESS=KITEC Star Hall KITEC 1 Trademart Drive Kowloon Bay Hong Kong;X-APPLE-RADIUS=500;X-TITLE=KITEC\, 1 Trademart Drive:geo:114.2037608,22.3239575
END:VEVENT
BEGIN:VEVENT
DTSTART;TZID=Asia/Hong_Kong:20220723T193000
DTEND;TZID=Asia/Hong_Kong:20220723T193000
DTSTAMP:20260423T114056
CREATED:19160105T144028Z
LAST-MODIFIED:20220613T162240Z
UID:10000250-1658604600-1658604600@www.bcmagazine.net
SUMMARY:Baby Shark Live
DESCRIPTION:Baby Shark Live: The Hidden Treasure Encore Show\nDate: 7:30pm\, 23 July\, 2022\nVenue: Kitec\, Star Hall\nTickets: $580\, $480\, $380\, $280 from HK Ticketing
URL:https://www.bcmagazine.net/event/baby-shark-live-2/2022-07-23/
LOCATION:KITEC\, Star Hall\, KITEC\, 1 Trademart Drive\, Kowloon Bay\, Hong Kong
CATEGORIES:2022,Cantopop,Concert,Music,Nightlife,Performing Arts
ATTACH;FMTTYPE=image/jpeg:https://www.bcmagazine.net/wp-content/uploads/1916/01/Baby-Shark-Live-The-Hidden-Treasure-Encore-Show-.jpeg
GEO:22.3239575;114.2037608
X-APPLE-STRUCTURED-LOCATION;VALUE=URI;X-ADDRESS=KITEC Star Hall KITEC 1 Trademart Drive Kowloon Bay Hong Kong;X-APPLE-RADIUS=500;X-TITLE=KITEC\, 1 Trademart Drive:geo:114.2037608,22.3239575
END:VEVENT
BEGIN:VEVENT
DTSTART;TZID=Asia/Hong_Kong:20220705T201500
DTEND;TZID=Asia/Hong_Kong:20220705T201500
DTSTAMP:20260423T114056
CREATED:19160105T144028Z
LAST-MODIFIED:20220613T161931Z
UID:10000255-1657052100-1657052100@www.bcmagazine.net
SUMMARY:Jay Fung
DESCRIPTION:Jay Fung Have a JAY Time\nDate: 8:15pm\, 2-5 July\, 2022\nVenue: Kitec\, Star Hall\nTickets: $680\, $580\, $380 from HK Ticketing
URL:https://www.bcmagazine.net/event/jay-fung/2022-07-05/
LOCATION:KITEC\, Star Hall\, KITEC\, 1 Trademart Drive\, Kowloon Bay\, Hong Kong
CATEGORIES:2022,Cantopop,Concert,Music,Nightlife,Performing Arts
ATTACH;FMTTYPE=image/jpeg:https://www.bcmagazine.net/wp-content/uploads/1916/01/Jay-Fung-Have-a-JAY-Time-2022.jpeg
GEO:22.3239575;114.2037608
X-APPLE-STRUCTURED-LOCATION;VALUE=URI;X-ADDRESS=KITEC Star Hall KITEC 1 Trademart Drive Kowloon Bay Hong Kong;X-APPLE-RADIUS=500;X-TITLE=KITEC\, 1 Trademart Drive:geo:114.2037608,22.3239575
END:VEVENT
BEGIN:VEVENT
DTSTART;TZID=Asia/Hong_Kong:20220704T201500
DTEND;TZID=Asia/Hong_Kong:20220704T201500
DTSTAMP:20260423T114056
CREATED:19160105T144028Z
LAST-MODIFIED:20220613T161931Z
UID:10000254-1656965700-1656965700@www.bcmagazine.net
SUMMARY:Jay Fung
DESCRIPTION:Jay Fung Have a JAY Time\nDate: 8:15pm\, 2-5 July\, 2022\nVenue: Kitec\, Star Hall\nTickets: $680\, $580\, $380 from HK Ticketing
URL:https://www.bcmagazine.net/event/jay-fung/2022-07-04/
LOCATION:KITEC\, Star Hall\, KITEC\, 1 Trademart Drive\, Kowloon Bay\, Hong Kong
CATEGORIES:2022,Cantopop,Concert,Music,Nightlife,Performing Arts
ATTACH;FMTTYPE=image/jpeg:https://www.bcmagazine.net/wp-content/uploads/1916/01/Jay-Fung-Have-a-JAY-Time-2022.jpeg
GEO:22.3239575;114.2037608
X-APPLE-STRUCTURED-LOCATION;VALUE=URI;X-ADDRESS=KITEC Star Hall KITEC 1 Trademart Drive Kowloon Bay Hong Kong;X-APPLE-RADIUS=500;X-TITLE=KITEC\, 1 Trademart Drive:geo:114.2037608,22.3239575
END:VEVENT
BEGIN:VEVENT
DTSTART;TZID=Asia/Hong_Kong:20220703T201500
DTEND;TZID=Asia/Hong_Kong:20220703T201500
DTSTAMP:20260423T114056
CREATED:19160105T144028Z
LAST-MODIFIED:20220613T161931Z
UID:10000253-1656879300-1656879300@www.bcmagazine.net
SUMMARY:Jay Fung
DESCRIPTION:Jay Fung Have a JAY Time\nDate: 8:15pm\, 2-5 July\, 2022\nVenue: Kitec\, Star Hall\nTickets: $680\, $580\, $380 from HK Ticketing
URL:https://www.bcmagazine.net/event/jay-fung/2022-07-03/
LOCATION:KITEC\, Star Hall\, KITEC\, 1 Trademart Drive\, Kowloon Bay\, Hong Kong
CATEGORIES:2022,Cantopop,Concert,Music,Nightlife,Performing Arts
ATTACH;FMTTYPE=image/jpeg:https://www.bcmagazine.net/wp-content/uploads/1916/01/Jay-Fung-Have-a-JAY-Time-2022.jpeg
GEO:22.3239575;114.2037608
X-APPLE-STRUCTURED-LOCATION;VALUE=URI;X-ADDRESS=KITEC Star Hall KITEC 1 Trademart Drive Kowloon Bay Hong Kong;X-APPLE-RADIUS=500;X-TITLE=KITEC\, 1 Trademart Drive:geo:114.2037608,22.3239575
END:VEVENT
BEGIN:VEVENT
DTSTART;TZID=Asia/Hong_Kong:20220702T201500
DTEND;TZID=Asia/Hong_Kong:20220702T201500
DTSTAMP:20260423T114056
CREATED:19160105T144028Z
LAST-MODIFIED:20220613T161931Z
UID:10000252-1656792900-1656792900@www.bcmagazine.net
SUMMARY:Jay Fung
DESCRIPTION:Jay Fung Have a JAY Time\nDate: 8:15pm\, 2-5 July\, 2022\nVenue: Kitec\, Star Hall\nTickets: $680\, $580\, $380 from HK Ticketing
URL:https://www.bcmagazine.net/event/jay-fung/2022-07-02/
LOCATION:KITEC\, Star Hall\, KITEC\, 1 Trademart Drive\, Kowloon Bay\, Hong Kong
CATEGORIES:2022,Cantopop,Concert,Music,Nightlife,Performing Arts
ATTACH;FMTTYPE=image/jpeg:https://www.bcmagazine.net/wp-content/uploads/1916/01/Jay-Fung-Have-a-JAY-Time-2022.jpeg
GEO:22.3239575;114.2037608
X-APPLE-STRUCTURED-LOCATION;VALUE=URI;X-ADDRESS=KITEC Star Hall KITEC 1 Trademart Drive Kowloon Bay Hong Kong;X-APPLE-RADIUS=500;X-TITLE=KITEC\, 1 Trademart Drive:geo:114.2037608,22.3239575
END:VEVENT
BEGIN:VEVENT
DTSTART;TZID=Asia/Hong_Kong:20220626T201500
DTEND;TZID=Asia/Hong_Kong:20220626T201500
DTSTAMP:20260423T114056
CREATED:19160105T144028Z
LAST-MODIFIED:20220613T161552Z
UID:10000259-1656274500-1656274500@www.bcmagazine.net
SUMMARY:Yoyo Sham
DESCRIPTION:Yoyo Sham Home is…\nDate: 8:15pm\, 23-26 June\, 2022\nVenue: Kitec\, Star Hall\nTickets: $780\, $580\, $380 from HK Ticketing
URL:https://www.bcmagazine.net/event/yoyo-sham/2022-06-26/
LOCATION:KITEC\, Star Hall\, KITEC\, 1 Trademart Drive\, Kowloon Bay\, Hong Kong
CATEGORIES:2022,Cantopop,Concert,Music,Nightlife,Performing Arts
ATTACH;FMTTYPE=image/jpeg:https://www.bcmagazine.net/wp-content/uploads/1916/01/Yoyo-Sham-2022.jpeg
GEO:22.3239575;114.2037608
X-APPLE-STRUCTURED-LOCATION;VALUE=URI;X-ADDRESS=KITEC Star Hall KITEC 1 Trademart Drive Kowloon Bay Hong Kong;X-APPLE-RADIUS=500;X-TITLE=KITEC\, 1 Trademart Drive:geo:114.2037608,22.3239575
END:VEVENT
BEGIN:VEVENT
DTSTART;TZID=Asia/Hong_Kong:20220625T201500
DTEND;TZID=Asia/Hong_Kong:20220625T201500
DTSTAMP:20260423T114056
CREATED:19160105T144028Z
LAST-MODIFIED:20220613T161552Z
UID:10000258-1656188100-1656188100@www.bcmagazine.net
SUMMARY:Yoyo Sham
DESCRIPTION:Yoyo Sham Home is…\nDate: 8:15pm\, 23-26 June\, 2022\nVenue: Kitec\, Star Hall\nTickets: $780\, $580\, $380 from HK Ticketing
URL:https://www.bcmagazine.net/event/yoyo-sham/2022-06-25/
LOCATION:KITEC\, Star Hall\, KITEC\, 1 Trademart Drive\, Kowloon Bay\, Hong Kong
CATEGORIES:2022,Cantopop,Concert,Music,Nightlife,Performing Arts
ATTACH;FMTTYPE=image/jpeg:https://www.bcmagazine.net/wp-content/uploads/1916/01/Yoyo-Sham-2022.jpeg
GEO:22.3239575;114.2037608
X-APPLE-STRUCTURED-LOCATION;VALUE=URI;X-ADDRESS=KITEC Star Hall KITEC 1 Trademart Drive Kowloon Bay Hong Kong;X-APPLE-RADIUS=500;X-TITLE=KITEC\, 1 Trademart Drive:geo:114.2037608,22.3239575
END:VEVENT
BEGIN:VEVENT
DTSTART;TZID=Asia/Hong_Kong:20220624T201500
DTEND;TZID=Asia/Hong_Kong:20220624T201500
DTSTAMP:20260423T114056
CREATED:19160105T144028Z
LAST-MODIFIED:20220613T161552Z
UID:10000257-1656101700-1656101700@www.bcmagazine.net
SUMMARY:Yoyo Sham
DESCRIPTION:Yoyo Sham Home is…\nDate: 8:15pm\, 23-26 June\, 2022\nVenue: Kitec\, Star Hall\nTickets: $780\, $580\, $380 from HK Ticketing
URL:https://www.bcmagazine.net/event/yoyo-sham/2022-06-24/
LOCATION:KITEC\, Star Hall\, KITEC\, 1 Trademart Drive\, Kowloon Bay\, Hong Kong
CATEGORIES:2022,Cantopop,Concert,Music,Nightlife,Performing Arts
ATTACH;FMTTYPE=image/jpeg:https://www.bcmagazine.net/wp-content/uploads/1916/01/Yoyo-Sham-2022.jpeg
GEO:22.3239575;114.2037608
X-APPLE-STRUCTURED-LOCATION;VALUE=URI;X-ADDRESS=KITEC Star Hall KITEC 1 Trademart Drive Kowloon Bay Hong Kong;X-APPLE-RADIUS=500;X-TITLE=KITEC\, 1 Trademart Drive:geo:114.2037608,22.3239575
END:VEVENT
BEGIN:VEVENT
DTSTART;TZID=Asia/Hong_Kong:20220623T201500
DTEND;TZID=Asia/Hong_Kong:20220623T201500
DTSTAMP:20260423T114056
CREATED:19160105T144028Z
LAST-MODIFIED:20220613T161552Z
UID:10000256-1656015300-1656015300@www.bcmagazine.net
SUMMARY:Yoyo Sham
DESCRIPTION:Yoyo Sham Home is…\nDate: 8:15pm\, 23-26 June\, 2022\nVenue: Kitec\, Star Hall\nTickets: $780\, $580\, $380 from HK Ticketing
URL:https://www.bcmagazine.net/event/yoyo-sham/2022-06-23/
LOCATION:KITEC\, Star Hall\, KITEC\, 1 Trademart Drive\, Kowloon Bay\, Hong Kong
CATEGORIES:2022,Cantopop,Concert,Music,Nightlife,Performing Arts
ATTACH;FMTTYPE=image/jpeg:https://www.bcmagazine.net/wp-content/uploads/1916/01/Yoyo-Sham-2022.jpeg
GEO:22.3239575;114.2037608
X-APPLE-STRUCTURED-LOCATION;VALUE=URI;X-ADDRESS=KITEC Star Hall KITEC 1 Trademart Drive Kowloon Bay Hong Kong;X-APPLE-RADIUS=500;X-TITLE=KITEC\, 1 Trademart Drive:geo:114.2037608,22.3239575
END:VEVENT
BEGIN:VEVENT
DTSTART;TZID=Asia/Hong_Kong:20220622T200000
DTEND;TZID=Asia/Hong_Kong:20220622T200000
DTSTAMP:20260423T114056
CREATED:19190711T044512Z
LAST-MODIFIED:20220613T162634Z
UID:10004862-1655928000-1655928000@www.bcmagazine.net
SUMMARY:Harry Potter and the Goblet of Fire
DESCRIPTION:Harry Potter and the Goblet of Fire\nCity Chamber Orchestra of Hong Kong\nDate: 8pm\, 22 June 2022\nVenue: Kitec\, Star Hall\nTickets: $1\,280\, $980\, $680 from HKTicketing\nMore info:\nRescheduled from 7 October 2020\, 9 November 2021
URL:https://www.bcmagazine.net/event/harry-potter-and-the-goblet-of-fire-2022/
LOCATION:KITEC\, Star Hall\, KITEC\, 1 Trademart Drive\, Kowloon Bay\, Hong Kong
CATEGORIES:2022,Concert,Music,Performing Arts
ATTACH;FMTTYPE=image/jpeg:https://www.bcmagazine.net/wp-content/uploads/1919/07/harry-potter-goblet-2022.jpg
GEO:22.3239575;114.2037608
X-APPLE-STRUCTURED-LOCATION;VALUE=URI;X-ADDRESS=KITEC Star Hall KITEC 1 Trademart Drive Kowloon Bay Hong Kong;X-APPLE-RADIUS=500;X-TITLE=KITEC\, 1 Trademart Drive:geo:114.2037608,22.3239575
END:VEVENT
END:VCALENDAR