BEGIN:VCALENDAR
VERSION:2.0
PRODID:-//bc magazine - ECPv6.15.20//NONSGML v1.0//EN
CALSCALE:GREGORIAN
METHOD:PUBLISH
X-WR-CALNAME:bc magazine
X-ORIGINAL-URL:https://www.bcmagazine.net
X-WR-CALDESC:Events for bc magazine
REFRESH-INTERVAL;VALUE=DURATION:PT1H
X-Robots-Tag:noindex
X-PUBLISHED-TTL:PT1H
BEGIN:VTIMEZONE
TZID:Asia/Hong_Kong
BEGIN:STANDARD
TZOFFSETFROM:+0800
TZOFFSETTO:+0800
TZNAME:HKT
DTSTART:20180101T000000
END:STANDARD
END:VTIMEZONE
BEGIN:VEVENT
DTSTART;TZID=Asia/Hong_Kong:20220102T193000
DTEND;TZID=Asia/Hong_Kong:20220102T193000
DTSTAMP:20260424T114219
CREATED:19211018T094055Z
LAST-MODIFIED:20211103T045508Z
UID:10005307-1641151800-1641151800@www.bcmagazine.net
SUMMARY:Disney: A Dream Is A Wish
DESCRIPTION:Disney: A Dream Is A Wish\nDate: 7:30pm\, 1-2 January 2022\nVenue: Kitec\, Star Hall\nTickets: $580\, $480\, $380 from HKTicketing
URL:https://www.bcmagazine.net/event/disney-a-dream-is-a-wish/2022-01-02/
LOCATION:KITEC\, Star Hall\, KITEC\, 1 Trademart Drive\, Kowloon Bay\, Hong Kong
CATEGORIES:2021,Cantopop,Concert,Music,Performing Arts
ATTACH;FMTTYPE=image/jpeg:https://www.bcmagazine.net/wp-content/uploads/1921/10/disney-is-a-wish-2022.jpg
GEO:22.3239575;114.2037608
X-APPLE-STRUCTURED-LOCATION;VALUE=URI;X-ADDRESS=KITEC Star Hall KITEC 1 Trademart Drive Kowloon Bay Hong Kong;X-APPLE-RADIUS=500;X-TITLE=KITEC\, 1 Trademart Drive:geo:114.2037608,22.3239575
END:VEVENT
BEGIN:VEVENT
DTSTART;TZID=Asia/Hong_Kong:20220101T193000
DTEND;TZID=Asia/Hong_Kong:20220101T193000
DTSTAMP:20260424T114219
CREATED:19211018T094055Z
LAST-MODIFIED:20211103T045508Z
UID:10005306-1641065400-1641065400@www.bcmagazine.net
SUMMARY:Disney: A Dream Is A Wish
DESCRIPTION:Disney: A Dream Is A Wish\nDate: 7:30pm\, 1-2 January 2022\nVenue: Kitec\, Star Hall\nTickets: $580\, $480\, $380 from HKTicketing
URL:https://www.bcmagazine.net/event/disney-a-dream-is-a-wish/2022-01-01/
LOCATION:KITEC\, Star Hall\, KITEC\, 1 Trademart Drive\, Kowloon Bay\, Hong Kong
CATEGORIES:2021,Cantopop,Concert,Music,Performing Arts
ATTACH;FMTTYPE=image/jpeg:https://www.bcmagazine.net/wp-content/uploads/1921/10/disney-is-a-wish-2022.jpg
GEO:22.3239575;114.2037608
X-APPLE-STRUCTURED-LOCATION;VALUE=URI;X-ADDRESS=KITEC Star Hall KITEC 1 Trademart Drive Kowloon Bay Hong Kong;X-APPLE-RADIUS=500;X-TITLE=KITEC\, 1 Trademart Drive:geo:114.2037608,22.3239575
END:VEVENT
BEGIN:VEVENT
DTSTART;TZID=Asia/Hong_Kong:20211127T201500
DTEND;TZID=Asia/Hong_Kong:20211127T201500
DTSTAMP:20260424T114219
CREATED:19211018T094055Z
LAST-MODIFIED:20211103T043753Z
UID:10005302-1638044100-1638044100@www.bcmagazine.net
SUMMARY:Herbert Wu
DESCRIPTION:Herbert Wu – The Day After\nDate: 8:15pm\, 26-27 November\, 2021\nVenue: Kitec\, Star Hall\nTickets: $1\,080\, $780\, $580\, $380 from HKTicketing
URL:https://www.bcmagazine.net/event/herbert-wu/2021-11-27/
LOCATION:KITEC\, Star Hall\, KITEC\, 1 Trademart Drive\, Kowloon Bay\, Hong Kong
CATEGORIES:2021,Cantopop,Concert,Music,Performing Arts
ATTACH;FMTTYPE=image/jpeg:https://www.bcmagazine.net/wp-content/uploads/1921/10/herbert-wu-2021.jpg
GEO:22.3239575;114.2037608
X-APPLE-STRUCTURED-LOCATION;VALUE=URI;X-ADDRESS=KITEC Star Hall KITEC 1 Trademart Drive Kowloon Bay Hong Kong;X-APPLE-RADIUS=500;X-TITLE=KITEC\, 1 Trademart Drive:geo:114.2037608,22.3239575
END:VEVENT
BEGIN:VEVENT
DTSTART;TZID=Asia/Hong_Kong:20211126T201500
DTEND;TZID=Asia/Hong_Kong:20211126T201500
DTSTAMP:20260424T114219
CREATED:19211018T094055Z
LAST-MODIFIED:20211103T043753Z
UID:10005301-1637957700-1637957700@www.bcmagazine.net
SUMMARY:Herbert Wu
DESCRIPTION:Herbert Wu – The Day After\nDate: 8:15pm\, 26-27 November\, 2021\nVenue: Kitec\, Star Hall\nTickets: $1\,080\, $780\, $580\, $380 from HKTicketing
URL:https://www.bcmagazine.net/event/herbert-wu/2021-11-26/
LOCATION:KITEC\, Star Hall\, KITEC\, 1 Trademart Drive\, Kowloon Bay\, Hong Kong
CATEGORIES:2021,Cantopop,Concert,Music,Performing Arts
ATTACH;FMTTYPE=image/jpeg:https://www.bcmagazine.net/wp-content/uploads/1921/10/herbert-wu-2021.jpg
GEO:22.3239575;114.2037608
X-APPLE-STRUCTURED-LOCATION;VALUE=URI;X-ADDRESS=KITEC Star Hall KITEC 1 Trademart Drive Kowloon Bay Hong Kong;X-APPLE-RADIUS=500;X-TITLE=KITEC\, 1 Trademart Drive:geo:114.2037608,22.3239575
END:VEVENT
BEGIN:VEVENT
DTSTART;TZID=Asia/Hong_Kong:20211121T200000
DTEND;TZID=Asia/Hong_Kong:20211121T200000
DTSTAMP:20260424T114219
CREATED:19211018T094055Z
LAST-MODIFIED:20211103T045212Z
UID:10005304-1637524800-1637524800@www.bcmagazine.net
SUMMARY:Instinct of Sight\, Maniac
DESCRIPTION:Instinct of Sight\, Maniac\, 逆流 – Melting Point Live\nDate: 8pm\, 21 November\, 2021\nVenue: Kitec\, Star Hall\nTickets: $680\, $480 from HKTicketing
URL:https://www.bcmagazine.net/event/instinct-of-sight-maniac/
LOCATION:KITEC\, Star Hall\, KITEC\, 1 Trademart Drive\, Kowloon Bay\, Hong Kong
CATEGORIES:2021,Cantopop,Concert,Music,Performing Arts
ATTACH;FMTTYPE=image/jpeg:https://www.bcmagazine.net/wp-content/uploads/1921/10/Melting-Point-Live-2021.jpg
GEO:22.3239575;114.2037608
X-APPLE-STRUCTURED-LOCATION;VALUE=URI;X-ADDRESS=KITEC Star Hall KITEC 1 Trademart Drive Kowloon Bay Hong Kong;X-APPLE-RADIUS=500;X-TITLE=KITEC\, 1 Trademart Drive:geo:114.2037608,22.3239575
END:VEVENT
BEGIN:VEVENT
DTSTART;TZID=Asia/Hong_Kong:20211120T200000
DTEND;TZID=Asia/Hong_Kong:20211120T200000
DTSTAMP:20260424T114219
CREATED:20211018T094055Z
LAST-MODIFIED:20211101T091844Z
UID:10006683-1637438400-1637438400@www.bcmagazine.net
SUMMARY:Wildstyle Records 10th Anniversary Concert
DESCRIPTION:Wildstyle Records 10th Anniversary Concert\nYoungQueenz\, Matt Force\, GrymeMan\, Triple G\, Room307\, Mike Wave、HGLF Posse\, N.O.L.Y\, 與 KlassicK\nDate: 8pm\, 20 November\, 2021\nVenue: Kitec\, Star Hall\nTickets: $880\, $680\, $480 from HKTicketing
URL:https://www.bcmagazine.net/event/wildstyle-records-10th-anniversary-concert/
LOCATION:KITEC\, Star Hall\, KITEC\, 1 Trademart Drive\, Kowloon Bay\, Hong Kong
CATEGORIES:2021,Cantopop,Concert,Music,Performing Arts
ATTACH;FMTTYPE=image/png:https://www.bcmagazine.net/wp-content/uploads/1921/10/wildstyle-silver-logo.png
GEO:22.3239575;114.2037608
X-APPLE-STRUCTURED-LOCATION;VALUE=URI;X-ADDRESS=KITEC Star Hall KITEC 1 Trademart Drive Kowloon Bay Hong Kong;X-APPLE-RADIUS=500;X-TITLE=KITEC\, 1 Trademart Drive:geo:114.2037608,22.3239575
END:VEVENT
BEGIN:VEVENT
DTSTART;TZID=Asia/Hong_Kong:20211113T203000
DTEND;TZID=Asia/Hong_Kong:20211113T203000
DTSTAMP:20260424T114219
CREATED:19211018T094055Z
LAST-MODIFIED:20211101T090730Z
UID:10005298-1636835400-1636835400@www.bcmagazine.net
SUMMARY:Arrival ∞ Departure
DESCRIPTION:Danny Summer x Joey Tang – Arrival ∞ Departure\nDate: 8:30pm\, 13 November\, 2021\nVenue: Kitec\, Star Hall\nTickets: $780\, $580\, $480 from HKTicketing
URL:https://www.bcmagazine.net/event/arrival-departure-2021/
LOCATION:KITEC\, Star Hall\, KITEC\, 1 Trademart Drive\, Kowloon Bay\, Hong Kong
CATEGORIES:2021,Cantopop,Concert,Music,Performing Arts
ATTACH;FMTTYPE=image/jpeg:https://www.bcmagazine.net/wp-content/uploads/1921/10/danny-summer-2021.jpg
GEO:22.3239575;114.2037608
X-APPLE-STRUCTURED-LOCATION;VALUE=URI;X-ADDRESS=KITEC Star Hall KITEC 1 Trademart Drive Kowloon Bay Hong Kong;X-APPLE-RADIUS=500;X-TITLE=KITEC\, 1 Trademart Drive:geo:114.2037608,22.3239575
END:VEVENT
BEGIN:VEVENT
DTSTART;TZID=Asia/Hong_Kong:20211109T200000
DTEND;TZID=Asia/Hong_Kong:20211109T201500
DTSTAMP:20260424T114219
CREATED:19180608T094055Z
LAST-MODIFIED:20210607T122659Z
UID:10004239-1636488000-1636488900@www.bcmagazine.net
SUMMARY:Harry Potter and the Goblet of Fire
DESCRIPTION:Harry Potter and the Goblet of Fire\nDate: 8pm\, 9 November\, 2021 (Rescheduled)\nVenue: Kitec\, Star Hall\nTickets: $1.280\, $980\, $680 from HKTicketing
URL:https://www.bcmagazine.net/event/harry-potter-and-the-goblet-of-fire/
LOCATION:KITEC\, Star Hall\, KITEC\, 1 Trademart Drive\, Kowloon Bay\, Hong Kong
CATEGORIES:2021,Concert,Film,Music,Performing Arts
ATTACH;FMTTYPE=image/jpeg:https://www.bcmagazine.net/wp-content/uploads/1918/06/Harry-Potter-and-the-Goblet-of-Fire-2021.jpg
GEO:22.3239575;114.2037608
X-APPLE-STRUCTURED-LOCATION;VALUE=URI;X-ADDRESS=KITEC Star Hall KITEC 1 Trademart Drive Kowloon Bay Hong Kong;X-APPLE-RADIUS=500;X-TITLE=KITEC\, 1 Trademart Drive:geo:114.2037608,22.3239575
END:VEVENT
BEGIN:VEVENT
DTSTART;TZID=Asia/Hong_Kong:20211107T201500
DTEND;TZID=Asia/Hong_Kong:20211107T201500
DTSTAMP:20260424T114219
CREATED:19211018T094055Z
LAST-MODIFIED:20211101T090308Z
UID:10005297-1636316100-1636316100@www.bcmagazine.net
SUMMARY:Michelle Loo
DESCRIPTION:Michelle Loo – Da Go Bin Ro\nDate: 8:15pm\, 6-7 November\, 2021\nVenue: Kitec\, Star Hall\nTickets: $680\, $580\, $480 from HKTicketing
URL:https://www.bcmagazine.net/event/michelle-loo-2021/2021-11-07/
LOCATION:KITEC\, Star Hall\, KITEC\, 1 Trademart Drive\, Kowloon Bay\, Hong Kong
CATEGORIES:2021,Cantopop,Concert,Music,Performing Arts
ATTACH;FMTTYPE=image/jpeg:https://www.bcmagazine.net/wp-content/uploads/2021/06/michelle-loo.jpg
GEO:22.3239575;114.2037608
X-APPLE-STRUCTURED-LOCATION;VALUE=URI;X-ADDRESS=KITEC Star Hall KITEC 1 Trademart Drive Kowloon Bay Hong Kong;X-APPLE-RADIUS=500;X-TITLE=KITEC\, 1 Trademart Drive:geo:114.2037608,22.3239575
END:VEVENT
BEGIN:VEVENT
DTSTART;TZID=Asia/Hong_Kong:20211106T201500
DTEND;TZID=Asia/Hong_Kong:20211106T201500
DTSTAMP:20260424T114219
CREATED:19211018T094055Z
LAST-MODIFIED:20211101T090308Z
UID:10005296-1636229700-1636229700@www.bcmagazine.net
SUMMARY:Michelle Loo
DESCRIPTION:Michelle Loo – Da Go Bin Ro\nDate: 8:15pm\, 6-7 November\, 2021\nVenue: Kitec\, Star Hall\nTickets: $680\, $580\, $480 from HKTicketing
URL:https://www.bcmagazine.net/event/michelle-loo-2021/2021-11-06/
LOCATION:KITEC\, Star Hall\, KITEC\, 1 Trademart Drive\, Kowloon Bay\, Hong Kong
CATEGORIES:2021,Cantopop,Concert,Music,Performing Arts
ATTACH;FMTTYPE=image/jpeg:https://www.bcmagazine.net/wp-content/uploads/2021/06/michelle-loo.jpg
GEO:22.3239575;114.2037608
X-APPLE-STRUCTURED-LOCATION;VALUE=URI;X-ADDRESS=KITEC Star Hall KITEC 1 Trademart Drive Kowloon Bay Hong Kong;X-APPLE-RADIUS=500;X-TITLE=KITEC\, 1 Trademart Drive:geo:114.2037608,22.3239575
END:VEVENT
BEGIN:VEVENT
DTSTART;TZID=Asia/Hong_Kong:20211103T203000
DTEND;TZID=Asia/Hong_Kong:20211103T203000
DTSTAMP:20260424T114219
CREATED:19211018T094055Z
LAST-MODIFIED:20211101T090236Z
UID:10005299-1635971400-1635971400@www.bcmagazine.net
SUMMARY:Love is Not a Dinner Party
DESCRIPTION:Love is Not a Dinner Party\nDate: 8:30pm\, 3 November\, 2021\nVenue: Kitec\, Star Hall\nTickets: $1\,500\, $900\, $500\, $200 from HKTicketing
URL:https://www.bcmagazine.net/event/love-is-not-a-dinner-party/
LOCATION:KITEC\, Star Hall\, KITEC\, 1 Trademart Drive\, Kowloon Bay\, Hong Kong
CATEGORIES:2021,Cantonese drama,Performing Arts
ATTACH;FMTTYPE=image/jpeg:https://www.bcmagazine.net/wp-content/uploads/1921/10/love-is-not-a-dinner-party-2021.jpg
GEO:22.3239575;114.2037608
X-APPLE-STRUCTURED-LOCATION;VALUE=URI;X-ADDRESS=KITEC Star Hall KITEC 1 Trademart Drive Kowloon Bay Hong Kong;X-APPLE-RADIUS=500;X-TITLE=KITEC\, 1 Trademart Drive:geo:114.2037608,22.3239575
END:VEVENT
BEGIN:VEVENT
DTSTART;TZID=Asia/Hong_Kong:20210828T201500
DTEND;TZID=Asia/Hong_Kong:20210828T201500
DTSTAMP:20260424T114219
CREATED:19180608T094055Z
LAST-MODIFIED:20210607T101614Z
UID:10004210-1630181700-1630181700@www.bcmagazine.net
SUMMARY:My Little Airport
DESCRIPTION:My Little Airport\nDate: 8:15pm\, 27-28 August\, 2021\nVenue: Kitec\, Star Hall\nTickets: $680 from HKTicketing
URL:https://www.bcmagazine.net/event/my-little-airport/2021-08-28/
LOCATION:KITEC\, Star Hall\, KITEC\, 1 Trademart Drive\, Kowloon Bay\, Hong Kong
CATEGORIES:2021,Concert,Music,Performing Arts
ATTACH;FMTTYPE=image/jpeg:https://www.bcmagazine.net/wp-content/uploads/1918/06/my-little-airport-2021.jpg
GEO:22.3239575;114.2037608
X-APPLE-STRUCTURED-LOCATION;VALUE=URI;X-ADDRESS=KITEC Star Hall KITEC 1 Trademart Drive Kowloon Bay Hong Kong;X-APPLE-RADIUS=500;X-TITLE=KITEC\, 1 Trademart Drive:geo:114.2037608,22.3239575
END:VEVENT
BEGIN:VEVENT
DTSTART;TZID=Asia/Hong_Kong:20210827T201500
DTEND;TZID=Asia/Hong_Kong:20210827T201500
DTSTAMP:20260424T114219
CREATED:19180608T094055Z
LAST-MODIFIED:20210607T101614Z
UID:10004209-1630095300-1630095300@www.bcmagazine.net
SUMMARY:My Little Airport
DESCRIPTION:My Little Airport\nDate: 8:15pm\, 27-28 August\, 2021\nVenue: Kitec\, Star Hall\nTickets: $680 from HKTicketing
URL:https://www.bcmagazine.net/event/my-little-airport/2021-08-27/
LOCATION:KITEC\, Star Hall\, KITEC\, 1 Trademart Drive\, Kowloon Bay\, Hong Kong
CATEGORIES:2021,Concert,Music,Performing Arts
ATTACH;FMTTYPE=image/jpeg:https://www.bcmagazine.net/wp-content/uploads/1918/06/my-little-airport-2021.jpg
GEO:22.3239575;114.2037608
X-APPLE-STRUCTURED-LOCATION;VALUE=URI;X-ADDRESS=KITEC Star Hall KITEC 1 Trademart Drive Kowloon Bay Hong Kong;X-APPLE-RADIUS=500;X-TITLE=KITEC\, 1 Trademart Drive:geo:114.2037608,22.3239575
END:VEVENT
BEGIN:VEVENT
DTSTART;TZID=Asia/Hong_Kong:20210724T200000
DTEND;TZID=Asia/Hong_Kong:20210724T200000
DTSTAMP:20260424T114219
CREATED:19180608T094055Z
LAST-MODIFIED:20210607T103211Z
UID:10004222-1627156800-1627156800@www.bcmagazine.net
SUMMARY:Phil Lam
DESCRIPTION:Phil Lam – The Healing Sound of Future Music\nDate: 8pm\, 24 July\, 2021\nVenue: Kitec\, Star Hall\nTickets: $680\, $480 from Cityline
URL:https://www.bcmagazine.net/event/phil-lam-2021/
LOCATION:KITEC\, Star Hall\, KITEC\, 1 Trademart Drive\, Kowloon Bay\, Hong Kong
CATEGORIES:2021,Concert,Music,Performing Arts
ATTACH;FMTTYPE=image/jpeg:https://www.bcmagazine.net/wp-content/uploads/1918/06/phil-lam-2021.jpeg
GEO:22.3239575;114.2037608
X-APPLE-STRUCTURED-LOCATION;VALUE=URI;X-ADDRESS=KITEC Star Hall KITEC 1 Trademart Drive Kowloon Bay Hong Kong;X-APPLE-RADIUS=500;X-TITLE=KITEC\, 1 Trademart Drive:geo:114.2037608,22.3239575
END:VEVENT
BEGIN:VEVENT
DTSTART;TZID=Asia/Hong_Kong:20210704T200000
DTEND;TZID=Asia/Hong_Kong:20210704T201500
DTSTAMP:20260424T114219
CREATED:19180608T094055Z
LAST-MODIFIED:20210607T120232Z
UID:10004221-1625428800-1625429700@www.bcmagazine.net
SUMMARY:ToNick
DESCRIPTION:ToNick – Here and Now\nDate: 8pm\, 3-4 July\, 2021\nVenue: Kitec\, Star Hall\nTickets: $680\, $480\, $380 from HKTicketing
URL:https://www.bcmagazine.net/event/tonick/2021-07-04/
LOCATION:KITEC\, Star Hall\, KITEC\, 1 Trademart Drive\, Kowloon Bay\, Hong Kong
CATEGORIES:2021,Concert,Music,Performing Arts
ATTACH;FMTTYPE=image/jpeg:https://www.bcmagazine.net/wp-content/uploads/1918/06/Tonik-2021-Here-and-Now-e1623061611436.jpeg
GEO:22.3239575;114.2037608
X-APPLE-STRUCTURED-LOCATION;VALUE=URI;X-ADDRESS=KITEC Star Hall KITEC 1 Trademart Drive Kowloon Bay Hong Kong;X-APPLE-RADIUS=500;X-TITLE=KITEC\, 1 Trademart Drive:geo:114.2037608,22.3239575
END:VEVENT
BEGIN:VEVENT
DTSTART;TZID=Asia/Hong_Kong:20210703T200000
DTEND;TZID=Asia/Hong_Kong:20210703T201500
DTSTAMP:20260424T114219
CREATED:19180608T094055Z
LAST-MODIFIED:20210607T120232Z
UID:10004220-1625342400-1625343300@www.bcmagazine.net
SUMMARY:ToNick
DESCRIPTION:ToNick – Here and Now\nDate: 8pm\, 3-4 July\, 2021\nVenue: Kitec\, Star Hall\nTickets: $680\, $480\, $380 from HKTicketing
URL:https://www.bcmagazine.net/event/tonick/2021-07-03/
LOCATION:KITEC\, Star Hall\, KITEC\, 1 Trademart Drive\, Kowloon Bay\, Hong Kong
CATEGORIES:2021,Concert,Music,Performing Arts
ATTACH;FMTTYPE=image/jpeg:https://www.bcmagazine.net/wp-content/uploads/1918/06/Tonik-2021-Here-and-Now-e1623061611436.jpeg
GEO:22.3239575;114.2037608
X-APPLE-STRUCTURED-LOCATION;VALUE=URI;X-ADDRESS=KITEC Star Hall KITEC 1 Trademart Drive Kowloon Bay Hong Kong;X-APPLE-RADIUS=500;X-TITLE=KITEC\, 1 Trademart Drive:geo:114.2037608,22.3239575
END:VEVENT
BEGIN:VEVENT
DTSTART;TZID=Asia/Hong_Kong:20210627T201500
DTEND;TZID=Asia/Hong_Kong:20210627T201500
DTSTAMP:20260424T114219
CREATED:19180716T124702Z
LAST-MODIFIED:20210607T101026Z
UID:10004335-1624824900-1624824900@www.bcmagazine.net
SUMMARY:Supper Moment
DESCRIPTION:Supper Moment\nDate: 8:15pm\, 26-27 June\, 2021\nVenue: Kitec\, Star Hall\nTickets: $780\, $580\, $280 from HKTicketing
URL:https://www.bcmagazine.net/event/supper-moment/2021-06-27/
LOCATION:KITEC\, Star Hall\, KITEC\, 1 Trademart Drive\, Kowloon Bay\, Hong Kong
CATEGORIES:2021,Concert,Music,Performing Arts
ATTACH;FMTTYPE=image/jpeg:https://www.bcmagazine.net/wp-content/uploads/1918/07/supper-moment-2021.jpg
GEO:22.3239575;114.2037608
X-APPLE-STRUCTURED-LOCATION;VALUE=URI;X-ADDRESS=KITEC Star Hall KITEC 1 Trademart Drive Kowloon Bay Hong Kong;X-APPLE-RADIUS=500;X-TITLE=KITEC\, 1 Trademart Drive:geo:114.2037608,22.3239575
END:VEVENT
BEGIN:VEVENT
DTSTART;TZID=Asia/Hong_Kong:20210626T201500
DTEND;TZID=Asia/Hong_Kong:20210626T201500
DTSTAMP:20260424T114219
CREATED:19180716T124702Z
LAST-MODIFIED:20210607T101026Z
UID:10004334-1624738500-1624738500@www.bcmagazine.net
SUMMARY:Supper Moment
DESCRIPTION:Supper Moment\nDate: 8:15pm\, 26-27 June\, 2021\nVenue: Kitec\, Star Hall\nTickets: $780\, $580\, $280 from HKTicketing
URL:https://www.bcmagazine.net/event/supper-moment/2021-06-26/
LOCATION:KITEC\, Star Hall\, KITEC\, 1 Trademart Drive\, Kowloon Bay\, Hong Kong
CATEGORIES:2021,Concert,Music,Performing Arts
ATTACH;FMTTYPE=image/jpeg:https://www.bcmagazine.net/wp-content/uploads/1918/07/supper-moment-2021.jpg
GEO:22.3239575;114.2037608
X-APPLE-STRUCTURED-LOCATION;VALUE=URI;X-ADDRESS=KITEC Star Hall KITEC 1 Trademart Drive Kowloon Bay Hong Kong;X-APPLE-RADIUS=500;X-TITLE=KITEC\, 1 Trademart Drive:geo:114.2037608,22.3239575
END:VEVENT
BEGIN:VEVENT
DTSTART;TZID=Asia/Hong_Kong:20210620T201500
DTEND;TZID=Asia/Hong_Kong:20210620T201500
DTSTAMP:20260424T114219
CREATED:19180608T094055Z
LAST-MODIFIED:20210607T120528Z
UID:10004231-1624220100-1624220100@www.bcmagazine.net
SUMMARY:Serrini
DESCRIPTION:Serrini Live 2021 – I’m (Not) Fine Thx\nDate: 8:15pm\, 18-20 June\, 2021\nVenue: Kitec\, Star Hall\nTickets: $780\, $580\, $380 from HKTicketing
URL:https://www.bcmagazine.net/event/serrini/2021-06-20/
LOCATION:KITEC\, Star Hall\, KITEC\, 1 Trademart Drive\, Kowloon Bay\, Hong Kong
CATEGORIES:2021,Concert,Music,Performing Arts
ATTACH;FMTTYPE=image/jpeg:https://www.bcmagazine.net/wp-content/uploads/1918/06/serrini-2021.jpeg
GEO:22.3239575;114.2037608
X-APPLE-STRUCTURED-LOCATION;VALUE=URI;X-ADDRESS=KITEC Star Hall KITEC 1 Trademart Drive Kowloon Bay Hong Kong;X-APPLE-RADIUS=500;X-TITLE=KITEC\, 1 Trademart Drive:geo:114.2037608,22.3239575
END:VEVENT
BEGIN:VEVENT
DTSTART;TZID=Asia/Hong_Kong:20210619T201500
DTEND;TZID=Asia/Hong_Kong:20210619T201500
DTSTAMP:20260424T114219
CREATED:19180608T094055Z
LAST-MODIFIED:20210607T120528Z
UID:10004230-1624133700-1624133700@www.bcmagazine.net
SUMMARY:Serrini
DESCRIPTION:Serrini Live 2021 – I’m (Not) Fine Thx\nDate: 8:15pm\, 18-20 June\, 2021\nVenue: Kitec\, Star Hall\nTickets: $780\, $580\, $380 from HKTicketing
URL:https://www.bcmagazine.net/event/serrini/2021-06-19/
LOCATION:KITEC\, Star Hall\, KITEC\, 1 Trademart Drive\, Kowloon Bay\, Hong Kong
CATEGORIES:2021,Concert,Music,Performing Arts
ATTACH;FMTTYPE=image/jpeg:https://www.bcmagazine.net/wp-content/uploads/1918/06/serrini-2021.jpeg
GEO:22.3239575;114.2037608
X-APPLE-STRUCTURED-LOCATION;VALUE=URI;X-ADDRESS=KITEC Star Hall KITEC 1 Trademart Drive Kowloon Bay Hong Kong;X-APPLE-RADIUS=500;X-TITLE=KITEC\, 1 Trademart Drive:geo:114.2037608,22.3239575
END:VEVENT
BEGIN:VEVENT
DTSTART;TZID=Asia/Hong_Kong:20210618T201500
DTEND;TZID=Asia/Hong_Kong:20210618T201500
DTSTAMP:20260424T114219
CREATED:19180608T094055Z
LAST-MODIFIED:20210607T120528Z
UID:10004229-1624047300-1624047300@www.bcmagazine.net
SUMMARY:Serrini
DESCRIPTION:Serrini Live 2021 – I’m (Not) Fine Thx\nDate: 8:15pm\, 18-20 June\, 2021\nVenue: Kitec\, Star Hall\nTickets: $780\, $580\, $380 from HKTicketing
URL:https://www.bcmagazine.net/event/serrini/2021-06-18/
LOCATION:KITEC\, Star Hall\, KITEC\, 1 Trademart Drive\, Kowloon Bay\, Hong Kong
CATEGORIES:2021,Concert,Music,Performing Arts
ATTACH;FMTTYPE=image/jpeg:https://www.bcmagazine.net/wp-content/uploads/1918/06/serrini-2021.jpeg
GEO:22.3239575;114.2037608
X-APPLE-STRUCTURED-LOCATION;VALUE=URI;X-ADDRESS=KITEC Star Hall KITEC 1 Trademart Drive Kowloon Bay Hong Kong;X-APPLE-RADIUS=500;X-TITLE=KITEC\, 1 Trademart Drive:geo:114.2037608,22.3239575
END:VEVENT
BEGIN:VEVENT
DTSTART;TZID=Asia/Hong_Kong:20210613T193000
DTEND;TZID=Asia/Hong_Kong:20210613T193000
DTSTAMP:20260424T114219
CREATED:19180608T094055Z
LAST-MODIFIED:20210607T104251Z
UID:10004224-1623612600-1623612600@www.bcmagazine.net
SUMMARY:Baby Shark Live!
DESCRIPTION:Baby Shark Live! – The Hidden Treasure\nDate: 12-13 June\, 2021\nVenue: Kitec\, Star Hall\nTickets: $580\, $480\, $380\, $280 from HKTicketing
URL:https://www.bcmagazine.net/event/baby-shark-live/2021-06-13/
LOCATION:KITEC\, Star Hall\, KITEC\, 1 Trademart Drive\, Kowloon Bay\, Hong Kong
CATEGORIES:2021,Performing Arts,Theatre
ATTACH;FMTTYPE=image/jpeg:https://www.bcmagazine.net/wp-content/uploads/1918/06/baby-shark-live-2021.jpeg
GEO:22.3239575;114.2037608
X-APPLE-STRUCTURED-LOCATION;VALUE=URI;X-ADDRESS=KITEC Star Hall KITEC 1 Trademart Drive Kowloon Bay Hong Kong;X-APPLE-RADIUS=500;X-TITLE=KITEC\, 1 Trademart Drive:geo:114.2037608,22.3239575
END:VEVENT
BEGIN:VEVENT
DTSTART;TZID=Asia/Hong_Kong:20210612T193000
DTEND;TZID=Asia/Hong_Kong:20210612T193000
DTSTAMP:20260424T114219
CREATED:19180608T094055Z
LAST-MODIFIED:20210607T104251Z
UID:10004223-1623526200-1623526200@www.bcmagazine.net
SUMMARY:Baby Shark Live!
DESCRIPTION:Baby Shark Live! – The Hidden Treasure\nDate: 12-13 June\, 2021\nVenue: Kitec\, Star Hall\nTickets: $580\, $480\, $380\, $280 from HKTicketing
URL:https://www.bcmagazine.net/event/baby-shark-live/2021-06-12/
LOCATION:KITEC\, Star Hall\, KITEC\, 1 Trademart Drive\, Kowloon Bay\, Hong Kong
CATEGORIES:2021,Performing Arts,Theatre
ATTACH;FMTTYPE=image/jpeg:https://www.bcmagazine.net/wp-content/uploads/1918/06/baby-shark-live-2021.jpeg
GEO:22.3239575;114.2037608
X-APPLE-STRUCTURED-LOCATION;VALUE=URI;X-ADDRESS=KITEC Star Hall KITEC 1 Trademart Drive Kowloon Bay Hong Kong;X-APPLE-RADIUS=500;X-TITLE=KITEC\, 1 Trademart Drive:geo:114.2037608,22.3239575
END:VEVENT
BEGIN:VEVENT
DTSTART;TZID=Asia/Hong_Kong:20210404T160000
DTEND;TZID=Asia/Hong_Kong:20210404T160000
DTSTAMP:20260424T114219
CREATED:19190711T044512Z
LAST-MODIFIED:20201219T135942Z
UID:10004863-1617552000-1617552000@www.bcmagazine.net
SUMMARY:Taiwan King of Oldies concert - Hong Kong
DESCRIPTION:Taiwan King of Oldies concert – Hong Kong\nQing Shan 青山\, Xie Lei謝雷\, Zhang Di 張帝\nDate: 4pm\, 4 April\, 2021\nVenue: Kitec\, Star Hall\nTickets: $788\, $588\, $388\, $288 from HKTicketing\nMore info:\nRescheduled from 13 April 2020
URL:https://www.bcmagazine.net/event/taiwan-king-of-oldies-concert-hong-kong/
LOCATION:KITEC\, Star Hall\, KITEC\, 1 Trademart Drive\, Kowloon Bay\, Hong Kong
CATEGORIES:2021,Concert,Music,Performing Arts
ATTACH;FMTTYPE=image/jpeg:https://www.bcmagazine.net/wp-content/uploads/1919/07/Taiwan-King-of-Oldies-concert-2021.jpg
GEO:22.3239575;114.2037608
X-APPLE-STRUCTURED-LOCATION;VALUE=URI;X-ADDRESS=KITEC Star Hall KITEC 1 Trademart Drive Kowloon Bay Hong Kong;X-APPLE-RADIUS=500;X-TITLE=KITEC\, 1 Trademart Drive:geo:114.2037608,22.3239575
END:VEVENT
BEGIN:VEVENT
DTSTART;TZID=Asia/Hong_Kong:20200701T200000
DTEND;TZID=Asia/Hong_Kong:20200701T200000
DTSTAMP:20260424T114219
CREATED:20200228T024216Z
LAST-MODIFIED:20200228T151052Z
UID:10006617-1593633600-1593633600@www.bcmagazine.net
SUMMARY:Hyukoh - Resheduled
DESCRIPTION:Hyukoh – Through Love\nDate: 8pm\, 1 July 2020\nVenue: Kitec\, Star Hall\nTickets: $798 from HKTicketing
URL:https://www.bcmagazine.net/event/hyukoh-2020/
LOCATION:KITEC\, Star Hall\, KITEC\, 1 Trademart Drive\, Kowloon Bay\, Hong Kong
CATEGORIES:2020,Concert,Music,Performing Arts
ATTACH;FMTTYPE=image/jpeg:https://www.bcmagazine.net/wp-content/uploads/2019/07/Hyukoh_hk_new_date.jpg
GEO:22.3239575;114.2037608
X-APPLE-STRUCTURED-LOCATION;VALUE=URI;X-ADDRESS=KITEC Star Hall KITEC 1 Trademart Drive Kowloon Bay Hong Kong;X-APPLE-RADIUS=500;X-TITLE=KITEC\, 1 Trademart Drive:geo:114.2037608,22.3239575
END:VEVENT
BEGIN:VEVENT
DTSTART;VALUE=DATE:20191228
DTEND;VALUE=DATE:20191230
DTSTAMP:20260424T114219
CREATED:19160429T221525Z
LAST-MODIFIED:20190930T110545Z
UID:10001594-1577491200-1577663999@www.bcmagazine.net
SUMMARY:LMF
DESCRIPTION:LMF – XX Anniversary Festival\nLazymuthafucka\, Matt Force\, Dough Boy\, Future\, Seanie\, Tommy\, KZ\, Akiko\, JB\, 黃禍\, Heyo\, Phoon\, Josie and The Uni Boys\, R.O.O.T\, 逆流\, My Little Airport\nDate: 28-29 December\, 2019\nVenue: Kitec\, Star Hall\nTickets: $880\, $680\, $480
URL:https://www.bcmagazine.net/event/lmf-hk-2019/
LOCATION:KITEC\, Star Hall\, KITEC\, 1 Trademart Drive\, Kowloon Bay\, Hong Kong
CATEGORIES:2019,Concert,Music,Performing Arts
ATTACH;FMTTYPE=image/jpeg:https://www.bcmagazine.net/wp-content/uploads/1916/04/lmf-festival-2019.jpg
GEO:22.3239575;114.2037608
X-APPLE-STRUCTURED-LOCATION;VALUE=URI;X-ADDRESS=KITEC Star Hall KITEC 1 Trademart Drive Kowloon Bay Hong Kong;X-APPLE-RADIUS=500;X-TITLE=KITEC\, 1 Trademart Drive:geo:114.2037608,22.3239575
END:VEVENT
BEGIN:VEVENT
DTSTART;TZID=Asia/Hong_Kong:20191210T200000
DTEND;TZID=Asia/Hong_Kong:20191210T200000
DTSTAMP:20260424T114219
CREATED:19160429T221525Z
LAST-MODIFIED:20190925T145434Z
UID:10000490-1576008000-1576008000@www.bcmagazine.net
SUMMARY:Air Supply
DESCRIPTION:Air Supply\nDate: 8pm\, 10 December\, 2019\nVenue: Star Hall\nTickets: $988\, $788\, $588\, $388 from HKTicketing
URL:https://www.bcmagazine.net/event/air-supply-2019/
LOCATION:KITEC\, Star Hall\, KITEC\, 1 Trademart Drive\, Kowloon Bay\, Hong Kong
CATEGORIES:2019,Concert,Music,Performing Arts
ATTACH;FMTTYPE=image/jpeg:https://www.bcmagazine.net/wp-content/uploads/1916/04/AirSupply2019hk_poster_final.jpg
GEO:22.3239575;114.2037608
X-APPLE-STRUCTURED-LOCATION;VALUE=URI;X-ADDRESS=KITEC Star Hall KITEC 1 Trademart Drive Kowloon Bay Hong Kong;X-APPLE-RADIUS=500;X-TITLE=KITEC\, 1 Trademart Drive:geo:114.2037608,22.3239575
END:VEVENT
BEGIN:VEVENT
DTSTART;TZID=Asia/Hong_Kong:20191113T200000
DTEND;TZID=Asia/Hong_Kong:20191113T200000
DTSTAMP:20260424T114219
CREATED:20191113T044512Z
LAST-MODIFIED:20191113T094035Z
UID:10006605-1573675200-1573675200@www.bcmagazine.net
SUMMARY:Sekai No Owari - Cancelled
DESCRIPTION:Sekai No Owari – The Colors\nDate: 8pm\, 13 November\, 2019\nVenue: Kitec\, Star Hall\nTickets: $1\,088\, $888\, $688 from HKTicketing
URL:https://www.bcmagazine.net/event/sekai-no-owari-2019/
LOCATION:KITEC\, Star Hall\, KITEC\, 1 Trademart Drive\, Kowloon Bay\, Hong Kong
CATEGORIES:2019,Concert,Music,Performing Arts
GEO:22.3239575;114.2037608
X-APPLE-STRUCTURED-LOCATION;VALUE=URI;X-ADDRESS=KITEC Star Hall KITEC 1 Trademart Drive Kowloon Bay Hong Kong;X-APPLE-RADIUS=500;X-TITLE=KITEC\, 1 Trademart Drive:geo:114.2037608,22.3239575
END:VEVENT
BEGIN:VEVENT
DTSTART;TZID=Asia/Hong_Kong:20191113T200000
DTEND;TZID=Asia/Hong_Kong:20191113T200000
DTSTAMP:20260424T114219
CREATED:19190409T044512Z
LAST-MODIFIED:20190924T041916Z
UID:10003999-1573675200-1573675200@www.bcmagazine.net
SUMMARY:My Little Airport
DESCRIPTION:My Little Airport – The Taste of Tears\nDate: 8pm\, 15 November\, 2019\nVenue: Kitec\, Star Hall\nTickets: $480 from HKTicketing
URL:https://www.bcmagazine.net/event/my-little-airport-15-11-2019/
LOCATION:KITEC\, Star Hall\, KITEC\, 1 Trademart Drive\, Kowloon Bay\, Hong Kong
CATEGORIES:2019,Concert,Music,Performing Arts
GEO:22.3239575;114.2037608
X-APPLE-STRUCTURED-LOCATION;VALUE=URI;X-ADDRESS=KITEC Star Hall KITEC 1 Trademart Drive Kowloon Bay Hong Kong;X-APPLE-RADIUS=500;X-TITLE=KITEC\, 1 Trademart Drive:geo:114.2037608,22.3239575
END:VEVENT
BEGIN:VEVENT
DTSTART;TZID=Asia/Hong_Kong:20191026T200000
DTEND;TZID=Asia/Hong_Kong:20191026T200000
DTSTAMP:20260424T114219
CREATED:19190409T044512Z
LAST-MODIFIED:20190924T040131Z
UID:10003991-1572120000-1572120000@www.bcmagazine.net
SUMMARY:Nana Mizuki - Cancelled
DESCRIPTION:Nana Mizuki\nDate: 8pm\, 26 October\, 2019\nVenue: Kitec\, Star Hall\nTickets: $888\, $688\, $488 from HKTicketing
URL:https://www.bcmagazine.net/event/nana-mizuki-2019/
LOCATION:KITEC\, Star Hall\, KITEC\, 1 Trademart Drive\, Kowloon Bay\, Hong Kong
CATEGORIES:2019,Cancelled,Concert,Music,Performing Arts
GEO:22.3239575;114.2037608
X-APPLE-STRUCTURED-LOCATION;VALUE=URI;X-ADDRESS=KITEC Star Hall KITEC 1 Trademart Drive Kowloon Bay Hong Kong;X-APPLE-RADIUS=500;X-TITLE=KITEC\, 1 Trademart Drive:geo:114.2037608,22.3239575
END:VEVENT
END:VCALENDAR