BEGIN:VCALENDAR
VERSION:2.0
PRODID:-//bc magazine - ECPv6.15.20//NONSGML v1.0//EN
CALSCALE:GREGORIAN
METHOD:PUBLISH
X-WR-CALNAME:bc magazine
X-ORIGINAL-URL:https://www.bcmagazine.net
X-WR-CALDESC:Events for bc magazine
REFRESH-INTERVAL;VALUE=DURATION:PT1H
X-Robots-Tag:noindex
X-PUBLISHED-TTL:PT1H
BEGIN:VTIMEZONE
TZID:Asia/Hong_Kong
BEGIN:STANDARD
TZOFFSETFROM:+0800
TZOFFSETTO:+0800
TZNAME:HKT
DTSTART:20150101T000000
END:STANDARD
END:VTIMEZONE
BEGIN:VEVENT
DTSTART;TZID=Asia/Hong_Kong:20161112T200000
DTEND;TZID=Asia/Hong_Kong:20161112T200000
DTSTAMP:20260422T210913
CREATED:19161017T170224Z
LAST-MODIFIED:20161017T170827Z
UID:10000899-1478980800-1478980800@www.bcmagazine.net
SUMMARY:Lala + Faith
DESCRIPTION:LaLa Hsu + Faith Yang\nDate: 8pm\, 12 November\, 2016\nVenue: Studio City Event Centre\nTickets: $980\, $780\, $580\, $380
URL:https://www.bcmagazine.net/event/lala-faith-macau-2016/
LOCATION:Studio City\, Estrada do Istmo\, Cotai\, Macau
CATEGORIES:2016,Concert,Macau,Music
GEO:22.1397693;113.5632663
X-APPLE-STRUCTURED-LOCATION;VALUE=URI;X-ADDRESS=Studio City Estrada do Istmo Cotai Macau;X-APPLE-RADIUS=500;X-TITLE=Estrada do Istmo:geo:113.5632663,22.1397693
END:VEVENT
BEGIN:VEVENT
DTSTART;TZID=Asia/Hong_Kong:20160918T180000
DTEND;TZID=Asia/Hong_Kong:20160918T180000
DTSTAMP:20260422T210913
CREATED:19160829T020509Z
LAST-MODIFIED:20160829T021727Z
UID:10001967-1474221600-1474221600@www.bcmagazine.net
SUMMARY:Kenny G
DESCRIPTION:Kenny G\nDate: 6pm\, 18 September\, 2016\nVenue: Studio City\nTickets: $1180\, $880\, $580\, $380 from HKTicketing
URL:https://www.bcmagazine.net/event/kenny-g-2016/
LOCATION:Studio City\, Estrada do Istmo\, Cotai\, Macau
CATEGORIES:2016,Concert,Macau,Music
GEO:22.1397693;113.5632663
X-APPLE-STRUCTURED-LOCATION;VALUE=URI;X-ADDRESS=Studio City Estrada do Istmo Cotai Macau;X-APPLE-RADIUS=500;X-TITLE=Estrada do Istmo:geo:113.5632663,22.1397693
END:VEVENT
BEGIN:VEVENT
DTSTART;TZID=Asia/Hong_Kong:20160701T200000
DTEND;TZID=Asia/Hong_Kong:20160701T200000
DTSTAMP:20260422T210913
CREATED:19160513T012325Z
LAST-MODIFIED:20160513T012554Z
UID:10001607-1467403200-1467403200@www.bcmagazine.net
SUMMARY:Don't Let Daddy Know
DESCRIPTION:Don’t Let Daddy Know\nDate: 8pm\, 1July\, 2016\nVenue: Studio City\, Macau\nTickets: $1\,500\, $1\,000\, $850\, $650
URL:https://www.bcmagazine.net/event/dont-let-daddy-know-macau-2016/
LOCATION:Studio City\, Estrada do Istmo\, Cotai\, Macau
CATEGORIES:2016,DJ,Music
GEO:22.1397693;113.5632663
X-APPLE-STRUCTURED-LOCATION;VALUE=URI;X-ADDRESS=Studio City Estrada do Istmo Cotai Macau;X-APPLE-RADIUS=500;X-TITLE=Estrada do Istmo:geo:113.5632663,22.1397693
END:VEVENT
BEGIN:VEVENT
DTSTART;TZID=Asia/Hong_Kong:20160618T190000
DTEND;TZID=Asia/Hong_Kong:20160618T190000
DTSTAMP:20260422T210913
CREATED:19160513T011141Z
LAST-MODIFIED:20160513T011742Z
UID:10001606-1466276400-1466276400@www.bcmagazine.net
SUMMARY:BTS
DESCRIPTION:BTS Live <花樣年華 on stage : epilogue\nDate: 7pm\, 18 June\, 2016\nVenue: Studio City\, Macau\nTickets: $1\,880\, $1\,580\, $1\,280\, $880\, $480
URL:https://www.bcmagazine.net/event/bts-macau-2016/
LOCATION:Studio City\, Estrada do Istmo\, Cotai\, Macau
CATEGORIES:2016,Concert,Macau,Music
GEO:22.1397693;113.5632663
X-APPLE-STRUCTURED-LOCATION;VALUE=URI;X-ADDRESS=Studio City Estrada do Istmo Cotai Macau;X-APPLE-RADIUS=500;X-TITLE=Estrada do Istmo:geo:113.5632663,22.1397693
END:VEVENT
BEGIN:VEVENT
DTSTART;TZID=Asia/Hong_Kong:20160528T200000
DTEND;TZID=Asia/Hong_Kong:20160528T200000
DTSTAMP:20260422T210913
CREATED:19160415T055135Z
LAST-MODIFIED:20160415T055527Z
UID:10001582-1464465600-1464465600@www.bcmagazine.net
SUMMARY:Super Junior
DESCRIPTION:Super Junior – Super Camp\nDate: 8pm\, 28 May\, 2016\nVenue: Studio City\, Macau\nTickets: MOP$1\,580\, $1\,380\, $880\, $580 from HKTicketing
URL:https://www.bcmagazine.net/event/super-junior-macau-2016/
LOCATION:Studio City\, Estrada do Istmo\, Cotai\, Macau
CATEGORIES:2016,Concert,Macau,Music
GEO:22.1397693;113.5632663
X-APPLE-STRUCTURED-LOCATION;VALUE=URI;X-ADDRESS=Studio City Estrada do Istmo Cotai Macau;X-APPLE-RADIUS=500;X-TITLE=Estrada do Istmo:geo:113.5632663,22.1397693
END:VEVENT
BEGIN:VEVENT
DTSTART;TZID=Asia/Hong_Kong:20160514T200000
DTEND;TZID=Asia/Hong_Kong:20160514T200000
DTSTAMP:20260422T210913
CREATED:19160413T060043Z
LAST-MODIFIED:20160413T060354Z
UID:10000475-1463256000-1463256000@www.bcmagazine.net
SUMMARY:Jam Hsiao + Christine Fan
DESCRIPTION:Jam Hsiao + Christine Fan ‘Love is Faith’\nDate: 8pm\, 14 May\, 2016\nVenue: Studio City\, Macau\nTickets: $50\,000 (24 seats)\, $25\,000 (12 seats)\, $1\,580\, $1\,080\, $880\, $680\, $480 from HKTicketing
URL:https://www.bcmagazine.net/event/jam-hsiao-christine-fan-macau-2016/
LOCATION:Studio City\, Estrada do Istmo\, Cotai\, Macau
CATEGORIES:2016,Concert,Macau,Music
GEO:22.1397693;113.5632663
X-APPLE-STRUCTURED-LOCATION;VALUE=URI;X-ADDRESS=Studio City Estrada do Istmo Cotai Macau;X-APPLE-RADIUS=500;X-TITLE=Estrada do Istmo:geo:113.5632663,22.1397693
END:VEVENT
BEGIN:VEVENT
DTSTART;TZID=Asia/Hong_Kong:20160416T200000
DTEND;TZID=Asia/Hong_Kong:20160416T200000
DTSTAMP:20260422T210913
CREATED:19160329T084004Z
LAST-MODIFIED:20160329T084400Z
UID:10001532-1460836800-1460836800@www.bcmagazine.net
SUMMARY:Karen Mok
DESCRIPTION:Karen Mok Regardez\nDate: 8pm\, 16 April\, 2016\nVenue: Studio City\, Macau\nTickets: MOP$1\,280\, $980\, $780\, $580
URL:https://www.bcmagazine.net/event/karen-mok-regardez-macau-2016/
LOCATION:Studio City\, Estrada do Istmo\, Cotai\, Macau
CATEGORIES:2016,Concert,Macau,Music
GEO:22.1397693;113.5632663
X-APPLE-STRUCTURED-LOCATION;VALUE=URI;X-ADDRESS=Studio City Estrada do Istmo Cotai Macau;X-APPLE-RADIUS=500;X-TITLE=Estrada do Istmo:geo:113.5632663,22.1397693
END:VEVENT
BEGIN:VEVENT
DTSTART;TZID=Asia/Hong_Kong:20160326T200000
DTEND;TZID=Asia/Hong_Kong:20160326T200000
DTSTAMP:20260422T210913
CREATED:19160224T083317Z
LAST-MODIFIED:20160224T083752Z
UID:10000343-1459022400-1459022400@www.bcmagazine.net
SUMMARY:S.H.E.
DESCRIPTION:S.H.E’s ‘Never Say Goodbye’\nDate: 8pm\, 26 March\, 2016\nVenue: Studio City\, Macau\nTickets: $25\,000\, $1\,580\, $1\,080\, $880\, $680\, $480
URL:https://www.bcmagazine.net/event/s-h-e/
LOCATION:Studio City\, Estrada do Istmo\, Cotai\, Macau
CATEGORIES:2016,Concert,Macau,Music
GEO:22.1397693;113.5632663
X-APPLE-STRUCTURED-LOCATION;VALUE=URI;X-ADDRESS=Studio City Estrada do Istmo Cotai Macau;X-APPLE-RADIUS=500;X-TITLE=Estrada do Istmo:geo:113.5632663,22.1397693
END:VEVENT
BEGIN:VEVENT
DTSTART;TZID=Asia/Hong_Kong:20160305T200000
DTEND;TZID=Asia/Hong_Kong:20160305T200000
DTSTAMP:20260422T210913
CREATED:19160202T092119Z
LAST-MODIFIED:20160202T093407Z
UID:10001225-1457208000-1457208000@www.bcmagazine.net
SUMMARY:Della
DESCRIPTION:Della The First Day To Say I Love You\nDate: 8pm\, 5 March\, 2016\nVenue: Studio City Event Centre\, Macau\nTickets: $980\, $780\, $580\, $380 from HKTicketing
URL:https://www.bcmagazine.net/event/della/
LOCATION:Studio City\, Estrada do Istmo\, Cotai\, Macau
CATEGORIES:2016,Concert,Macau,Music
GEO:22.1397693;113.5632663
X-APPLE-STRUCTURED-LOCATION;VALUE=URI;X-ADDRESS=Studio City Estrada do Istmo Cotai Macau;X-APPLE-RADIUS=500;X-TITLE=Estrada do Istmo:geo:113.5632663,22.1397693
END:VEVENT
BEGIN:VEVENT
DTSTART;TZID=Asia/Hong_Kong:20160226T201500
DTEND;TZID=Asia/Hong_Kong:20160226T201500
DTSTAMP:20260422T210913
CREATED:19160112T010638Z
LAST-MODIFIED:20160112T011613Z
UID:10001155-1456517700-1456517700@www.bcmagazine.net
SUMMARY:Russell Peters
DESCRIPTION:Russell Peters – Almost Famous\nDate: 8:15pm\, 26 February\, 2016\nVenue: Studio City Event Center\, Macau\nTickets: $50\,000 (24 tickets)\, $25\,000 (12 tickets)\, $1\,580\, $1\,280\, $1\,080\, $880\, $680 from HKTicketing
URL:https://www.bcmagazine.net/event/russell-peters-macau-2016/
LOCATION:Studio City\, Estrada do Istmo\, Cotai\, Macau
CATEGORIES:2016,Comedy,Macau,Performing Arts
GEO:22.1397693;113.5632663
X-APPLE-STRUCTURED-LOCATION;VALUE=URI;X-ADDRESS=Studio City Estrada do Istmo Cotai Macau;X-APPLE-RADIUS=500;X-TITLE=Estrada do Istmo:geo:113.5632663,22.1397693
END:VEVENT
BEGIN:VEVENT
DTSTART;VALUE=DATE:20160220
DTEND;VALUE=DATE:20160222
DTSTAMP:20260422T210913
CREATED:20151012T124255Z
LAST-MODIFIED:20151013T023922Z
UID:10005078-1455926400-1456099199@www.bcmagazine.net
SUMMARY:Madonna in Macau
DESCRIPTION:Madonna in Macau\nDate: 8pm\, 20-21 February\, 2016\nVenue: Studio City Event Centre\nTickets: MOP$10\,588\, $8\,888\, $7\,888\, $2\,588 from www.studiocity-macau.com\nMore info: Tickets on sale 16 October
URL:https://www.bcmagazine.net/event/madonna-in-macau-2016/
LOCATION:Studio City\, Estrada do Istmo\, Cotai\, Macau
CATEGORIES:2016,Concert,Music
GEO:22.1397693;113.5632663
X-APPLE-STRUCTURED-LOCATION;VALUE=URI;X-ADDRESS=Studio City Estrada do Istmo Cotai Macau;X-APPLE-RADIUS=500;X-TITLE=Estrada do Istmo:geo:113.5632663,22.1397693
END:VEVENT
END:VCALENDAR