BEGIN:VCALENDAR
VERSION:2.0
PRODID:-//bc magazine - ECPv6.15.20//NONSGML v1.0//EN
CALSCALE:GREGORIAN
METHOD:PUBLISH
X-WR-CALNAME:bc magazine
X-ORIGINAL-URL:https://www.bcmagazine.net
X-WR-CALDESC:Events for bc magazine
REFRESH-INTERVAL;VALUE=DURATION:PT1H
X-Robots-Tag:noindex
X-PUBLISHED-TTL:PT1H
BEGIN:VTIMEZONE
TZID:Asia/Hong_Kong
BEGIN:STANDARD
TZOFFSETFROM:+0800
TZOFFSETTO:+0800
TZNAME:HKT
DTSTART:20170101T000000
END:STANDARD
END:VTIMEZONE
BEGIN:VEVENT
DTSTART;TZID=Asia/Hong_Kong:20180814T200000
DTEND;TZID=Asia/Hong_Kong:20180814T200000
DTSTAMP:20260425T041144
CREATED:19180716T124702Z
LAST-MODIFIED:20180806T180106Z
UID:10004307-1534276800-1534276800@www.bcmagazine.net
SUMMARY:Tamaryn
DESCRIPTION:Tamaryn\nSupport: Manjusaka\nDate: 8pm\, 14 August\, 2018\nVenue: The Hub\, Wanchai\nTickets: $400\, $320
URL:https://www.bcmagazine.net/event/tamaryn-2018/
LOCATION:The Hub\, Wanchai\, 1/F\, 150 - 158 Lockhart Road\, Wanchai\, Hong Kong
CATEGORIES:2018,Concert,Music,Performing Arts
ATTACH;FMTTYPE=image/jpeg:https://www.bcmagazine.net/wp-content/uploads/1918/07/tamaryn-2018.jpg
END:VEVENT
END:VCALENDAR