BEGIN:VCALENDAR
VERSION:2.0
PRODID:-//bc magazine - ECPv6.15.20//NONSGML v1.0//EN
CALSCALE:GREGORIAN
METHOD:PUBLISH
X-WR-CALNAME:bc magazine
X-ORIGINAL-URL:https://www.bcmagazine.net
X-WR-CALDESC:Events for bc magazine
REFRESH-INTERVAL;VALUE=DURATION:PT1H
X-Robots-Tag:noindex
X-PUBLISHED-TTL:PT1H
BEGIN:VTIMEZONE
TZID:Asia/Hong_Kong
BEGIN:STANDARD
TZOFFSETFROM:+0800
TZOFFSETTO:+0800
TZNAME:HKT
DTSTART:20140101T000000
END:STANDARD
END:VTIMEZONE
BEGIN:VEVENT
DTSTART;TZID=Asia/Hong_Kong:20190523T190000
DTEND;TZID=Asia/Hong_Kong:20190523T190000
DTSTAMP:20260421T214132
CREATED:19180802T094055Z
LAST-MODIFIED:20181218T102350Z
UID:10004381-1558638000-1558638000@www.bcmagazine.net
SUMMARY:Lauv
DESCRIPTION:Lauv\nDate: 7pm\, 23 May\, 2019\nVenue: The Vine\nTickets: $450 from Ticketflap
URL:https://www.bcmagazine.net/event/lauv-hk-2019/
LOCATION:The Vine Centre\, 29 Burrows Street\, Wanchai\, Hong Kong
CATEGORIES:2019,Concert,concert,Music,Performing Arts
ATTACH;FMTTYPE=image/jpeg:https://www.bcmagazine.net/wp-content/uploads/1918/08/lauv-hk-2019.jpg
GEO:22.2762216;114.1763629
X-APPLE-STRUCTURED-LOCATION;VALUE=URI;X-ADDRESS=The Vine Centre 29 Burrows Street Wanchai Hong Kong;X-APPLE-RADIUS=500;X-TITLE=29 Burrows Street:geo:114.1763629,22.2762216
END:VEVENT
BEGIN:VEVENT
DTSTART;TZID=Asia/Hong_Kong:20190201T193000
DTEND;TZID=Asia/Hong_Kong:20190201T193000
DTSTAMP:20260421T214132
CREATED:19180802T094055Z
LAST-MODIFIED:20190924T041152Z
UID:10004373-1549049400-1549049400@www.bcmagazine.net
SUMMARY:Teenage Fanclub
DESCRIPTION:Teenage Fanclub\nDate: 7:30pm\, 1 February\, 2019\nVenue: The Vine\nTickets: $490 from Ticketflap
URL:https://www.bcmagazine.net/event/teenage-fanclub/
LOCATION:The Vine Centre\, 29 Burrows Street\, Wanchai\, Hong Kong
CATEGORIES:2019,Concert,Music,Performing Arts
ATTACH;FMTTYPE=image/png:https://www.bcmagazine.net/wp-content/uploads/1918/08/Teenage-Fanclub-2019.png
GEO:22.2762216;114.1763629
X-APPLE-STRUCTURED-LOCATION;VALUE=URI;X-ADDRESS=The Vine Centre 29 Burrows Street Wanchai Hong Kong;X-APPLE-RADIUS=500;X-TITLE=29 Burrows Street:geo:114.1763629,22.2762216
END:VEVENT
BEGIN:VEVENT
DTSTART;VALUE=DATE:20180602
DTEND;VALUE=DATE:20180603
DTSTAMP:20260421T214132
CREATED:19181023T091214Z
LAST-MODIFIED:20180227T094012Z
UID:10004510-1527897600-1527983999@www.bcmagazine.net
SUMMARY:TEDxWanChai: Emergence
DESCRIPTION:TEDxWanChai: Emergence\nDate: 2 June\, 2018\nVenue: The Vine\nTickets: tbc
URL:https://www.bcmagazine.net/event/tedxwanchai-emergence-2018/
LOCATION:The Vine Centre\, 29 Burrows Street\, Wanchai\, Hong Kong
CATEGORIES:2018,Other
GEO:22.2762216;114.1763629
X-APPLE-STRUCTURED-LOCATION;VALUE=URI;X-ADDRESS=The Vine Centre 29 Burrows Street Wanchai Hong Kong;X-APPLE-RADIUS=500;X-TITLE=29 Burrows Street:geo:114.1763629,22.2762216
END:VEVENT
BEGIN:VEVENT
DTSTART;TZID=Asia/Hong_Kong:20160607T200000
DTEND;TZID=Asia/Hong_Kong:20160607T200000
DTSTAMP:20260421T214132
CREATED:19160525T093108Z
LAST-MODIFIED:20160525T093719Z
UID:10001646-1465329600-1465329600@www.bcmagazine.net
SUMMARY:Joyce Jonathan
DESCRIPTION:Joyce Jonathan\nDate: 8pm\, 7 June\, 2016\nVenue: The Vine Centre\nTickets: $580\, $480\, $380 from Ticketflap
URL:https://www.bcmagazine.net/event/joyce-jonathan/
LOCATION:The Vine Centre\, 29 Burrows Street\, Wanchai\, Hong Kong
CATEGORIES:2016,Concert,Music
GEO:22.2762216;114.1763629
X-APPLE-STRUCTURED-LOCATION;VALUE=URI;X-ADDRESS=The Vine Centre 29 Burrows Street Wanchai Hong Kong;X-APPLE-RADIUS=500;X-TITLE=29 Burrows Street:geo:114.1763629,22.2762216
END:VEVENT
BEGIN:VEVENT
DTSTART;TZID=Asia/Hong_Kong:20160531T200000
DTEND;TZID=Asia/Hong_Kong:20160531T200000
DTSTAMP:20260421T214132
CREATED:19160301T093652Z
LAST-MODIFIED:20160301T093935Z
UID:10000344-1464724800-1464724800@www.bcmagazine.net
SUMMARY:Damien Rice
DESCRIPTION:Damien Rice\nDate: 8pm\, 31 May\, 2016\nVenue: The Vine Centre\nTickets: $560 from Ticketflap
URL:https://www.bcmagazine.net/event/damien-rice/
LOCATION:The Vine Centre\, 29 Burrows Street\, Wanchai\, Hong Kong
CATEGORIES:2016,Concert,Music
GEO:22.2762216;114.1763629
X-APPLE-STRUCTURED-LOCATION;VALUE=URI;X-ADDRESS=The Vine Centre 29 Burrows Street Wanchai Hong Kong;X-APPLE-RADIUS=500;X-TITLE=29 Burrows Street:geo:114.1763629,22.2762216
END:VEVENT
BEGIN:VEVENT
DTSTART;TZID=Asia/Hong_Kong:20160222T200000
DTEND;TZID=Asia/Hong_Kong:20160222T200000
DTSTAMP:20260421T214132
CREATED:19160105T144031Z
LAST-MODIFIED:20160105T145333Z
UID:10001064-1456171200-1456171200@www.bcmagazine.net
SUMMARY:Mika
DESCRIPTION:Mika Live in Hong Kong\nDate: 8pm\, 22 February\, 2016\nVenue: The Vine Centre\nTickets: $590 from Ticketflap
URL:https://www.bcmagazine.net/event/mika-2016/
LOCATION:The Vine Centre\, 29 Burrows Street\, Wanchai\, Hong Kong
CATEGORIES:2016,Concert,Music
GEO:22.2762216;114.1763629
X-APPLE-STRUCTURED-LOCATION;VALUE=URI;X-ADDRESS=The Vine Centre 29 Burrows Street Wanchai Hong Kong;X-APPLE-RADIUS=500;X-TITLE=29 Burrows Street:geo:114.1763629,22.2762216
END:VEVENT
BEGIN:VEVENT
DTSTART;TZID=Asia/Hong_Kong:20150918T200000
DTEND;TZID=Asia/Hong_Kong:20150918T220000
DTSTAMP:20260421T214132
CREATED:19150918T051206Z
LAST-MODIFIED:20150918T051449Z
UID:10000432-1442606400-1442613600@www.bcmagazine.net
SUMMARY:Irma
DESCRIPTION:Irma\nWhen: 8pm\, 18 September\, 2015\nWhere: The Vine Centre\nHow much: $380 (Advance)\, $430 (Door)
URL:https://www.bcmagazine.net/event/irma/
LOCATION:The Vine Centre\, 29 Burrows Street\, Wanchai\, Hong Kong
CATEGORIES:2015,Concert,Music
GEO:22.2762216;114.1763629
X-APPLE-STRUCTURED-LOCATION;VALUE=URI;X-ADDRESS=The Vine Centre 29 Burrows Street Wanchai Hong Kong;X-APPLE-RADIUS=500;X-TITLE=29 Burrows Street:geo:114.1763629,22.2762216
END:VEVENT
BEGIN:VEVENT
DTSTART;TZID=Asia/Hong_Kong:20150606T200000
DTEND;TZID=Asia/Hong_Kong:20150606T230000
DTSTAMP:20260421T214132
CREATED:20150413T120852Z
LAST-MODIFIED:20150425T094602Z
UID:10005745-1433620800-1433631600@www.bcmagazine.net
SUMMARY:Noughts & Exes: Goodnight & Goodbye – The Final Show @ The Vine Centre – 8pm\, 6 June\, 2015
DESCRIPTION:Noughts & Exes: Goodnight & Goodbye – The Final Show\nWhen: 8pm\, 6 June\, 2015\nWhere: The Vine Centre\nTickets: $180 (Advance with free EP)\, $220 (Door) from Ticketflap\nMore info:
URL:https://www.bcmagazine.net/event/noughts-exes-goodnight-goodbye-the-final-show-the-vine-centre-8pm-6-june-2015/
LOCATION:The Vine Centre\, 29 Burrows Street\, Wanchai\, Hong Kong
CATEGORIES:Concert,concert,Music,Performing Arts
GEO:22.2762216;114.1763629
X-APPLE-STRUCTURED-LOCATION;VALUE=URI;X-ADDRESS=The Vine Centre 29 Burrows Street Wanchai Hong Kong;X-APPLE-RADIUS=500;X-TITLE=29 Burrows Street:geo:114.1763629,22.2762216
END:VEVENT
BEGIN:VEVENT
DTSTART;TZID=Asia/Hong_Kong:20150603T200000
DTEND;TZID=Asia/Hong_Kong:20150603T230000
DTSTAMP:20260421T214132
CREATED:20150504T083331Z
LAST-MODIFIED:20150502T084905Z
UID:10005840-1433361600-1433372400@www.bcmagazine.net
SUMMARY:Mika @ The Vine Centre - 3 June\, 2015
DESCRIPTION:Mika Live in Hong Kong\nDate: 3 June\, 2015\nVenue: The Vine Centre\nTickets: $590 from Ticketflap
URL:https://www.bcmagazine.net/event/mika-the-vine-centre-3-june-2015/
LOCATION:The Vine Centre\, 29 Burrows Street\, Wanchai\, Hong Kong
CATEGORIES:Concert,Music
GEO:22.2762216;114.1763629
X-APPLE-STRUCTURED-LOCATION;VALUE=URI;X-ADDRESS=The Vine Centre 29 Burrows Street Wanchai Hong Kong;X-APPLE-RADIUS=500;X-TITLE=29 Burrows Street:geo:114.1763629,22.2762216
END:VEVENT
BEGIN:VEVENT
DTSTART;TZID=Asia/Hong_Kong:20150224T203000
DTEND;TZID=Asia/Hong_Kong:20150224T230000
DTSTAMP:20260421T214132
CREATED:20150123T080851Z
LAST-MODIFIED:20150121T152328Z
UID:10005557-1424809800-1424818800@www.bcmagazine.net
SUMMARY:The Thurston Moore Band @ The Vine Centre - 8pm 24 February\, 2015
DESCRIPTION:Thurston Moore\, the founder and ringleader of Sonic Youth\, has been at the forefront of the alternative rock scene since that particular sobriquet was first used to signify any music that challenged and defied the mainstream standard. Thurston’s current band line-up includes Deb Googe (of My Bloody Valentine\, bass\, UK)\, Steve Shelley (Sonic Youth\, drums\, USA) James Sedwards ( Chrome Hoof\, guitars\, UK). \nThe Thurston Moore Band\nWhen: 8pm 24 February\, 2015\nWhere: The Vine Centre\nHow Much: $450 from eventbrite
URL:https://www.bcmagazine.net/event/the-thurston-moore-band-the-vine-centre-8pm-24-february-2015/
LOCATION:The Vine Centre\, 29 Burrows Street\, Wanchai\, Hong Kong
CATEGORIES:Concert,Music
GEO:22.2762216;114.1763629
X-APPLE-STRUCTURED-LOCATION;VALUE=URI;X-ADDRESS=The Vine Centre 29 Burrows Street Wanchai Hong Kong;X-APPLE-RADIUS=500;X-TITLE=29 Burrows Street:geo:114.1763629,22.2762216
END:VEVENT
BEGIN:VEVENT
DTSTART;TZID=Asia/Hong_Kong:20150130T200000
DTEND;TZID=Asia/Hong_Kong:20150130T230000
DTSTAMP:20260421T214132
CREATED:20150123T000852Z
LAST-MODIFIED:20150121T151554Z
UID:10005556-1422648000-1422658800@www.bcmagazine.net
SUMMARY:Swans @ The Vine Centre - 8pm\, 30 January\, 2015
DESCRIPTION:The Swans are one of the most influential experimental rock bands to emerge from New York. Originally formed in 1982 the line-up consisted of Michael Gira and a shifting selection of musicians. The band released 10 albums before Gira disbanded them in 1997 to explore other musical avenues. \nAfter years of pursuing Angels of Light and recording and producing a diverse roster of artists for his Young God label\, Michael Gira decided to bring back the Swans during an Angels of Light show. He stated that in the middle of playing a song onstage with “large chords that were very sustained and swaying\, in this sort of slave-ship rhythm\,” he felt “a nascent urge right then to re-form or reinvigorate Swans because I remembered how elevating and intense that experience was.”has decided to reconvene his legendary group Swans. As he says: “THIS IS NOT A REUNION. It’s not some dumb-ass nostalgia act. It is not repeating the past. After 5 Angels of Light albums\, I needed a way to move FORWARD\, in a new direction\, and it just so happens that revivifying the idea of Swans is allowing me to do that.” \nThe Swans are: Michael Gira\, Norman Westberg\, Christoph Hahn\, Phil Puleo\, Thor Harris\, Christopher Pravdica. \nSwans Live in Hong Kong\nWhen: 8pm\, 30 January\, 2015\nWhere: The Vine Center\nHow Much: $495 from eventbrite
URL:https://www.bcmagazine.net/event/swans-the-vine-center-8pm-30-january-2015/
LOCATION:The Vine Centre\, 29 Burrows Street\, Wanchai\, Hong Kong
CATEGORIES:Concert,Music
GEO:22.2762216;114.1763629
X-APPLE-STRUCTURED-LOCATION;VALUE=URI;X-ADDRESS=The Vine Centre 29 Burrows Street Wanchai Hong Kong;X-APPLE-RADIUS=500;X-TITLE=29 Burrows Street:geo:114.1763629,22.2762216
END:VEVENT
BEGIN:VEVENT
DTSTART;TZID=Asia/Hong_Kong:20150127T193000
DTEND;TZID=Asia/Hong_Kong:20150127T230000
DTSTAMP:20260421T214132
CREATED:20150127T000815Z
LAST-MODIFIED:20150127T042422Z
UID:10005559-1422387000-1422399600@www.bcmagazine.net
SUMMARY:The 1975 @ The Vine Centre - 7:30pm\, 27 January\, 2015
DESCRIPTION:English indie rock band The 1975 return to Hong Kong for their second gig. Formed in Manchester in 2012 the group which consists of Matt Healy (vocals\, guitar)\, Adam Hann (guitar)\, George Daniel (drums\, backing vocals) and Ross MacDonald (bass) have been playing music together since 2004. As The 1975 they have released four Eps: Facedown (2012)\, Sex (2013)\, Music for Cars (2013) and IV (2013) ; a self-titled debut album which debuted at No. 1 in the UK Albums Chart on 8 September 2013 and a number of singles. \nThe 1975\nSupport: Chochukmo\nWhen: 8pm\, 27 January\, 2015\nWhere: The Vine Centre\nHow much: $590
URL:https://www.bcmagazine.net/event/the-1975-the-vine-centre-8pm-27-january-2015/
LOCATION:The Vine Centre\, 29 Burrows Street\, Wanchai\, Hong Kong
CATEGORIES:Concert,Music,Nightlife,Performing Arts
GEO:22.2762216;114.1763629
X-APPLE-STRUCTURED-LOCATION;VALUE=URI;X-ADDRESS=The Vine Centre 29 Burrows Street Wanchai Hong Kong;X-APPLE-RADIUS=500;X-TITLE=29 Burrows Street:geo:114.1763629,22.2762216
END:VEVENT
END:VCALENDAR