BEGIN:VCALENDAR
VERSION:2.0
PRODID:-//bc magazine - ECPv6.15.20//NONSGML v1.0//EN
CALSCALE:GREGORIAN
METHOD:PUBLISH
X-WR-CALNAME:bc magazine
X-ORIGINAL-URL:https://www.bcmagazine.net
X-WR-CALDESC:Events for bc magazine
REFRESH-INTERVAL;VALUE=DURATION:PT1H
X-Robots-Tag:noindex
X-PUBLISHED-TTL:PT1H
BEGIN:VTIMEZONE
TZID:Asia/Hong_Kong
BEGIN:STANDARD
TZOFFSETFROM:+0800
TZOFFSETTO:+0800
TZNAME:HKT
DTSTART:20180101T000000
END:STANDARD
END:VTIMEZONE
BEGIN:VEVENT
DTSTART;TZID=Asia/Hong_Kong:20200318T200000
DTEND;TZID=Asia/Hong_Kong:20200318T200000
DTSTAMP:20260421T222024
CREATED:19190711T044512Z
LAST-MODIFIED:20200304T045328Z
UID:10004856-1584561600-1584561600@www.bcmagazine.net
SUMMARY:YungBlud - Cancelled
DESCRIPTION:YungBlud – Twisted Tales of the Ritalin\nDate: 8pm\, 18 March\, 2020\nVenue: This Town Needs (TTN)\nTickets: $420\, $380 (advance) from Ticketflap
URL:https://www.bcmagazine.net/event/yungblud-2020/
LOCATION:This Town Needs (TTN)\, 1/F Ocean One\, 6 Shung Shun Street\, Yau Tong\, Hong Kong
CATEGORIES:2020,Cancelled,Concert,Music,Performing Arts
ATTACH;FMTTYPE=image/jpeg:https://www.bcmagazine.net/wp-content/uploads/2019/07/yungblud-hk-2020.jpg
GEO:22.292861;114.23782
X-APPLE-STRUCTURED-LOCATION;VALUE=URI;X-ADDRESS=This Town Needs (TTN) 1/F Ocean One 6 Shung Shun Street Yau Tong Hong Kong;X-APPLE-RADIUS=500;X-TITLE=1/F Ocean One\, 6 Shung Shun Street:geo:114.23782,22.292861
END:VEVENT
BEGIN:VEVENT
DTSTART;TZID=Asia/Hong_Kong:20200310T200000
DTEND;TZID=Asia/Hong_Kong:20200310T200000
DTSTAMP:20260421T222024
CREATED:19190711T044512Z
LAST-MODIFIED:20191219T013406Z
UID:10004859-1583870400-1583870400@www.bcmagazine.net
SUMMARY:Fat White Family
DESCRIPTION:Fat White Family\nDate: 8pm\, 10 March\, 2020\nVenue: This Town Needs (TTN)\nTickets: $460\, $360 (advance) from Ticketflap
URL:https://www.bcmagazine.net/event/fat-white-family-hk-2020/
LOCATION:This Town Needs (TTN)\, 1/F Ocean One\, 6 Shung Shun Street\, Yau Tong\, Hong Kong
CATEGORIES:2020,Concert,Music,Performing Arts
ATTACH;FMTTYPE=image/jpeg:https://www.bcmagazine.net/wp-content/uploads/1919/07/fat-white-family.jpg
GEO:22.292861;114.23782
X-APPLE-STRUCTURED-LOCATION;VALUE=URI;X-ADDRESS=This Town Needs (TTN) 1/F Ocean One 6 Shung Shun Street Yau Tong Hong Kong;X-APPLE-RADIUS=500;X-TITLE=1/F Ocean One\, 6 Shung Shun Street:geo:114.23782,22.292861
END:VEVENT
BEGIN:VEVENT
DTSTART;TZID=Asia/Hong_Kong:20200306T193000
DTEND;TZID=Asia/Hong_Kong:20200306T193000
DTSTAMP:20260421T222024
CREATED:19180802T094055Z
LAST-MODIFIED:20191219T032919Z
UID:10004369-1583523000-1583523000@www.bcmagazine.net
SUMMARY:Bruno Major
DESCRIPTION:Bruno Major\nDate: 7:30pm\, 6 March\, 2020\nVenue: This Town Needs (TTN)\nTickets: $360 from Ticketflap
URL:https://www.bcmagazine.net/event/bruno-major-2020/
LOCATION:This Town Needs (TTN)\, 1/F Ocean One\, 6 Shung Shun Street\, Yau Tong\, Hong Kong
CATEGORIES:2020,Concert,Music,Performing Arts
ATTACH;FMTTYPE=image/jpeg:https://www.bcmagazine.net/wp-content/uploads/1918/08/Bruno-Major-hk-2020.jpg
GEO:22.292861;114.23782
X-APPLE-STRUCTURED-LOCATION;VALUE=URI;X-ADDRESS=This Town Needs (TTN) 1/F Ocean One 6 Shung Shun Street Yau Tong Hong Kong;X-APPLE-RADIUS=500;X-TITLE=1/F Ocean One\, 6 Shung Shun Street:geo:114.23782,22.292861
END:VEVENT
BEGIN:VEVENT
DTSTART;TZID=Asia/Hong_Kong:20200305T193000
DTEND;TZID=Asia/Hong_Kong:20200305T193000
DTSTAMP:20260421T222024
CREATED:19190711T044512Z
LAST-MODIFIED:20191219T012310Z
UID:10004857-1583436600-1583436600@www.bcmagazine.net
SUMMARY:Omar Apollo
DESCRIPTION:Omar Apollo\nDate: 7:30pm\, 5 March\, 2020\nVenue: This Town Needs (TTN)\nTickets: $410 from Ticketflap
URL:https://www.bcmagazine.net/event/omar-apollo-hk-2020/
LOCATION:This Town Needs (TTN)\, 1/F Ocean One\, 6 Shung Shun Street\, Yau Tong\, Hong Kong
CATEGORIES:2020,Concert,Music,Performing Arts
ATTACH;FMTTYPE=image/jpeg:https://www.bcmagazine.net/wp-content/uploads/1919/07/omar-apollo-hk-2020.jpg
GEO:22.292861;114.23782
X-APPLE-STRUCTURED-LOCATION;VALUE=URI;X-ADDRESS=This Town Needs (TTN) 1/F Ocean One 6 Shung Shun Street Yau Tong Hong Kong;X-APPLE-RADIUS=500;X-TITLE=1/F Ocean One\, 6 Shung Shun Street:geo:114.23782,22.292861
END:VEVENT
BEGIN:VEVENT
DTSTART;TZID=Asia/Hong_Kong:20200211T190000
DTEND;TZID=Asia/Hong_Kong:20200211T190000
DTSTAMP:20260421T222024
CREATED:19190711T044512Z
LAST-MODIFIED:20191219T014626Z
UID:10004861-1581447600-1581447600@www.bcmagazine.net
SUMMARY:Stiff Little Fingers
DESCRIPTION:Stiff Little Fingers – Inflammable Material 2020 Tour\nSupport: The Side Burns\nDate: 7pm\, 11 February\, 2020\nVenue: This Town Needs (TTN)\nTickets: $550\, $490 (advance) from Ticketflap
URL:https://www.bcmagazine.net/event/stiff-little-fingers-hk-2020/
LOCATION:This Town Needs (TTN)\, 1/F Ocean One\, 6 Shung Shun Street\, Yau Tong\, Hong Kong
CATEGORIES:2020,Concert,Music,Performing Arts
ATTACH;FMTTYPE=image/jpeg:https://www.bcmagazine.net/wp-content/uploads/1919/07/stiff-little-fingers-hk-2020.jpg
GEO:22.292861;114.23782
X-APPLE-STRUCTURED-LOCATION;VALUE=URI;X-ADDRESS=This Town Needs (TTN) 1/F Ocean One 6 Shung Shun Street Yau Tong Hong Kong;X-APPLE-RADIUS=500;X-TITLE=1/F Ocean One\, 6 Shung Shun Street:geo:114.23782,22.292861
END:VEVENT
BEGIN:VEVENT
DTSTART;TZID=Asia/Hong_Kong:20200124T200000
DTEND;TZID=Asia/Hong_Kong:20200124T200000
DTSTAMP:20260421T222024
CREATED:19190820T025116Z
LAST-MODIFIED:20191109T140451Z
UID:10004894-1579896000-1579896000@www.bcmagazine.net
SUMMARY:As I Lay Dying
DESCRIPTION:As I Lay Dying\nDate: 8pm\, 24 January\, 2020\nVenue: This Town Needs\nTickets: $520\, $420 (advance)
URL:https://www.bcmagazine.net/event/as-i-lay-dying-hk-2020/
LOCATION:This Town Needs (TTN)\, 1/F Ocean One\, 6 Shung Shun Street\, Yau Tong\, Hong Kong
CATEGORIES:2020,Concert,Music,Performing Arts
ATTACH;FMTTYPE=image/jpeg:https://www.bcmagazine.net/wp-content/uploads/1919/08/As-I-Lay-Dying.jpg
GEO:22.292861;114.23782
X-APPLE-STRUCTURED-LOCATION;VALUE=URI;X-ADDRESS=This Town Needs (TTN) 1/F Ocean One 6 Shung Shun Street Yau Tong Hong Kong;X-APPLE-RADIUS=500;X-TITLE=1/F Ocean One\, 6 Shung Shun Street:geo:114.23782,22.292861
END:VEVENT
BEGIN:VEVENT
DTSTART;TZID=Asia/Hong_Kong:20200123T200000
DTEND;TZID=Asia/Hong_Kong:20200123T200000
DTSTAMP:20260421T222024
CREATED:19190711T044512Z
LAST-MODIFIED:20191129T154353Z
UID:10004855-1579809600-1579809600@www.bcmagazine.net
SUMMARY:Slaughter to Prevail
DESCRIPTION:Slaughter to Prevail\nDate: 8pm\, 23 January\, 2020\nVenue: This Town Needs (TTN)\nTickets: $360\, $260
URL:https://www.bcmagazine.net/event/slaughter-to-prevail-hk-2020/
LOCATION:This Town Needs (TTN)\, 1/F Ocean One\, 6 Shung Shun Street\, Yau Tong\, Hong Kong
CATEGORIES:2020,Concert,Music,Performing Arts
ATTACH;FMTTYPE=image/jpeg:https://www.bcmagazine.net/wp-content/uploads/1919/07/Slaughter-to-Prevail-hk-2020.jpg
GEO:22.292861;114.23782
X-APPLE-STRUCTURED-LOCATION;VALUE=URI;X-ADDRESS=This Town Needs (TTN) 1/F Ocean One 6 Shung Shun Street Yau Tong Hong Kong;X-APPLE-RADIUS=500;X-TITLE=1/F Ocean One\, 6 Shung Shun Street:geo:114.23782,22.292861
END:VEVENT
BEGIN:VEVENT
DTSTART;TZID=Asia/Hong_Kong:20191212T193000
DTEND;TZID=Asia/Hong_Kong:20191212T193000
DTSTAMP:20260421T222024
CREATED:19190711T044512Z
LAST-MODIFIED:20191015T035356Z
UID:10004852-1576179000-1576179000@www.bcmagazine.net
SUMMARY:9m88
DESCRIPTION:9m88\nDate: 7:30pm\, 12 December\, 2019\nVenue: This Town Needs (TTN)\nTickets: $390 from Ticketflap
URL:https://www.bcmagazine.net/event/9m88-hk-2019/
LOCATION:This Town Needs (TTN)\, 1/F Ocean One\, 6 Shung Shun Street\, Yau Tong\, Hong Kong
CATEGORIES:2019,Concert,Music,Performing Arts
GEO:22.292861;114.23782
X-APPLE-STRUCTURED-LOCATION;VALUE=URI;X-ADDRESS=This Town Needs (TTN) 1/F Ocean One 6 Shung Shun Street Yau Tong Hong Kong;X-APPLE-RADIUS=500;X-TITLE=1/F Ocean One\, 6 Shung Shun Street:geo:114.23782,22.292861
END:VEVENT
BEGIN:VEVENT
DTSTART;TZID=Asia/Hong_Kong:20191129T193000
DTEND;TZID=Asia/Hong_Kong:20191129T193000
DTSTAMP:20260421T222024
CREATED:19181023T145036Z
LAST-MODIFIED:20190807T115012Z
UID:10004553-1575055800-1575055800@www.bcmagazine.net
SUMMARY:Sales
DESCRIPTION:Sales\nDate: 7:30pm\, 29 November\, 2019\nVenue: This Town Needs\nTickets: $360 from Ticketflap
URL:https://www.bcmagazine.net/event/sales-hk-2019/
LOCATION:This Town Needs (TTN)\, 1/F Ocean One\, 6 Shung Shun Street\, Yau Tong\, Hong Kong
CATEGORIES:2019,Concert,Music,Performing Arts
ATTACH;FMTTYPE=image/jpeg:https://www.bcmagazine.net/wp-content/uploads/1918/10/sales-hk-2019.jpg
GEO:22.292861;114.23782
X-APPLE-STRUCTURED-LOCATION;VALUE=URI;X-ADDRESS=This Town Needs (TTN) 1/F Ocean One 6 Shung Shun Street Yau Tong Hong Kong;X-APPLE-RADIUS=500;X-TITLE=1/F Ocean One\, 6 Shung Shun Street:geo:114.23782,22.292861
END:VEVENT
BEGIN:VEVENT
DTSTART;TZID=Asia/Hong_Kong:20191114T200000
DTEND;TZID=Asia/Hong_Kong:20191114T200000
DTSTAMP:20260421T222024
CREATED:19160429T221525Z
LAST-MODIFIED:20190930T105853Z
UID:10001593-1573761600-1573761600@www.bcmagazine.net
SUMMARY:The Marías
DESCRIPTION:The Marías\nDate: 8pm\, 14 November\, 2019\nVenue: This Town Needs (TTN)\nTickets: $450\, $380 (advance) from Ticketflap
URL:https://www.bcmagazine.net/event/the-marias-hk-2019/
LOCATION:This Town Needs (TTN)\, 1/F Ocean One\, 6 Shung Shun Street\, Yau Tong\, Hong Kong
CATEGORIES:2019,Concert,Music,Performing Arts
ATTACH;FMTTYPE=image/jpeg:https://www.bcmagazine.net/wp-content/uploads/1916/04/The-Marías-hk-2019.jpg
GEO:22.292861;114.23782
X-APPLE-STRUCTURED-LOCATION;VALUE=URI;X-ADDRESS=This Town Needs (TTN) 1/F Ocean One 6 Shung Shun Street Yau Tong Hong Kong;X-APPLE-RADIUS=500;X-TITLE=1/F Ocean One\, 6 Shung Shun Street:geo:114.23782,22.292861
END:VEVENT
BEGIN:VEVENT
DTSTART;TZID=Asia/Hong_Kong:20191027T200000
DTEND;TZID=Asia/Hong_Kong:20191027T200000
DTSTAMP:20260421T222024
CREATED:19181023T145036Z
LAST-MODIFIED:20190807T113713Z
UID:10004551-1572206400-1572206400@www.bcmagazine.net
SUMMARY:Jupiter Zeus
DESCRIPTION:Jupiter Zeus\nDate: 8pm\, 27 October\, 2019\nVenue: This Town Needs\nTickets: tbc
URL:https://www.bcmagazine.net/event/jupiter-zeus-hk-2019/
LOCATION:This Town Needs (TTN)\, 1/F Ocean One\, 6 Shung Shun Street\, Yau Tong\, Hong Kong
CATEGORIES:2019,Concert,Music,Performing Arts
ATTACH;FMTTYPE=image/jpeg:https://www.bcmagazine.net/wp-content/uploads/1918/10/jupiter-zeus-2019.jpg
GEO:22.292861;114.23782
X-APPLE-STRUCTURED-LOCATION;VALUE=URI;X-ADDRESS=This Town Needs (TTN) 1/F Ocean One 6 Shung Shun Street Yau Tong Hong Kong;X-APPLE-RADIUS=500;X-TITLE=1/F Ocean One\, 6 Shung Shun Street:geo:114.23782,22.292861
END:VEVENT
BEGIN:VEVENT
DTSTART;TZID=Asia/Hong_Kong:20191016T193000
DTEND;TZID=Asia/Hong_Kong:20191016T193000
DTSTAMP:20260421T222024
CREATED:19181023T145036Z
LAST-MODIFIED:20190605T150426Z
UID:10004527-1571254200-1571254200@www.bcmagazine.net
SUMMARY:Men I Trust
DESCRIPTION:Men I Trust\nDate: 8pm\, 16 October\, 2019\nVenue: This Town Needs (TTN)\nTickets: $360 from Ticketflap
URL:https://www.bcmagazine.net/event/men-i-trust-hk-2019/
LOCATION:This Town Needs (TTN)\, 1/F Ocean One\, 6 Shung Shun Street\, Yau Tong\, Hong Kong
CATEGORIES:2019,Concert,Music,Performing Arts
ATTACH;FMTTYPE=image/jpeg:https://www.bcmagazine.net/wp-content/uploads/2018/10/men-i-trust-hk-2019.jpg
GEO:22.292861;114.23782
X-APPLE-STRUCTURED-LOCATION;VALUE=URI;X-ADDRESS=This Town Needs (TTN) 1/F Ocean One 6 Shung Shun Street Yau Tong Hong Kong;X-APPLE-RADIUS=500;X-TITLE=1/F Ocean One\, 6 Shung Shun Street:geo:114.23782,22.292861
END:VEVENT
BEGIN:VEVENT
DTSTART;TZID=Asia/Hong_Kong:20191001T200000
DTEND;TZID=Asia/Hong_Kong:20191001T200000
DTSTAMP:20260421T222024
CREATED:19181023T145036Z
LAST-MODIFIED:20190807T114318Z
UID:10004552-1569960000-1569960000@www.bcmagazine.net
SUMMARY:Sky-Hi + Salu
DESCRIPTION:Sky-Hi + Salu – Say Goodbye to the System\nDate: 8pm\, 1 October\, 2019\nVenue: This Town Needs\nTickets: $730\, $550 from Cityline
URL:https://www.bcmagazine.net/event/sky-hi-salu/
LOCATION:This Town Needs (TTN)\, 1/F Ocean One\, 6 Shung Shun Street\, Yau Tong\, Hong Kong
CATEGORIES:2019,Concert,Music,Performing Arts
ATTACH;FMTTYPE=image/jpeg:https://www.bcmagazine.net/wp-content/uploads/1918/10/Sky-Hi-x-Salu.jpg
GEO:22.292861;114.23782
X-APPLE-STRUCTURED-LOCATION;VALUE=URI;X-ADDRESS=This Town Needs (TTN) 1/F Ocean One 6 Shung Shun Street Yau Tong Hong Kong;X-APPLE-RADIUS=500;X-TITLE=1/F Ocean One\, 6 Shung Shun Street:geo:114.23782,22.292861
END:VEVENT
BEGIN:VEVENT
DTSTART;TZID=Asia/Hong_Kong:20190922T200000
DTEND;TZID=Asia/Hong_Kong:20190922T200000
DTSTAMP:20260421T222024
CREATED:19181023T145036Z
LAST-MODIFIED:20190704T152335Z
UID:10004547-1569182400-1569182400@www.bcmagazine.net
SUMMARY:Mono
DESCRIPTION:Mono – Nowhere Now Here Asia Tour 2019\nDate: 8pm\, 22 September\, 2019\nVenue: This Town Needs\nTickets: $520\, $420 (advance)
URL:https://www.bcmagazine.net/event/mono-hk-2019/
LOCATION:This Town Needs (TTN)\, 1/F Ocean One\, 6 Shung Shun Street\, Yau Tong\, Hong Kong
CATEGORIES:2019,Concert,Music,Performing Arts
ATTACH;FMTTYPE=image/jpeg:https://www.bcmagazine.net/wp-content/uploads/1918/10/mono-hk-2019.jpg
GEO:22.292861;114.23782
X-APPLE-STRUCTURED-LOCATION;VALUE=URI;X-ADDRESS=This Town Needs (TTN) 1/F Ocean One 6 Shung Shun Street Yau Tong Hong Kong;X-APPLE-RADIUS=500;X-TITLE=1/F Ocean One\, 6 Shung Shun Street:geo:114.23782,22.292861
END:VEVENT
BEGIN:VEVENT
DTSTART;TZID=Asia/Hong_Kong:20190918T200000
DTEND;TZID=Asia/Hong_Kong:20190918T200000
DTSTAMP:20260421T222024
CREATED:19181023T145036Z
LAST-MODIFIED:20190704T153854Z
UID:10004548-1568836800-1568836800@www.bcmagazine.net
SUMMARY:Larkin Poe
DESCRIPTION:Larkin Poe\nDate: 8pm\, 18 September\, 2019\nVenue: This Town Needs\nTickets: $500\, $450 (advance) from Ticketflap
URL:https://www.bcmagazine.net/event/larkin-poe-hk-2019/
LOCATION:This Town Needs (TTN)\, 1/F Ocean One\, 6 Shung Shun Street\, Yau Tong\, Hong Kong
CATEGORIES:2019,Concert,Music,Performing Arts
ATTACH;FMTTYPE=image/jpeg:https://www.bcmagazine.net/wp-content/uploads/1918/10/larkin-poe-2019.jpg
GEO:22.292861;114.23782
X-APPLE-STRUCTURED-LOCATION;VALUE=URI;X-ADDRESS=This Town Needs (TTN) 1/F Ocean One 6 Shung Shun Street Yau Tong Hong Kong;X-APPLE-RADIUS=500;X-TITLE=1/F Ocean One\, 6 Shung Shun Street:geo:114.23782,22.292861
END:VEVENT
BEGIN:VEVENT
DTSTART;TZID=Asia/Hong_Kong:20190913T193000
DTEND;TZID=Asia/Hong_Kong:20190913T193000
DTSTAMP:20260421T222024
CREATED:19181023T145036Z
LAST-MODIFIED:20190807T115256Z
UID:10004554-1568403000-1568403000@www.bcmagazine.net
SUMMARY:MadeinTYO
DESCRIPTION:MadeinTYO\nDate: 7:30pm\, 13 September\, 2019\nVenue: This Town Needs\nTickets: $440\, $380 (advance) from Ticketflap
URL:https://www.bcmagazine.net/event/madeintyo-hk-2019/
LOCATION:This Town Needs (TTN)\, 1/F Ocean One\, 6 Shung Shun Street\, Yau Tong\, Hong Kong
CATEGORIES:2019,Concert,Music,Performing Arts
ATTACH;FMTTYPE=image/jpeg:https://www.bcmagazine.net/wp-content/uploads/1918/10/madeintyo-hk-2019.jpg
GEO:22.292861;114.23782
X-APPLE-STRUCTURED-LOCATION;VALUE=URI;X-ADDRESS=This Town Needs (TTN) 1/F Ocean One 6 Shung Shun Street Yau Tong Hong Kong;X-APPLE-RADIUS=500;X-TITLE=1/F Ocean One\, 6 Shung Shun Street:geo:114.23782,22.292861
END:VEVENT
BEGIN:VEVENT
DTSTART;TZID=Asia/Hong_Kong:20190912T203000
DTEND;TZID=Asia/Hong_Kong:20190912T203000
DTSTAMP:20260421T222024
CREATED:19160919T054156Z
LAST-MODIFIED:20190619T132740Z
UID:10002135-1568320200-1568320200@www.bcmagazine.net
SUMMARY:From The Jam
DESCRIPTION:From The Jam\nDate: 8:30pm\, 12 September\, 2019\nVenue: This Town Needs (TTN)\nTickets: $550\, $490 from Ticketflap
URL:https://www.bcmagazine.net/event/from-the-jam-hk-2019/
LOCATION:This Town Needs (TTN)\, 1/F Ocean One\, 6 Shung Shun Street\, Yau Tong\, Hong Kong
CATEGORIES:2019,Concert,Music,Performing Arts
ATTACH;FMTTYPE=image/jpeg:https://www.bcmagazine.net/wp-content/uploads/1916/09/from-the-jam-hk-2019.jpg
GEO:22.292861;114.23782
X-APPLE-STRUCTURED-LOCATION;VALUE=URI;X-ADDRESS=This Town Needs (TTN) 1/F Ocean One 6 Shung Shun Street Yau Tong Hong Kong;X-APPLE-RADIUS=500;X-TITLE=1/F Ocean One\, 6 Shung Shun Street:geo:114.23782,22.292861
END:VEVENT
BEGIN:VEVENT
DTSTART;TZID=Asia/Hong_Kong:20190906T193000
DTEND;TZID=Asia/Hong_Kong:20190906T193000
DTSTAMP:20260421T222024
CREATED:20190711T044512Z
LAST-MODIFIED:20190717T042346Z
UID:10006590-1567798200-1567798200@www.bcmagazine.net
SUMMARY:The Twilight Sad
DESCRIPTION:The Twilight Sad\nDate: 7:30pm\, 6 September\, 2019\nVenue: This Town Needs (TTN)\nTickets: $350 from Ticketflap
URL:https://www.bcmagazine.net/event/the-twilight-sad-2019/
LOCATION:This Town Needs (TTN)\, 1/F Ocean One\, 6 Shung Shun Street\, Yau Tong\, Hong Kong
CATEGORIES:2019,Concert,Music,Performing Arts
ATTACH;FMTTYPE=image/jpeg:https://www.bcmagazine.net/wp-content/uploads/1919/04/The-Twilight-Sad-2019.jpg
GEO:22.292861;114.23782
X-APPLE-STRUCTURED-LOCATION;VALUE=URI;X-ADDRESS=This Town Needs (TTN) 1/F Ocean One 6 Shung Shun Street Yau Tong Hong Kong;X-APPLE-RADIUS=500;X-TITLE=1/F Ocean One\, 6 Shung Shun Street:geo:114.23782,22.292861
END:VEVENT
BEGIN:VEVENT
DTSTART;TZID=Asia/Hong_Kong:20190831T193000
DTEND;TZID=Asia/Hong_Kong:20190831T193000
DTSTAMP:20260421T222024
CREATED:19190711T044512Z
LAST-MODIFIED:20190717T042639Z
UID:10004846-1567279800-1567279800@www.bcmagazine.net
SUMMARY:Jordan Rakei
DESCRIPTION:Jordan Rakei\nDate: 7:30pm\, 31 August\, 2019\nVenue: This Town Needs (TTN)\nTickets: $350 from Ticketflap
URL:https://www.bcmagazine.net/event/jordan-rakei-2019/
LOCATION:This Town Needs (TTN)\, 1/F Ocean One\, 6 Shung Shun Street\, Yau Tong\, Hong Kong
CATEGORIES:2019,Concert,Music,Performing Arts
ATTACH;FMTTYPE=image/jpeg:https://www.bcmagazine.net/wp-content/uploads/2019/07/Jordan-Rakei-2019.jpg
GEO:22.292861;114.23782
X-APPLE-STRUCTURED-LOCATION;VALUE=URI;X-ADDRESS=This Town Needs (TTN) 1/F Ocean One 6 Shung Shun Street Yau Tong Hong Kong;X-APPLE-RADIUS=500;X-TITLE=1/F Ocean One\, 6 Shung Shun Street:geo:114.23782,22.292861
END:VEVENT
BEGIN:VEVENT
DTSTART;VALUE=DATE:20190824
DTEND;VALUE=DATE:20190826
DTSTAMP:20260421T222024
CREATED:19190711T044512Z
LAST-MODIFIED:20190717T043744Z
UID:10004848-1566604800-1566777599@www.bcmagazine.net
SUMMARY:Detuned Radio Festival
DESCRIPTION:Detuned Radio Festival\n美秀集團\, Her Name In Blood\, Instinct of Sight\, I Mean Us\, JB (Wilfredo Jr Alconaba) x Greytone\, TYNT\, Thud\, per se\nDate: 10am\, 24-25 August\, 2019\nVenue: This Town Needs (TTN)\nTickets: $780\, $480
URL:https://www.bcmagazine.net/event/detuned-radio-festival-2019/
LOCATION:This Town Needs (TTN)\, 1/F Ocean One\, 6 Shung Shun Street\, Yau Tong\, Hong Kong
CATEGORIES:2019,Concert,Music,Performing Arts
ATTACH;FMTTYPE=image/jpeg:https://www.bcmagazine.net/wp-content/uploads/1919/07/Detuned-Radio-Festival-2019.jpg
GEO:22.292861;114.23782
X-APPLE-STRUCTURED-LOCATION;VALUE=URI;X-ADDRESS=This Town Needs (TTN) 1/F Ocean One 6 Shung Shun Street Yau Tong Hong Kong;X-APPLE-RADIUS=500;X-TITLE=1/F Ocean One\, 6 Shung Shun Street:geo:114.23782,22.292861
END:VEVENT
BEGIN:VEVENT
DTSTART;TZID=Asia/Hong_Kong:20190817T200000
DTEND;TZID=Asia/Hong_Kong:20190817T200000
DTSTAMP:20260421T222024
CREATED:19160919T054156Z
LAST-MODIFIED:20190611T225333Z
UID:10002133-1566072000-1566072000@www.bcmagazine.net
SUMMARY:The Black Skirts
DESCRIPTION:The Black Skirts – Thirsty\nDate: 8pm\, 17 August\, 2019\nVenue: This Town Needs (TTN)\nTickets: $780\, $580 (advance)
URL:https://www.bcmagazine.net/event/the-black-skirts-hk-2019/
LOCATION:This Town Needs (TTN)\, 1/F Ocean One\, 6 Shung Shun Street\, Yau Tong\, Hong Kong
CATEGORIES:2019,Concert,Music,Performing Arts
ATTACH;FMTTYPE=image/jpeg:https://www.bcmagazine.net/wp-content/uploads/1916/09/the-black-skirts-hk-2019.jpg
GEO:22.292861;114.23782
X-APPLE-STRUCTURED-LOCATION;VALUE=URI;X-ADDRESS=This Town Needs (TTN) 1/F Ocean One 6 Shung Shun Street Yau Tong Hong Kong;X-APPLE-RADIUS=500;X-TITLE=1/F Ocean One\, 6 Shung Shun Street:geo:114.23782,22.292861
END:VEVENT
BEGIN:VEVENT
DTSTART;TZID=Asia/Hong_Kong:20190816T150000
DTEND;TZID=Asia/Hong_Kong:20190816T150000
DTSTAMP:20260421T222024
CREATED:19190711T044512Z
LAST-MODIFIED:20190717T043228Z
UID:10004847-1565967600-1565967600@www.bcmagazine.net
SUMMARY:Bloom Festival
DESCRIPTION:Bloom Festival\nMatt Force\, Keni Lee\,  小撒亞人 Lil $aiyan\, DylanHing\, Ginza Pilot\,  Chilldous\, V5\, Xabitat\, Grinder\, DJ Adipta\, Luna Is A Bep\, Novel Furgus & DaiShin\nDate: 7:30pm\, 16 August\, 2019\nVenue: This Town Needs (TTN)\nTickets: $300
URL:https://www.bcmagazine.net/event/bloom-festival-2019/
LOCATION:This Town Needs (TTN)\, 1/F Ocean One\, 6 Shung Shun Street\, Yau Tong\, Hong Kong
CATEGORIES:2019,Concert,Music,Performing Arts
ATTACH;FMTTYPE=image/jpeg:https://www.bcmagazine.net/wp-content/uploads/1919/07/bloom-festival-2019.jpg
GEO:22.292861;114.23782
X-APPLE-STRUCTURED-LOCATION;VALUE=URI;X-ADDRESS=This Town Needs (TTN) 1/F Ocean One 6 Shung Shun Street Yau Tong Hong Kong;X-APPLE-RADIUS=500;X-TITLE=1/F Ocean One\, 6 Shung Shun Street:geo:114.23782,22.292861
END:VEVENT
BEGIN:VEVENT
DTSTART;TZID=Asia/Hong_Kong:20190815T200000
DTEND;TZID=Asia/Hong_Kong:20190815T200000
DTSTAMP:20260421T222024
CREATED:19160919T054156Z
LAST-MODIFIED:20190619T132332Z
UID:10002136-1565899200-1565899200@www.bcmagazine.net
SUMMARY:The Damned
DESCRIPTION:The Damned\nDate: 8pm\, 15 August\, 2019\nVenue: This Town Needs (TTN)\nTickets: $550\, $490 from Ticketflap
URL:https://www.bcmagazine.net/event/the-damned-hk-2019/
LOCATION:This Town Needs (TTN)\, 1/F Ocean One\, 6 Shung Shun Street\, Yau Tong\, Hong Kong
CATEGORIES:2019,Concert,Music,Performing Arts
ATTACH;FMTTYPE=image/jpeg:https://www.bcmagazine.net/wp-content/uploads/1916/09/The-Damned-hk-2019.jpg
GEO:22.292861;114.23782
X-APPLE-STRUCTURED-LOCATION;VALUE=URI;X-ADDRESS=This Town Needs (TTN) 1/F Ocean One 6 Shung Shun Street Yau Tong Hong Kong;X-APPLE-RADIUS=500;X-TITLE=1/F Ocean One\, 6 Shung Shun Street:geo:114.23782,22.292861
END:VEVENT
BEGIN:VEVENT
DTSTART;TZID=Asia/Hong_Kong:20190814T200000
DTEND;TZID=Asia/Hong_Kong:20190814T200000
DTSTAMP:20260421T222024
CREATED:20190813T025036Z
LAST-MODIFIED:20190813T050956Z
UID:10006595-1565812800-1565812800@www.bcmagazine.net
SUMMARY:Alec Benjamin - Cancelled
DESCRIPTION:Alec Benjamin – Caught In The Middle World Tour\nDate: 8pm\, 14 August\, 2019\nVenue: This Town Needs\nTickets: $1\,098\, $548 from Ticketflap
URL:https://www.bcmagazine.net/event/alec-benjamin-2019/
LOCATION:This Town Needs (TTN)\, 1/F Ocean One\, 6 Shung Shun Street\, Yau Tong\, Hong Kong
CATEGORIES:2019,Concert,Music,Performing Arts
ATTACH;FMTTYPE=image/jpeg:https://www.bcmagazine.net/wp-content/uploads/2019/07/Alec-Benjamin-2019.jpg
GEO:22.292861;114.23782
X-APPLE-STRUCTURED-LOCATION;VALUE=URI;X-ADDRESS=This Town Needs (TTN) 1/F Ocean One 6 Shung Shun Street Yau Tong Hong Kong;X-APPLE-RADIUS=500;X-TITLE=1/F Ocean One\, 6 Shung Shun Street:geo:114.23782,22.292861
END:VEVENT
BEGIN:VEVENT
DTSTART;TZID=Asia/Hong_Kong:20190801T193000
DTEND;TZID=Asia/Hong_Kong:20190801T193000
DTSTAMP:20260421T222024
CREATED:19190409T044512Z
LAST-MODIFIED:20190414T001313Z
UID:10004752-1564687800-1564687800@www.bcmagazine.net
SUMMARY:American Football
DESCRIPTION:American Football\nDate: 7:30pm\, 1 August\, 2019\nVenue: This Town Needs (TTN)\nTickets: $390 from Ticketflap
URL:https://www.bcmagazine.net/event/american-football-hk-2019/
LOCATION:This Town Needs (TTN)\, 1/F Ocean One\, 6 Shung Shun Street\, Yau Tong\, Hong Kong
CATEGORIES:2019,Concert,Music,Performing Arts
ATTACH;FMTTYPE=image/jpeg:https://www.bcmagazine.net/wp-content/uploads/1919/04/american-football-hk-2019.jpg
GEO:22.292861;114.23782
X-APPLE-STRUCTURED-LOCATION;VALUE=URI;X-ADDRESS=This Town Needs (TTN) 1/F Ocean One 6 Shung Shun Street Yau Tong Hong Kong;X-APPLE-RADIUS=500;X-TITLE=1/F Ocean One\, 6 Shung Shun Street:geo:114.23782,22.292861
END:VEVENT
BEGIN:VEVENT
DTSTART;TZID=Asia/Hong_Kong:20190731T200000
DTEND;TZID=Asia/Hong_Kong:20190731T200000
DTSTAMP:20260421T222024
CREATED:19160919T054156Z
LAST-MODIFIED:20190611T224931Z
UID:10002132-1564603200-1564603200@www.bcmagazine.net
SUMMARY:Chon
DESCRIPTION:Chon\nSupport: Milos\nDate: 8pm\, 31 July\, 2019\nVenue: This Town Needs (TTN)\nTickets: $420\, $380 (advance)
URL:https://www.bcmagazine.net/event/chon-hk-2019/
LOCATION:This Town Needs (TTN)\, 1/F Ocean One\, 6 Shung Shun Street\, Yau Tong\, Hong Kong
CATEGORIES:2019,Concert,Music,Performing Arts
ATTACH;FMTTYPE=image/jpeg:https://www.bcmagazine.net/wp-content/uploads/1916/09/chon-hk-2019.jpg
GEO:22.292861;114.23782
X-APPLE-STRUCTURED-LOCATION;VALUE=URI;X-ADDRESS=This Town Needs (TTN) 1/F Ocean One 6 Shung Shun Street Yau Tong Hong Kong;X-APPLE-RADIUS=500;X-TITLE=1/F Ocean One\, 6 Shung Shun Street:geo:114.23782,22.292861
END:VEVENT
BEGIN:VEVENT
DTSTART;TZID=Asia/Hong_Kong:20190726T190000
DTEND;TZID=Asia/Hong_Kong:20190726T190000
DTSTAMP:20260421T222024
CREATED:19181023T145036Z
LAST-MODIFIED:20190704T151718Z
UID:10004546-1564167600-1564167600@www.bcmagazine.net
SUMMARY:Miku Expo Digital Stars
DESCRIPTION:Miku Expo Digital Stars\nDate: 7pm\, 26 July\, 2019\nVenue: This Town Needs\nTickets: $350\, $325
URL:https://www.bcmagazine.net/event/miku-expo-digital-stars-2019/
LOCATION:This Town Needs (TTN)\, 1/F Ocean One\, 6 Shung Shun Street\, Yau Tong\, Hong Kong
CATEGORIES:2019,Concert,Music,Performing Arts
ATTACH;FMTTYPE=image/jpeg:https://www.bcmagazine.net/wp-content/uploads/1918/10/miku-2019.jpg
GEO:22.292861;114.23782
X-APPLE-STRUCTURED-LOCATION;VALUE=URI;X-ADDRESS=This Town Needs (TTN) 1/F Ocean One 6 Shung Shun Street Yau Tong Hong Kong;X-APPLE-RADIUS=500;X-TITLE=1/F Ocean One\, 6 Shung Shun Street:geo:114.23782,22.292861
END:VEVENT
BEGIN:VEVENT
DTSTART;TZID=Asia/Hong_Kong:20190724T193000
DTEND;TZID=Asia/Hong_Kong:20190724T193000
DTSTAMP:20260421T222024
CREATED:19190409T044512Z
LAST-MODIFIED:20190414T000728Z
UID:10004750-1563996600-1563996600@www.bcmagazine.net
SUMMARY:Alvvays
DESCRIPTION:Alvvays\nDate: 7:30pm\, 24 July\, 2019\nVenue: This Town Needs (TTN)\nTickets: $470 from Ticketflap
URL:https://www.bcmagazine.net/event/alvvays-hk-2019/
LOCATION:This Town Needs (TTN)\, 1/F Ocean One\, 6 Shung Shun Street\, Yau Tong\, Hong Kong
CATEGORIES:2019,Concert,Music,Performing Arts
ATTACH;FMTTYPE=image/jpeg:https://www.bcmagazine.net/wp-content/uploads/1919/04/alvvays-hk-2019.jpg
GEO:22.292861;114.23782
X-APPLE-STRUCTURED-LOCATION;VALUE=URI;X-ADDRESS=This Town Needs (TTN) 1/F Ocean One 6 Shung Shun Street Yau Tong Hong Kong;X-APPLE-RADIUS=500;X-TITLE=1/F Ocean One\, 6 Shung Shun Street:geo:114.23782,22.292861
END:VEVENT
BEGIN:VEVENT
DTSTART;TZID=Asia/Hong_Kong:20190723T193000
DTEND;TZID=Asia/Hong_Kong:20190723T193000
DTSTAMP:20260421T222024
CREATED:19181213T044512Z
LAST-MODIFIED:20190322T051156Z
UID:10004715-1563910200-1563910200@www.bcmagazine.net
SUMMARY:Yaeji
DESCRIPTION:Yaeji\nDate: 7:30pm\, 23 July\, 2019\nVenue: This Town Needs (TTN)\nTickets: $420
URL:https://www.bcmagazine.net/event/yaeji-2019/
LOCATION:This Town Needs (TTN)\, 1/F Ocean One\, 6 Shung Shun Street\, Yau Tong\, Hong Kong
CATEGORIES:2019,Concert,Music,Performing Arts
ATTACH;FMTTYPE=image/jpeg:https://www.bcmagazine.net/wp-content/uploads/1918/12/Yaeji-hk.jpg
GEO:22.292861;114.23782
X-APPLE-STRUCTURED-LOCATION;VALUE=URI;X-ADDRESS=This Town Needs (TTN) 1/F Ocean One 6 Shung Shun Street Yau Tong Hong Kong;X-APPLE-RADIUS=500;X-TITLE=1/F Ocean One\, 6 Shung Shun Street:geo:114.23782,22.292861
END:VEVENT
BEGIN:VEVENT
DTSTART;VALUE=DATE:20190720
DTEND;VALUE=DATE:20190722
DTSTAMP:20260421T222024
CREATED:19160919T054156Z
LAST-MODIFIED:20190611T230149Z
UID:10002134-1563580800-1563753599@www.bcmagazine.net
SUMMARY:Beer We Go
DESCRIPTION:Beer We Go\nMary See the Future\,Mukzi 木子\, Stuts\, Raw Track\, Dusty Bottle\, 孔雀眼 Jade Eyes\, Jonathan Yang\, Twisterella*\, Paellas\, Ni.Ne.Mo\, Mutant Monster\nDate: 20-21 July\, 2019\nVenue: This Town Needs (TTN)\nTickets: $2\,140\, $580
URL:https://www.bcmagazine.net/event/beer-we-go-07-2019/
LOCATION:This Town Needs (TTN)\, 1/F Ocean One\, 6 Shung Shun Street\, Yau Tong\, Hong Kong
CATEGORIES:2019,Concert,Music,Performing Arts
ATTACH;FMTTYPE=image/jpeg:https://www.bcmagazine.net/wp-content/uploads/1916/09/Beer-We-Go-July-2019.jpg
GEO:22.292861;114.23782
X-APPLE-STRUCTURED-LOCATION;VALUE=URI;X-ADDRESS=This Town Needs (TTN) 1/F Ocean One 6 Shung Shun Street Yau Tong Hong Kong;X-APPLE-RADIUS=500;X-TITLE=1/F Ocean One\, 6 Shung Shun Street:geo:114.23782,22.292861
END:VEVENT
END:VCALENDAR