BEGIN:VCALENDAR
VERSION:2.0
PRODID:-//bc magazine - ECPv6.15.20//NONSGML v1.0//EN
CALSCALE:GREGORIAN
METHOD:PUBLISH
X-WR-CALNAME:bc magazine
X-ORIGINAL-URL:https://www.bcmagazine.net
X-WR-CALDESC:Events for bc magazine
REFRESH-INTERVAL;VALUE=DURATION:PT1H
X-Robots-Tag:noindex
X-PUBLISHED-TTL:PT1H
BEGIN:VTIMEZONE
TZID:Asia/Hong_Kong
BEGIN:STANDARD
TZOFFSETFROM:+0800
TZOFFSETTO:+0800
TZNAME:HKT
DTSTART:20170101T000000
END:STANDARD
END:VTIMEZONE
BEGIN:VEVENT
DTSTART;TZID=Asia/Hong_Kong:20180427T190000
DTEND;TZID=Asia/Hong_Kong:20180427T190000
DTSTAMP:20260421T151052
CREATED:19180418T103647Z
LAST-MODIFIED:20180420T082352Z
UID:10003948-1524855600-1524855600@www.bcmagazine.net
SUMMARY:Orange Fest Music Night
DESCRIPTION:Orange Fest Music Night\nDutch Days in Hong Kong\nDate: 27 April\, 2018\nVenue: Tom Bar+Grill\nTickets: $150
URL:https://www.bcmagazine.net/event/orange-fest-music-night-2018/
LOCATION:Tom’s Bar+Grill\, Shop S088-S089\, G/F\, Habour View 2\, 12 Science Park East Avenue\, Hong Kong Science Park\, Shatin\, Hong Kong
CATEGORIES:2018,Concert,Cultural Festival,Food,Lifestyle,Music,Nightlife,Performing Arts
END:VEVENT
END:VCALENDAR