BEGIN:VCALENDAR
VERSION:2.0
PRODID:-//bc magazine - ECPv6.15.20//NONSGML v1.0//EN
CALSCALE:GREGORIAN
METHOD:PUBLISH
X-WR-CALNAME:bc magazine
X-ORIGINAL-URL:https://www.bcmagazine.net
X-WR-CALDESC:Events for bc magazine
REFRESH-INTERVAL;VALUE=DURATION:PT1H
X-Robots-Tag:noindex
X-PUBLISHED-TTL:PT1H
BEGIN:VTIMEZONE
TZID:Asia/Hong_Kong
BEGIN:STANDARD
TZOFFSETFROM:+0800
TZOFFSETTO:+0800
TZNAME:HKT
DTSTART:20140101T000000
END:STANDARD
END:VTIMEZONE
BEGIN:VEVENT
DTSTART;VALUE=DATE:20160106
DTEND;VALUE=DATE:20160108
DTSTAMP:20260425T194619
CREATED:19151002T022340Z
LAST-MODIFIED:20151002T022702Z
UID:10000460-1452038400-1452211199@www.bcmagazine.net
SUMMARY:Wil Anderson
DESCRIPTION:Wil Anderson – Free Wil\nUdderbelly Festival\nDate: 9pm\, 6-7 January\, 2016\nVenue: Udderbelly\nTickets: $683\, $595\, $385 from HKTicketing
URL:https://www.bcmagazine.net/event/wil-anderson/
LOCATION:Udderbelly\, Central Harbourfront\, 9 Lung Wo Road\, Central\, Hong Kong
CATEGORIES:2016,Comedy,Cultural Festival,Performing Arts
GEO:22.2826223;114.164346
X-APPLE-STRUCTURED-LOCATION;VALUE=URI;X-ADDRESS=Udderbelly Central Harbourfront 9 Lung Wo Road Central Hong Kong;X-APPLE-RADIUS=500;X-TITLE=Central Harbourfront\, 9 Lung Wo Road:geo:114.164346,22.2826223
END:VEVENT
BEGIN:VEVENT
DTSTART;VALUE=DATE:20160105
DTEND;VALUE=DATE:20160111
DTSTAMP:20260425T194619
CREATED:19151002T035540Z
LAST-MODIFIED:20151002T041725Z
UID:10000089-1451952000-1452470399@www.bcmagazine.net
SUMMARY:Brainiac Live
DESCRIPTION:Brainiac Live\nUdderbelly Festival\nDate: 29 December – 10 January\, 2016\nVenue: Udderbelly\nTickets: $523\, $435\, $385 from HKTicketing\nMore info:\n29 Dec 2015 (Tue) 4:30pm\n30 Dec 2015 (Wed) 4:30pm\n31 Dec 2015 (Thu) 4:30pm\n1 Jan 2016 (Fri) 4:30pm\n2 Jan 2016 (Sat) 10am\, 12noon & 2pm\n3 Jan 2016 (Sun) 10am\, 12noon & 2pm \n5 Jan 2016 (Tue) 4:30pm\n6 Jan 2016 (Wed) 4:30pm\n7 Jan 2016 (Thu) 4:30pm\n8 Jan 2016 (Fri) 4:30pm\n9 Jan 2016 (Sat) 10am\, 12noon & 2pm\n10 Jan 2016 (Sun) 10am\, 12:30pm & 3pm
URL:https://www.bcmagazine.net/event/6288/
LOCATION:Udderbelly\, Central Harbourfront\, 9 Lung Wo Road\, Central\, Hong Kong
CATEGORIES:2016,Cultural Festival,Performing Arts,Theatre
GEO:22.2826223;114.164346
X-APPLE-STRUCTURED-LOCATION;VALUE=URI;X-ADDRESS=Udderbelly Central Harbourfront 9 Lung Wo Road Central Hong Kong;X-APPLE-RADIUS=500;X-TITLE=Central Harbourfront\, 9 Lung Wo Road:geo:114.164346,22.2826223
END:VEVENT
BEGIN:VEVENT
DTSTART;VALUE=DATE:20160105
DTEND;VALUE=DATE:20160107
DTSTAMP:20260425T194619
CREATED:19150831T153547Z
LAST-MODIFIED:20190924T041356Z
UID:10000139-1451952000-1452124799@www.bcmagazine.net
SUMMARY:Gobsmacked
DESCRIPTION:Gobsmacked\nUdderbelly Festival\nDate: 29 December 2015 – 6 January\, 2016\nVenue: Udderbelly\, Central Harbourfront\nTickets: $523\, $435\, $385 from HKTicketing\nMore info:\n29 Dec 2015 (Tue) at 7pm\n30 Dec 2015 (Wed) at 7pm\n31 Dec 2015 (Thu) at 7pm\n1 Jan 2016 (Fri) at 7:15pm\n2 Jan 2016 (Sat) at 4pm & 7:15pm\n3 Jan 2016 (Sun) at 4pm & 7pm\n5 Jan 2016 (Tue) at 7pm\n6 Jan 2016 (Wed) at 7pm
URL:https://www.bcmagazine.net/event/gobsmacked-2/
LOCATION:Udderbelly\, Central Harbourfront\, 9 Lung Wo Road\, Central\, Hong Kong
CATEGORIES:2016,Cultural Festival,Performing Arts
GEO:22.2826223;114.164346
X-APPLE-STRUCTURED-LOCATION;VALUE=URI;X-ADDRESS=Udderbelly Central Harbourfront 9 Lung Wo Road Central Hong Kong;X-APPLE-RADIUS=500;X-TITLE=Central Harbourfront\, 9 Lung Wo Road:geo:114.164346,22.2826223
END:VEVENT
BEGIN:VEVENT
DTSTART;TZID=Asia/Hong_Kong:20160102T210000
DTEND;TZID=Asia/Hong_Kong:20160102T210000
DTSTAMP:20260425T194619
CREATED:19151212T171345Z
LAST-MODIFIED:20151212T171810Z
UID:10000896-1451768400-1451768400@www.bcmagazine.net
SUMMARY:Cheuk Wan-Chi
DESCRIPTION:Cheuk Wan-Chi – Call For A Drink\nUdderbelly Festival\nDate: 2-3 January\, 2016\nVenue: Udderbelly\nTickets: $488\, $400\, $385 from HKTicketing
URL:https://www.bcmagazine.net/event/cheuk-wan-chi-call-for-a-drink/2016-01-02/
LOCATION:Udderbelly\, Central Harbourfront\, 9 Lung Wo Road\, Central\, Hong Kong
CATEGORIES:2016,Comedy,Cultural Festival,Performing Arts
GEO:22.2826223;114.164346
X-APPLE-STRUCTURED-LOCATION;VALUE=URI;X-ADDRESS=Udderbelly Central Harbourfront 9 Lung Wo Road Central Hong Kong;X-APPLE-RADIUS=500;X-TITLE=Central Harbourfront\, 9 Lung Wo Road:geo:114.164346,22.2826223
END:VEVENT
BEGIN:VEVENT
DTSTART;TZID=Asia/Hong_Kong:20151231T120000
DTEND;TZID=Asia/Hong_Kong:20151231T120000
DTSTAMP:20260425T194619
CREATED:19151126T160656Z
LAST-MODIFIED:20151126T160836Z
UID:10000813-1451563200-1451563200@www.bcmagazine.net
SUMMARY:Sing-a-long-a Frozen
DESCRIPTION:Sing-a-long-a Frozen\nUdderbelly Festival\nDate: 23 December\, 2015 – 1 December\, 2016\nVenue: Udderbelly\nTickets: $316\, $228 from HKTicketing
URL:https://www.bcmagazine.net/event/sing-a-long-a-frozen-2015-16/2015-12-31/
LOCATION:Udderbelly\, Central Harbourfront\, 9 Lung Wo Road\, Central\, Hong Kong
CATEGORIES:2015,2016,Cultural Festival,Music,Performing Arts
GEO:22.2826223;114.164346
X-APPLE-STRUCTURED-LOCATION;VALUE=URI;X-ADDRESS=Udderbelly Central Harbourfront 9 Lung Wo Road Central Hong Kong;X-APPLE-RADIUS=500;X-TITLE=Central Harbourfront\, 9 Lung Wo Road:geo:114.164346,22.2826223
END:VEVENT
BEGIN:VEVENT
DTSTART;TZID=Asia/Hong_Kong:20151230T210000
DTEND;TZID=Asia/Hong_Kong:20151230T210000
DTSTAMP:20260425T194619
CREATED:19151212T161340Z
LAST-MODIFIED:20151212T161856Z
UID:10000197-1451509200-1451509200@www.bcmagazine.net
SUMMARY:Tom Thum
DESCRIPTION:Tom Thum\nTheatreland\nDate: 30 December 2015 – 1 January\, 2016\nVenue: Udderbelly\nTickets: $523\, $435\, $385 from HKTicketing
URL:https://www.bcmagazine.net/event/tom-thum/2015-12-30/
LOCATION:Udderbelly\, Central Harbourfront\, 9 Lung Wo Road\, Central\, Hong Kong
CATEGORIES:2015,2016,Cultural Festival,Performing Arts,Theatre
GEO:22.2826223;114.164346
X-APPLE-STRUCTURED-LOCATION;VALUE=URI;X-ADDRESS=Udderbelly Central Harbourfront 9 Lung Wo Road Central Hong Kong;X-APPLE-RADIUS=500;X-TITLE=Central Harbourfront\, 9 Lung Wo Road:geo:114.164346,22.2826223
END:VEVENT
BEGIN:VEVENT
DTSTART;VALUE=DATE:20151229
DTEND;VALUE=DATE:20160104
DTSTAMP:20260425T194619
CREATED:19151002T035204Z
LAST-MODIFIED:20151002T035706Z
UID:10000093-1451347200-1451865599@www.bcmagazine.net
SUMMARY:Brainiac Live
DESCRIPTION:Brainiac Live\nUdderbelly Festival\nDate: 29 December – 10 January\, 2016\nVenue: Udderbelly\nTickets: $523\, $435\, $385 from HKTicketing\nMore info:\n29 Dec 2015 (Tue) 4:30pm\n30 Dec 2015 (Wed) 4:30pm\n31 Dec 2015 (Thu) 4:30pm\n1 Jan 2016 (Fri) 4:30pm\n2 Jan 2016 (Sat) 10am\, 12noon & 2pm\n3 Jan 2016 (Sun) 10am\, 12noon & 2pm \n5 Jan 2016 (Tue) 4:30pm\n6 Jan 2016 (Wed) 4:30pm\n7 Jan 2016 (Thu) 4:30pm\n8 Jan 2016 (Fri) 4:30pm\n9 Jan 2016 (Sat) 10am\, 12noon & 2pm\n10 Jan 2016 (Sun) 10am\, 12:30pm & 3pm \n 
URL:https://www.bcmagazine.net/event/brainiac-live/
LOCATION:Udderbelly\, Central Harbourfront\, 9 Lung Wo Road\, Central\, Hong Kong
CATEGORIES:2015,2016,Cultural Festival,Performing Arts,Theatre
GEO:22.2826223;114.164346
X-APPLE-STRUCTURED-LOCATION;VALUE=URI;X-ADDRESS=Udderbelly Central Harbourfront 9 Lung Wo Road Central Hong Kong;X-APPLE-RADIUS=500;X-TITLE=Central Harbourfront\, 9 Lung Wo Road:geo:114.164346,22.2826223
END:VEVENT
BEGIN:VEVENT
DTSTART;VALUE=DATE:20151229
DTEND;VALUE=DATE:20160104
DTSTAMP:20260425T194619
CREATED:19150831T153204Z
LAST-MODIFIED:20190924T041357Z
UID:10000137-1451347200-1451865599@www.bcmagazine.net
SUMMARY:Gobsmacked
DESCRIPTION:Gobsmacked\nUdderbelly Festival\nDate: 29 December 2015 – 6 January\, 2016\nVenue: Udderbelly\, Central Harbourfront\nTickets: $523\, $435\, $385 from HKTicketing\nMore info:\n29 Dec 2015 (Tue) at 7pm\n30 Dec 2015 (Wed) at 7pm\n31 Dec 2015 (Thu) at 7pm\n1 Jan 2016 (Fri) at 7:15pm\n2 Jan 2016 (Sat) at 4pm & 7:15pm\n3 Jan 2016 (Sun) at 4pm & 7pm\n5 Jan 2016 (Tue) at 7pm\n6 Jan 2016 (Wed) at 7pm
URL:https://www.bcmagazine.net/event/gobsmacked/
LOCATION:Udderbelly\, Central Harbourfront\, 9 Lung Wo Road\, Central\, Hong Kong
CATEGORIES:2015,2016,Concert,Cultural Festival,Music,Performing Arts
GEO:22.2826223;114.164346
X-APPLE-STRUCTURED-LOCATION;VALUE=URI;X-ADDRESS=Udderbelly Central Harbourfront 9 Lung Wo Road Central Hong Kong;X-APPLE-RADIUS=500;X-TITLE=Central Harbourfront\, 9 Lung Wo Road:geo:114.164346,22.2826223
END:VEVENT
BEGIN:VEVENT
DTSTART;TZID=Asia/Hong_Kong:20151225T223000
DTEND;TZID=Asia/Hong_Kong:20151225T223000
DTSTAMP:20260425T194619
CREATED:19151126T151732Z
LAST-MODIFIED:20151126T170216Z
UID:10000175-1451082600-1451082600@www.bcmagazine.net
SUMMARY:Eman Lam
DESCRIPTION:Eman Lam\nUdderbelly Festival\nDate: 25-27 December\, 2015\nVenue: Udderbelly Central\nTickets: $488\, $400 from HKTicketing
URL:https://www.bcmagazine.net/event/eman-lam/2015-12-25/
LOCATION:Udderbelly\, Central Harbourfront\, 9 Lung Wo Road\, Central\, Hong Kong
CATEGORIES:2015,Concert,Cultural Festival,Music,Performing Arts
GEO:22.2826223;114.164346
X-APPLE-STRUCTURED-LOCATION;VALUE=URI;X-ADDRESS=Udderbelly Central Harbourfront 9 Lung Wo Road Central Hong Kong;X-APPLE-RADIUS=500;X-TITLE=Central Harbourfront\, 9 Lung Wo Road:geo:114.164346,22.2826223
END:VEVENT
BEGIN:VEVENT
DTSTART;VALUE=DATE:20151224
DTEND;VALUE=DATE:20151228
DTSTAMP:20260425T194619
CREATED:19151002T033447Z
LAST-MODIFIED:20151002T033945Z
UID:10000087-1450915200-1451260799@www.bcmagazine.net
SUMMARY:Christmas with Thomas and Friends
DESCRIPTION:Christmas with Thomas and Friends\nUdderbelly Festival\nDate: 24-27 December\, 2015\nVenue: Udderbelly\nTickets: $523\, $435\, $385 from HKTicketing\nMore info:\n24 Dec 2015 (Thu) at 12noon & 2pm\n25 Dec 2015 (Fri) at 12noon\, 2pm & 4pm\n26 Dec 2015 (Sat) at 2pm & 4pm\n27 Dec 2015 (Sun) at 12noon & 2pm \n 
URL:https://www.bcmagazine.net/event/christmas-with-thomas-and-friends-2015/
LOCATION:Udderbelly\, Central Harbourfront\, 9 Lung Wo Road\, Central\, Hong Kong
CATEGORIES:2015,Cultural Festival,Performing Arts,Theatre
GEO:22.2826223;114.164346
X-APPLE-STRUCTURED-LOCATION;VALUE=URI;X-ADDRESS=Udderbelly Central Harbourfront 9 Lung Wo Road Central Hong Kong;X-APPLE-RADIUS=500;X-TITLE=Central Harbourfront\, 9 Lung Wo Road:geo:114.164346,22.2826223
END:VEVENT
BEGIN:VEVENT
DTSTART;VALUE=DATE:20151219
DTEND;VALUE=DATE:20151221
DTSTAMP:20260425T194619
CREATED:19151126T160930Z
LAST-MODIFIED:20151212T161024Z
UID:10000814-1450483200-1450655999@www.bcmagazine.net
SUMMARY:Angelina Ballerina
DESCRIPTION:Angelina Ballerina\nUdderbelly Festival\nDate: 19 December\, 2015 – 20 December\, 2016\nVenue: Udderbelly\nTickets: $523\, $435\, $385 from HKTicketing\nMore info: \n19 Dec 2015 (Sat) 10am\, 12noon\, 2pm & 4pm\n20 Dec 2015 (Sun) 10am\, 12noon\, 2pm & 4pm
URL:https://www.bcmagazine.net/event/angelina-ballerina-2015/
LOCATION:Udderbelly\, Central Harbourfront\, 9 Lung Wo Road\, Central\, Hong Kong
CATEGORIES:2015,Cultural Festival,Dance,Music,Performing Arts,Theatre
GEO:22.2826223;114.164346
X-APPLE-STRUCTURED-LOCATION;VALUE=URI;X-ADDRESS=Udderbelly Central Harbourfront 9 Lung Wo Road Central Hong Kong;X-APPLE-RADIUS=500;X-TITLE=Central Harbourfront\, 9 Lung Wo Road:geo:114.164346,22.2826223
END:VEVENT
BEGIN:VEVENT
DTSTART;TZID=Asia/Hong_Kong:20151218T163000
DTEND;TZID=Asia/Hong_Kong:20151218T163000
DTSTAMP:20260425T194619
CREATED:19151126T171257Z
LAST-MODIFIED:20151126T171507Z
UID:10000837-1450456200-1450456200@www.bcmagazine.net
SUMMARY:Animate it Live!
DESCRIPTION:Animate it Live!\nUdderbelly Festival\nDate: 8pm\, 17-19 December\, 2015\nVenue: Fringe Club\, Fringe Underground\nTickets: $523\, $435\, $385 from HKTicketing\nMore info: \n12 Dec 2015 (Sat) at 10am & 12nn\n13 Dec 2015 (Sun) at 10am & 12nn \n16 Dec 2015 (Wed) at 4:30pm\n17 Dec 2015 (Thur) at 4:30pm\n18 Dec 2015 (Fri) at 4:30pm
URL:https://www.bcmagazine.net/event/animate-it-live/2015-12-18/
LOCATION:Udderbelly\, Central Harbourfront\, 9 Lung Wo Road\, Central\, Hong Kong
CATEGORIES:2015,Cultural Festival,Performing Arts,Theatre
GEO:22.2826223;114.164346
X-APPLE-STRUCTURED-LOCATION;VALUE=URI;X-ADDRESS=Udderbelly Central Harbourfront 9 Lung Wo Road Central Hong Kong;X-APPLE-RADIUS=500;X-TITLE=Central Harbourfront\, 9 Lung Wo Road:geo:114.164346,22.2826223
END:VEVENT
BEGIN:VEVENT
DTSTART;TZID=Asia/Hong_Kong:20151217T163000
DTEND;TZID=Asia/Hong_Kong:20151217T163000
DTSTAMP:20260425T194619
CREATED:19151126T171257Z
LAST-MODIFIED:20151126T171507Z
UID:10000836-1450369800-1450369800@www.bcmagazine.net
SUMMARY:Animate it Live!
DESCRIPTION:Animate it Live!\nUdderbelly Festival\nDate: 8pm\, 17-19 December\, 2015\nVenue: Fringe Club\, Fringe Underground\nTickets: $523\, $435\, $385 from HKTicketing\nMore info: \n12 Dec 2015 (Sat) at 10am & 12nn\n13 Dec 2015 (Sun) at 10am & 12nn \n16 Dec 2015 (Wed) at 4:30pm\n17 Dec 2015 (Thur) at 4:30pm\n18 Dec 2015 (Fri) at 4:30pm
URL:https://www.bcmagazine.net/event/animate-it-live/2015-12-17/
LOCATION:Udderbelly\, Central Harbourfront\, 9 Lung Wo Road\, Central\, Hong Kong
CATEGORIES:2015,Cultural Festival,Performing Arts,Theatre
GEO:22.2826223;114.164346
X-APPLE-STRUCTURED-LOCATION;VALUE=URI;X-ADDRESS=Udderbelly Central Harbourfront 9 Lung Wo Road Central Hong Kong;X-APPLE-RADIUS=500;X-TITLE=Central Harbourfront\, 9 Lung Wo Road:geo:114.164346,22.2826223
END:VEVENT
BEGIN:VEVENT
DTSTART;VALUE=DATE:20151217
DTEND;VALUE=DATE:20151220
DTSTAMP:20260425T194619
CREATED:19150831T154339Z
LAST-MODIFIED:20151212T174607Z
UID:10000214-1450310400-1450569599@www.bcmagazine.net
SUMMARY:Micheal Winslow
DESCRIPTION:Micheal Winslow – The Man of 10\,000 Noises\nUdderbelly Festival\nDate: 17-19 December 2015\nVenue: Udderbelly\, Central Harbourfront\nTickets: $523\, $435\, $385 from HKTicketing\nMore info:\n17 Dec 2015 (Thu) at 9pm\n18 Dec 2015 (Fri) at 9:15pm\n19 Dec 2015 (Sat) at 9:15pm
URL:https://www.bcmagazine.net/event/micheal-winslow/
LOCATION:Udderbelly\, Central Harbourfront\, 9 Lung Wo Road\, Central\, Hong Kong
CATEGORIES:2016,Comedy,Cultural Festival,Performing Arts
GEO:22.2826223;114.164346
X-APPLE-STRUCTURED-LOCATION;VALUE=URI;X-ADDRESS=Udderbelly Central Harbourfront 9 Lung Wo Road Central Hong Kong;X-APPLE-RADIUS=500;X-TITLE=Central Harbourfront\, 9 Lung Wo Road:geo:114.164346,22.2826223
END:VEVENT
BEGIN:VEVENT
DTSTART;VALUE=DATE:20151217
DTEND;VALUE=DATE:20151220
DTSTAMP:20260425T194619
CREATED:19150831T153826Z
LAST-MODIFIED:20150831T154233Z
UID:10000212-1450310400-1450569599@www.bcmagazine.net
SUMMARY:The Boy With Tape on His Face
DESCRIPTION:The Boy With Tape on His Face\nUdderbelly Festival\, Gag Reflex\nDate: 17-19 December 2015\nVenue: Udderbelly\, Central Harbourfront\nTickets: $523\, $435\, $385 from HKTicketing\nMore info:\n17 Dec 2015 (Thu) at 7pm\n18 Dec 2015 (Fri) at 7:15pm\n19 Dec 2015 (Sat) at 7:15pm
URL:https://www.bcmagazine.net/event/the-boy-with-tape-on-his-face/
LOCATION:Udderbelly\, Central Harbourfront\, 9 Lung Wo Road\, Central\, Hong Kong
CATEGORIES:2015,Cultural Festival,Music,Performing Arts
GEO:22.2826223;114.164346
X-APPLE-STRUCTURED-LOCATION;VALUE=URI;X-ADDRESS=Udderbelly Central Harbourfront 9 Lung Wo Road Central Hong Kong;X-APPLE-RADIUS=500;X-TITLE=Central Harbourfront\, 9 Lung Wo Road:geo:114.164346,22.2826223
END:VEVENT
BEGIN:VEVENT
DTSTART;TZID=Asia/Hong_Kong:20151216T163000
DTEND;TZID=Asia/Hong_Kong:20151216T163000
DTSTAMP:20260425T194619
CREATED:19151126T171257Z
LAST-MODIFIED:20151126T171507Z
UID:10000835-1450283400-1450283400@www.bcmagazine.net
SUMMARY:Animate it Live!
DESCRIPTION:Animate it Live!\nUdderbelly Festival\nDate: 8pm\, 17-19 December\, 2015\nVenue: Fringe Club\, Fringe Underground\nTickets: $523\, $435\, $385 from HKTicketing\nMore info: \n12 Dec 2015 (Sat) at 10am & 12nn\n13 Dec 2015 (Sun) at 10am & 12nn \n16 Dec 2015 (Wed) at 4:30pm\n17 Dec 2015 (Thur) at 4:30pm\n18 Dec 2015 (Fri) at 4:30pm
URL:https://www.bcmagazine.net/event/animate-it-live/2015-12-16/
LOCATION:Udderbelly\, Central Harbourfront\, 9 Lung Wo Road\, Central\, Hong Kong
CATEGORIES:2015,Cultural Festival,Performing Arts,Theatre
GEO:22.2826223;114.164346
X-APPLE-STRUCTURED-LOCATION;VALUE=URI;X-ADDRESS=Udderbelly Central Harbourfront 9 Lung Wo Road Central Hong Kong;X-APPLE-RADIUS=500;X-TITLE=Central Harbourfront\, 9 Lung Wo Road:geo:114.164346,22.2826223
END:VEVENT
BEGIN:VEVENT
DTSTART;TZID=Asia/Hong_Kong:20151212T100000
DTEND;TZID=Asia/Hong_Kong:20151212T100000
DTSTAMP:20260425T194619
CREATED:19151126T170035Z
LAST-MODIFIED:20151126T171230Z
UID:10000833-1449914400-1449914400@www.bcmagazine.net
SUMMARY:Animate it Live!
DESCRIPTION:Animate it Live!\nUdderbelly Festival\nDate: 8pm\, 17-19 December\, 2015\nVenue: Fringe Club\, Fringe Underground\nTickets: $523\, $435\, $385 from HKTicketing\nMore info: \n12 Dec 2015 (Sat) at 10am & 12nn\n13 Dec 2015 (Sun) at 10am & 12nn \n16 Dec 2015 (Wed) at 4:30pm\n17 Dec 2015 (Thur) at 4:30pm\n18 Dec 2015 (Fri) at 4:30pm
URL:https://www.bcmagazine.net/event/animate-it-live-2015/2015-12-12/
LOCATION:Udderbelly\, Central Harbourfront\, 9 Lung Wo Road\, Central\, Hong Kong
CATEGORIES:2015,Cultural Festival,Performing Arts,Theatre
GEO:22.2826223;114.164346
X-APPLE-STRUCTURED-LOCATION;VALUE=URI;X-ADDRESS=Udderbelly Central Harbourfront 9 Lung Wo Road Central Hong Kong;X-APPLE-RADIUS=500;X-TITLE=Central Harbourfront\, 9 Lung Wo Road:geo:114.164346,22.2826223
END:VEVENT
BEGIN:VEVENT
DTSTART;VALUE=DATE:20151211
DTEND;VALUE=DATE:20151214
DTSTAMP:20260425T194619
CREATED:19150831T150650Z
LAST-MODIFIED:20150831T151311Z
UID:10000108-1449792000-1450051199@www.bcmagazine.net
SUMMARY:Jason Manford
DESCRIPTION:Jason Manford\nDate: 11-13 December\, 2015\nVenue: Udderbelly\, Central Harbourfront\nTickets: $683\, $595\, $385 from HKTicketing\nMore info: \n11-12 December – 9:30pm\n13 December – 8:30pm
URL:https://www.bcmagazine.net/event/jason-manford/
LOCATION:Udderbelly\, Central Harbourfront\, 9 Lung Wo Road\, Central\, Hong Kong
CATEGORIES:2015,Comedy,Cultural Festival,Performing Arts
GEO:22.2826223;114.164346
X-APPLE-STRUCTURED-LOCATION;VALUE=URI;X-ADDRESS=Udderbelly Central Harbourfront 9 Lung Wo Road Central Hong Kong;X-APPLE-RADIUS=500;X-TITLE=Central Harbourfront\, 9 Lung Wo Road:geo:114.164346,22.2826223
END:VEVENT
BEGIN:VEVENT
DTSTART;VALUE=DATE:20151210
DTEND;VALUE=DATE:20151214
DTSTAMP:20260425T194619
CREATED:19151002T025459Z
LAST-MODIFIED:20151002T025717Z
UID:10000085-1449705600-1450051199@www.bcmagazine.net
SUMMARY:Cinderella - the Panto
DESCRIPTION:Cinderella – the Panto\nUdderbelly Festival\, Hong Kong Players\nDate: 4-6\, 10-13 December\, 2015\nVenue: Udderbelly\nTickets: $438\, $350\, $290 from HKTicketing\nMore info:\n4 Dec 2015 (Fri) at 7pm\n5 Dec 2015 (Sat) at 2:30pm & 6:30pm\n6 Dec 2015 (Sun) at 2:30pm & 6pm \n10 Dec 2015 (Thu) at 7pm\n11 Dec 2015 (Fri) at 7pm\n12 Dec 2015 (Sat) at 2:30pm & 6pm\n13 Dec 2015 (Sun) at 2:30pm & 6pm
URL:https://www.bcmagazine.net/event/cinderella-the-panto-2/
LOCATION:Udderbelly\, Central Harbourfront\, 9 Lung Wo Road\, Central\, Hong Kong
CATEGORIES:2015,Cultural Festival,Performing Arts,Theatre
GEO:22.2826223;114.164346
X-APPLE-STRUCTURED-LOCATION;VALUE=URI;X-ADDRESS=Udderbelly Central Harbourfront 9 Lung Wo Road Central Hong Kong;X-APPLE-RADIUS=500;X-TITLE=Central Harbourfront\, 9 Lung Wo Road:geo:114.164346,22.2826223
END:VEVENT
BEGIN:VEVENT
DTSTART;TZID=Asia/Hong_Kong:20151209T203000
DTEND;TZID=Asia/Hong_Kong:20151209T203000
DTSTAMP:20260425T194619
CREATED:19151126T172807Z
LAST-MODIFIED:20151126T173137Z
UID:10000195-1449693000-1449693000@www.bcmagazine.net
SUMMARY:Judith Lucy
DESCRIPTION:Judith Lucy\nUdderbelly Festival\nDate: 8:30pm\, 8-9 December\, 2015\nVenue: Udderbelly\nTickets: $683\, $595\, $385 from HKTicketing
URL:https://www.bcmagazine.net/event/judith-lucy-2015/2015-12-09/
LOCATION:Udderbelly\, Central Harbourfront\, 9 Lung Wo Road\, Central\, Hong Kong
CATEGORIES:2015,Comedy,Cultural Festival,Performing Arts
GEO:22.2826223;114.164346
X-APPLE-STRUCTURED-LOCATION;VALUE=URI;X-ADDRESS=Udderbelly Central Harbourfront 9 Lung Wo Road Central Hong Kong;X-APPLE-RADIUS=500;X-TITLE=Central Harbourfront\, 9 Lung Wo Road:geo:114.164346,22.2826223
END:VEVENT
BEGIN:VEVENT
DTSTART;TZID=Asia/Hong_Kong:20151208T203000
DTEND;TZID=Asia/Hong_Kong:20151208T203000
DTSTAMP:20260425T194619
CREATED:19151126T172807Z
LAST-MODIFIED:20151126T173137Z
UID:10000194-1449606600-1449606600@www.bcmagazine.net
SUMMARY:Judith Lucy
DESCRIPTION:Judith Lucy\nUdderbelly Festival\nDate: 8:30pm\, 8-9 December\, 2015\nVenue: Udderbelly\nTickets: $683\, $595\, $385 from HKTicketing
URL:https://www.bcmagazine.net/event/judith-lucy-2015/2015-12-08/
LOCATION:Udderbelly\, Central Harbourfront\, 9 Lung Wo Road\, Central\, Hong Kong
CATEGORIES:2015,Comedy,Cultural Festival,Performing Arts
GEO:22.2826223;114.164346
X-APPLE-STRUCTURED-LOCATION;VALUE=URI;X-ADDRESS=Udderbelly Central Harbourfront 9 Lung Wo Road Central Hong Kong;X-APPLE-RADIUS=500;X-TITLE=Central Harbourfront\, 9 Lung Wo Road:geo:114.164346,22.2826223
END:VEVENT
BEGIN:VEVENT
DTSTART;VALUE=DATE:20151207
DTEND;VALUE=DATE:20151210
DTSTAMP:20260425T194619
CREATED:19150831T151401Z
LAST-MODIFIED:20150831T151652Z
UID:10000126-1449446400-1449705599@www.bcmagazine.net
SUMMARY:Rory Bremner
DESCRIPTION:Rory Bremner\nDate: 7pm\, 7-9 December\, 2015\nVenue: Udderbelly\, Central Harbourfront\nTickets: $683\, $595\, $385 from HKTicketing
URL:https://www.bcmagazine.net/event/rory-bremner/
LOCATION:Udderbelly\, Central Harbourfront\, 9 Lung Wo Road\, Central\, Hong Kong
CATEGORIES:2015,Comedy,Cultural Festival,Nightlife,Performing Arts
GEO:22.2826223;114.164346
X-APPLE-STRUCTURED-LOCATION;VALUE=URI;X-ADDRESS=Udderbelly Central Harbourfront 9 Lung Wo Road Central Hong Kong;X-APPLE-RADIUS=500;X-TITLE=Central Harbourfront\, 9 Lung Wo Road:geo:114.164346,22.2826223
END:VEVENT
BEGIN:VEVENT
DTSTART;TZID=Asia/Hong_Kong:20151204T213000
DTEND;TZID=Asia/Hong_Kong:20151204T213000
DTSTAMP:20260425T194619
CREATED:19151126T173209Z
LAST-MODIFIED:20151126T173754Z
UID:10000193-1449264600-1449264600@www.bcmagazine.net
SUMMARY:G'day HK
DESCRIPTION:G’day HK\nUdderbelly Festival\nDate: 4-6 December\, 2015\nVenue: Udderbelly\nTickets: $523\, $435\, $385 from HKTicketing
URL:https://www.bcmagazine.net/event/gday-hk-2015/2015-12-04/
LOCATION:Udderbelly\, Central Harbourfront\, 9 Lung Wo Road\, Central\, Hong Kong
CATEGORIES:2015,Comedy,Cultural Festival,Performing Arts
GEO:22.2826223;114.164346
X-APPLE-STRUCTURED-LOCATION;VALUE=URI;X-ADDRESS=Udderbelly Central Harbourfront 9 Lung Wo Road Central Hong Kong;X-APPLE-RADIUS=500;X-TITLE=Central Harbourfront\, 9 Lung Wo Road:geo:114.164346,22.2826223
END:VEVENT
BEGIN:VEVENT
DTSTART;VALUE=DATE:20151204
DTEND;VALUE=DATE:20151207
DTSTAMP:20260425T194619
CREATED:19151002T025147Z
LAST-MODIFIED:20151002T025613Z
UID:10000084-1449187200-1449446399@www.bcmagazine.net
SUMMARY:Cinderella - the Panto
DESCRIPTION:Cinderella – the Panto\nUdderbelly Festival\, Hong Kong Players\nDate: 4-6\, 10-13 December\, 2015\nVenue: Udderbelly\nTickets: $438\, $350\, $290 from HKTicketing\nMore info:\n4 Dec 2015 (Fri) at 7pm\n5 Dec 2015 (Sat) at 2:30pm & 6:30pm\n6 Dec 2015 (Sun) at 2:30pm & 6pm \n10 Dec 2015 (Thu) at 7pm\n11 Dec 2015 (Fri) at 7pm\n12 Dec 2015 (Sat) at 2:30pm & 6pm\n13 Dec 2015 (Sun) at 2:30pm & 6pm
URL:https://www.bcmagazine.net/event/cinderella-the-panto/
LOCATION:Udderbelly\, Central Harbourfront\, 9 Lung Wo Road\, Central\, Hong Kong
CATEGORIES:2015,Cultural Festival,Performing Arts,Theatre
GEO:22.2826223;114.164346
X-APPLE-STRUCTURED-LOCATION;VALUE=URI;X-ADDRESS=Udderbelly Central Harbourfront 9 Lung Wo Road Central Hong Kong;X-APPLE-RADIUS=500;X-TITLE=Central Harbourfront\, 9 Lung Wo Road:geo:114.164346,22.2826223
END:VEVENT
END:VCALENDAR