BEGIN:VCALENDAR
VERSION:2.0
PRODID:-//bc magazine - ECPv6.15.20//NONSGML v1.0//EN
CALSCALE:GREGORIAN
METHOD:PUBLISH
X-WR-CALNAME:bc magazine
X-ORIGINAL-URL:https://www.bcmagazine.net
X-WR-CALDESC:Events for bc magazine
REFRESH-INTERVAL;VALUE=DURATION:PT1H
X-Robots-Tag:noindex
X-PUBLISHED-TTL:PT1H
BEGIN:VTIMEZONE
TZID:Asia/Hong_Kong
BEGIN:STANDARD
TZOFFSETFROM:+0800
TZOFFSETTO:+0800
TZNAME:HKT
DTSTART:20170101T000000
END:STANDARD
END:VTIMEZONE
BEGIN:VEVENT
DTSTART;TZID=Asia/Hong_Kong:20180921T200000
DTEND;TZID=Asia/Hong_Kong:20180921T200000
DTSTAMP:20260424T160810
CREATED:19180720T083647Z
LAST-MODIFIED:20180828T074206Z
UID:10004342-1537560000-1537560000@www.bcmagazine.net
SUMMARY:Moonlight Night
DESCRIPTION:Moonlight Night – Dragon Boat Racing\nDate: 8pm\, 20-21 September\, 2018\nVenue: Venetian Theatre\nTickets: tbc
URL:https://www.bcmagazine.net/event/moonlight-dragon-boat-racing-21-09-2018/
LOCATION:Venetian Theatre\, Venetian Macao\, Macau
CATEGORIES:2018,Dance,Macau,Performing Arts
END:VEVENT
BEGIN:VEVENT
DTSTART;TZID=Asia/Hong_Kong:20180920T200000
DTEND;TZID=Asia/Hong_Kong:20180920T200000
DTSTAMP:20260424T160810
CREATED:19180720T083647Z
LAST-MODIFIED:20180828T074110Z
UID:10004341-1537473600-1537473600@www.bcmagazine.net
SUMMARY:Moonlight Night – Dragon Boat Racing
DESCRIPTION:Moonlight Night – Dragon Boat Racing\nDate: 8pm\, 20-21 September\, 2018\nVenue: Venetian Theatre\nTickets: tbc
URL:https://www.bcmagazine.net/event/moonlight-dragon-boat-racing-20-09-2018/
LOCATION:Venetian Theatre\, Venetian Macao\, Macau
CATEGORIES:2018,Dance,Macau,Performing Arts
END:VEVENT
END:VCALENDAR