BEGIN:VCALENDAR
VERSION:2.0
PRODID:-//bc magazine - ECPv6.15.20//NONSGML v1.0//EN
CALSCALE:GREGORIAN
METHOD:PUBLISH
X-WR-CALNAME:bc magazine
X-ORIGINAL-URL:https://www.bcmagazine.net
X-WR-CALDESC:Events for bc magazine
REFRESH-INTERVAL;VALUE=DURATION:PT1H
X-Robots-Tag:noindex
X-PUBLISHED-TTL:PT1H
BEGIN:VTIMEZONE
TZID:Asia/Hong_Kong
BEGIN:STANDARD
TZOFFSETFROM:+0800
TZOFFSETTO:+0800
TZNAME:HKT
DTSTART:20140101T000000
END:STANDARD
END:VTIMEZONE
BEGIN:VEVENT
DTSTART;TZID=Asia/Hong_Kong:20260218T200000
DTEND;TZID=Asia/Hong_Kong:20260218T200000
DTSTAMP:20260424T035357
CREATED:20260208T000805Z
LAST-MODIFIED:20260211T101445Z
UID:10012620-1771444800-1771444800@www.bcmagazine.net
SUMMARY:Year of the Horse Fireworks Display
DESCRIPTION:Lunar New Year Fireworks\nDate: 8pm\, 18 February\, 2026\nVenue: Victoria Harbour\nTickets: Free
URL:https://www.bcmagazine.net/event/lunar-new-year-fireworks-2026/
LOCATION:Victoria Harbour\, Hong Kong
CATEGORIES:2026,Cultural Festival,Free,Other
ATTACH;FMTTYPE=image/jpeg:https://www.bcmagazine.net/wp-content/uploads/2026/02/CNY-fireworks-2026.jpg
END:VEVENT
BEGIN:VEVENT
DTSTART;VALUE=DATE:20251122
DTEND;VALUE=DATE:20251123
DTSTAMP:20260424T035357
CREATED:20250731T120614Z
LAST-MODIFIED:20250731T130315Z
UID:10011388-1763769600-1763855999@www.bcmagazine.net
SUMMARY:Cross Harbour Race
DESCRIPTION:Cross Harbour Race 2025\nDate: 22 November\, 2025\nVenue: Victoria Harbour\nTickets:  Free 
URL:https://www.bcmagazine.net/event/cross-harbour-race-2025/
LOCATION:Victoria Harbour\, Hong Kong
CATEGORIES:2025,Sport,Swimming
ATTACH;FMTTYPE=image/jpeg:https://www.bcmagazine.net/wp-content/uploads/1917/06/harbour-race-2024-2.jpg
END:VEVENT
BEGIN:VEVENT
DTSTART;TZID=Asia/Hong_Kong:20251001T210000
DTEND;TZID=Asia/Hong_Kong:20251001T210000
DTSTAMP:20260424T035357
CREATED:20250915T104217Z
LAST-MODIFIED:20251005T170035Z
UID:10011418-1759352400-1759352400@www.bcmagazine.net
SUMMARY:National Day Fireworks
DESCRIPTION:The National Day Fireworks Display over Victoria Harbour will start at 9pm on 1 October. \nNational Day Fireworks\nDate: 9pm\, 1 October\, 2025\nVenue: Victoria Harbour\nTickets: Free
URL:https://www.bcmagazine.net/event/national-day-fireworks-2025-hong-kong/
LOCATION:Victoria Harbour\, Hong Kong
CATEGORIES:2025,Free,Nightlife
ATTACH;FMTTYPE=image/jpeg:https://www.bcmagazine.net/wp-content/uploads/2023/09/National-Day-Fireworks-Hong-Kong.jpg
END:VEVENT
BEGIN:VEVENT
DTSTART;TZID=Asia/Hong_Kong:20250501T200000
DTEND;TZID=Asia/Hong_Kong:20250501T200000
DTSTAMP:20260424T035357
CREATED:20250430T064205Z
LAST-MODIFIED:20250430T142305Z
UID:10011335-1746129600-1746129600@www.bcmagazine.net
SUMMARY:HKTB 1 May Drone Show
DESCRIPTION:HKTB 1 May Drone Show\nDate: 8pm\, 1 May\, 2025\nVenue: Victoria Harbour\nTickets: Free
URL:https://www.bcmagazine.net/event/hktb-1-may-drone-show/
LOCATION:Victoria Harbour\, Hong Kong
CATEGORIES:2025,Cultural Festival,Free,Other
ATTACH;FMTTYPE=image/jpeg:https://www.bcmagazine.net/wp-content/uploads/2024/05/HKTB-drone-show-bun-tower.jpg
END:VEVENT
BEGIN:VEVENT
DTSTART;TZID=Asia/Hong_Kong:20241231T000000
DTEND;TZID=Asia/Hong_Kong:20250101T001000
DTSTAMP:20260424T035357
CREATED:20251215T054217Z
LAST-MODIFIED:20260102T100944Z
UID:10012598-1735603200-1735690200@www.bcmagazine.net
SUMMARY:Hong Kong New Year Countdown
DESCRIPTION:New Years Eve Countdown\nDate: Midnight\, 31 December\, 2025\nVenue: Central\, Hong Kong\nTickets: Free
URL:https://www.bcmagazine.net/event/hong-kong-new-year-countdown-2026/
LOCATION:Victoria Harbour\, Hong Kong
CATEGORIES:2025,2026,Free,Nightlife
END:VEVENT
BEGIN:VEVENT
DTSTART;TZID=Asia/Hong_Kong:20241231T000000
DTEND;TZID=Asia/Hong_Kong:20250101T001000
DTSTAMP:20260424T035357
CREATED:20241213T055717Z
LAST-MODIFIED:20250110T082003Z
UID:10010205-1735603200-1735690200@www.bcmagazine.net
SUMMARY:New Years Eve Fireworks
DESCRIPTION:New Years Eve Fireworks\nDate: Midnight\, 31 December\, 2024\nVenue: Victoria Harbour\nTickets: Free
URL:https://www.bcmagazine.net/event/new-years-eve-fireworks-2024-25/
LOCATION:Victoria Harbour\, Hong Kong
CATEGORIES:2024,2025,Free,Nightlife
ATTACH;FMTTYPE=image/jpeg:https://www.bcmagazine.net/wp-content/uploads/2023/01/Happy-New-Year-2024.jpg
END:VEVENT
BEGIN:VEVENT
DTSTART;VALUE=DATE:20241110
DTEND;VALUE=DATE:20241111
DTSTAMP:20260424T035357
CREATED:20241103T120614Z
LAST-MODIFIED:20241101T144911Z
UID:10010191-1731196800-1731283199@www.bcmagazine.net
SUMMARY:Cross Harbour Race
DESCRIPTION:Cross Harbour Race 2024\nDate: 10 November\, 2024\nVenue: Victoria Harbour\nTickets:  Free 
URL:https://www.bcmagazine.net/event/cross-harbour-race-2024/
LOCATION:Victoria Harbour\, Hong Kong
CATEGORIES:2024,Sport,Swimming
ATTACH;FMTTYPE=image/jpeg:https://www.bcmagazine.net/wp-content/uploads/1917/06/harbour-race-2024-2.jpg
END:VEVENT
BEGIN:VEVENT
DTSTART;VALUE=DATE:20241109
DTEND;VALUE=DATE:20241111
DTSTAMP:20260424T035357
CREATED:20231222T080806Z
LAST-MODIFIED:20240117T104318Z
UID:10009434-1731110400-1731283199@www.bcmagazine.net
SUMMARY:E1 World Championship
DESCRIPTION:E1 World Championship – Hong Kong Grand Prix\nDate: 9-10 November\, 2024\nVenue: Victoria Harbour\nTickets: Free
URL:https://www.bcmagazine.net/event/e1-world-championship-2024/
LOCATION:Victoria Harbour\, Hong Kong
CATEGORIES:2024,Free,Sport
ATTACH;FMTTYPE=image/jpeg:https://www.bcmagazine.net/wp-content/uploads/2021/12/Electirc-Boat-Race-e1.jpeg
END:VEVENT
BEGIN:VEVENT
DTSTART;TZID=Asia/Hong_Kong:20241001T210000
DTEND;TZID=Asia/Hong_Kong:20241001T210000
DTSTAMP:20260424T035357
CREATED:20240915T104217Z
LAST-MODIFIED:20251005T170155Z
UID:10011417-1727816400-1727816400@www.bcmagazine.net
SUMMARY:National Day Fireworks
DESCRIPTION:The National Day Fireworks will start at 9pm on 1 October\, bursting into the sky to symbolise joy and unity. \nNational Day Fireworks\nDate: 9pm\, 1 October\, 2024\nVenue: Victoria Harbour\nTickets: Free
URL:https://www.bcmagazine.net/event/national-day-fireworks-2024/
LOCATION:Victoria Harbour\, Hong Kong
CATEGORIES:2024,Free,Nightlife
ATTACH;FMTTYPE=image/jpeg:https://www.bcmagazine.net/wp-content/uploads/2023/09/National-Day-Fireworks-Hong-Kong.jpg
END:VEVENT
BEGIN:VEVENT
DTSTART;TZID=Asia/Hong_Kong:20240928T200000
DTEND;TZID=Asia/Hong_Kong:20240928T200000
DTSTAMP:20260424T035357
CREATED:20240923T124205Z
LAST-MODIFIED:20240923T131038Z
UID:10009995-1727553600-1727553600@www.bcmagazine.net
SUMMARY:Galloping Horses in the Sky
DESCRIPTION:Galloping Horses in the Sky – National Day Drone Show\nDate: 8pm\, 28 September\, 2024\nVenue: Victoria Harbour\nTickets: Free
URL:https://www.bcmagazine.net/event/galloping-horses-in-the-sky-hk-2024/
LOCATION:Victoria Harbour\, Hong Kong
CATEGORIES:2024,Cultural Festival,Free,Other
ATTACH;FMTTYPE=image/png:https://www.bcmagazine.net/wp-content/uploads/1924/05/Galloping-Horses-in-the-Sky-drone-show.png
END:VEVENT
BEGIN:VEVENT
DTSTART;TZID=Asia/Hong_Kong:20240615T200000
DTEND;TZID=Asia/Hong_Kong:20240615T200000
DTSTAMP:20260424T035357
CREATED:19240508T064805Z
LAST-MODIFIED:20240516T093734Z
UID:10009824-1718481600-1718481600@www.bcmagazine.net
SUMMARY:Hong Kong International Dragon Boat Races Drone Show
DESCRIPTION:Hong Kong International Dragon Boat Races Drone Show\nDate: 8pm\, 15 June\, 2024\nVenue: Victoria Harbour\nTickets: Free
URL:https://www.bcmagazine.net/event/hong-kong-international-dragon-boat-races-drone-show-2024/
LOCATION:Victoria Harbour\, Hong Kong
CATEGORIES:2024,Cultural Festival,Free,Other
ATTACH;FMTTYPE=image/jpeg:https://www.bcmagazine.net/wp-content/uploads/1924/05/HKTB-Drone-Show-2024_3.jpg
END:VEVENT
BEGIN:VEVENT
DTSTART;TZID=Asia/Hong_Kong:20240610T200000
DTEND;TZID=Asia/Hong_Kong:20240610T200000
DTSTAMP:20260424T035357
CREATED:19240508T064205Z
LAST-MODIFIED:20240516T093530Z
UID:10009823-1718049600-1718049600@www.bcmagazine.net
SUMMARY:Dragon Boat Festival Drone Show
DESCRIPTION:Dragon Boat Festival Drone Show\nDate: 8pm\, 10 June\, 2024\nVenue: Victoria Harbour\nTickets: Free
URL:https://www.bcmagazine.net/event/dragon-boat-festival-drone-show-2024/
LOCATION:Victoria Harbour\, Hong Kong
CATEGORIES:2024,Cultural Festival,Free,Other
ATTACH;FMTTYPE=image/jpeg:https://www.bcmagazine.net/wp-content/uploads/1924/05/HKTB-Drone-Show-2024_5.jpg
END:VEVENT
BEGIN:VEVENT
DTSTART;TZID=Asia/Hong_Kong:20240511T200000
DTEND;TZID=Asia/Hong_Kong:20240511T200000
DTSTAMP:20260424T035357
CREATED:20240508T064205Z
LAST-MODIFIED:20240516T090651Z
UID:10009821-1715457600-1715457600@www.bcmagazine.net
SUMMARY:Cheung Chau Bun Festival Drone Show
DESCRIPTION:Cheung Chau Bun Festival Drone Show\nDate: 8pm\, 11 May\, 2024\nVenue: Victoria Harbour\nTickets: Free
URL:https://www.bcmagazine.net/event/cheung-chau-bun-festival-drone-show-2024/
LOCATION:Victoria Harbour\, Hong Kong
CATEGORIES:2024,Cultural Festival,Free,Other
ATTACH;FMTTYPE=image/jpeg:https://www.bcmagazine.net/wp-content/uploads/2024/02/HKTB-drone-show-11-May-2024-2.jpg
END:VEVENT
BEGIN:VEVENT
DTSTART;TZID=Asia/Hong_Kong:20240211T200000
DTEND;TZID=Asia/Hong_Kong:20240211T200000
DTSTAMP:20260424T035357
CREATED:20240131T163005Z
LAST-MODIFIED:20240207T105149Z
UID:10009449-1707681600-1707681600@www.bcmagazine.net
SUMMARY:Lunar New Year Fireworks
DESCRIPTION:Lunar New Year Fireworks\nDate: 8pm\, 11 February\, 2024\nVenue: Victoria Harbour\nTickets: Free
URL:https://www.bcmagazine.net/event/lunar-new-year-fireworks-2024/
LOCATION:Victoria Harbour\, Hong Kong
CATEGORIES:2024,Cultural Festival,Free,Other
ATTACH;FMTTYPE=image/jpeg:https://www.bcmagazine.net/wp-content/uploads/1917/01/Lunar-New-Year-Fireworks-2024.jpeg
END:VEVENT
BEGIN:VEVENT
DTSTART;VALUE=DATE:20231217
DTEND;VALUE=DATE:20231218
DTSTAMP:20260424T035357
CREATED:20230712T114604Z
LAST-MODIFIED:20230713T150438Z
UID:10007962-1702771200-1702857599@www.bcmagazine.net
SUMMARY:Hong Kong Streetathon
DESCRIPTION:Hong Kong Streetathon\nDate: 17 December\, 2023\nVenue: Victoria Harbour\nTickets: various
URL:https://www.bcmagazine.net/event/hong-kong-streetathon-2023/
LOCATION:Victoria Harbour\, Hong Kong
CATEGORIES:2023,Athletics,Fitness,Sport
ATTACH;FMTTYPE=image/jpeg:https://www.bcmagazine.net/wp-content/uploads/2023/07/Streetathon-2023.jpeg
END:VEVENT
BEGIN:VEVENT
DTSTART;VALUE=DATE:20231112
DTEND;VALUE=DATE:20231113
DTSTAMP:20260424T035357
CREATED:19170608T120614Z
LAST-MODIFIED:20230516T031647Z
UID:10006812-1699747200-1699833599@www.bcmagazine.net
SUMMARY:Cross Harbour Race
DESCRIPTION:Cross Harbour Race 2023\nDate: 12 November\, 2023\nVenue: Victoria Harbour\nTickets:  Free 
URL:https://www.bcmagazine.net/event/cross-harbour-race-2023/
LOCATION:Victoria Harbour\, Hong Kong
CATEGORIES:2023,Sport,Swimming
ATTACH;FMTTYPE=image/jpeg:https://www.bcmagazine.net/wp-content/uploads/1917/06/Cross-Harbour-Race.jpeg
END:VEVENT
BEGIN:VEVENT
DTSTART;TZID=Asia/Hong_Kong:20231001T210000
DTEND;TZID=Asia/Hong_Kong:20231001T210000
DTSTAMP:20260424T035357
CREATED:20230915T104217Z
LAST-MODIFIED:20230922T212003Z
UID:10008375-1696194000-1696194000@www.bcmagazine.net
SUMMARY:National Day Fireworks
DESCRIPTION:The National Day Fireworks Display will return to Victoria Harbour for the first time in five years\, celebrating the 74th anniversary of the founding of the People’s Republic of China. \nThe $18 million dollar\, 23-minute extravaganza will start at 9pm on October 1. A total of 31\,888 fireworks will be used\, divided into eight scenes\, opening with red hearts bursting into the sky to symbolise joy and unity. \nNational Day Fireworks\nDate: 9pm\, 1 October\, 2023\nVenue: Victoria Harbour\nTickets: Free
URL:https://www.bcmagazine.net/event/national-day-fireworks-2023/
LOCATION:Victoria Harbour\, Hong Kong
CATEGORIES:2023,Free,Nightlife
ATTACH;FMTTYPE=image/jpeg:https://www.bcmagazine.net/wp-content/uploads/2023/09/national-day-fireworks-2023-illustration.jpg
END:VEVENT
BEGIN:VEVENT
DTSTART;TZID=Asia/Hong_Kong:20211214T170000
DTEND;TZID=Asia/Hong_Kong:20211214T170000
DTSTAMP:20260424T035357
CREATED:20211201T080806Z
LAST-MODIFIED:20211214T010647Z
UID:10006692-1639501200-1639501200@www.bcmagazine.net
SUMMARY:Victoria Harbour Windsurfing Race
DESCRIPTION:Victoria Harbour Windsurfing Race\nDate: 5pm\, 14 December\, 2021\nVenue: Victoria Harbour\nTickets: Free
URL:https://www.bcmagazine.net/event/victoria-harbour-windsurfing-race-2021/
LOCATION:Victoria Harbour\, Hong Kong
CATEGORIES:2021,Free,Sailing,Sport
ATTACH;FMTTYPE=image/jpeg:https://www.bcmagazine.net/wp-content/uploads/1917/02/hk-victoria-harbour-windsurf-race-2021.jpg
END:VEVENT
BEGIN:VEVENT
DTSTART;VALUE=DATE:20211212
DTEND;VALUE=DATE:20211213
DTSTAMP:20260424T035357
CREATED:19160607T101338Z
LAST-MODIFIED:20211117T121903Z
UID:10001823-1639267200-1639353599@www.bcmagazine.net
SUMMARY:Cross-harbour Race
DESCRIPTION:Cross-harbour Race 2021\nDate: 12 December\, 2021\nVenue: Victoria Harbour\nTickets: Online registration is open until 22 November at www.hkharbourrace.com
URL:https://www.bcmagazine.net/event/cross-harbour-race-2021/
LOCATION:Victoria Harbour\, Hong Kong
CATEGORIES:2021,Sport,Swimming
ATTACH;FMTTYPE=image/jpeg:https://www.bcmagazine.net/wp-content/uploads/2016/06/Hk-cross-harbour-swim.jpeg
END:VEVENT
BEGIN:VEVENT
DTSTART;VALUE=DATE:20211205
DTEND;VALUE=DATE:20211206
DTSTAMP:20260424T035357
CREATED:20211126T114604Z
LAST-MODIFIED:20211126T134942Z
UID:10006689-1638662400-1638748799@www.bcmagazine.net
SUMMARY:Hong Kong Streetathon - Cancelled
DESCRIPTION:“Run Your City regret to announce that\, despite every effort to co-ordinate all parties concerned and gain lots of support from various departments\, we have not yet obtained the approval for exemption of the prohibition on group gathering order for the “Wong To Yick Wood Lock Ointment HONG KONG STREETATHON 2021” to be held in December 2021. The 8th HONG KONG STREETATHON will be postponed to the fourth quarter of 2022. \nOur aim of organizing Streetathon is to encourage everyone to do more exercise through this large-scale urban running event so as to achieve our vision of transforming the city into a healthy\, happy\, united and inclusive place.” \nHong Kong Streetathon\nDate: 5 December\, 2021\nVenue: Victoria Harbour\nTickets: various \nDue to the pandemic\, the organisers have reluctantly postponed the 2021 Streetathon to Q4 2022
URL:https://www.bcmagazine.net/event/hong-kong-streetathon-2021/
LOCATION:Victoria Harbour\, Hong Kong
CATEGORIES:2021,Athletics,Cancelled,Fitness,Sport
ATTACH;FMTTYPE=image/jpeg:https://www.bcmagazine.net/wp-content/uploads/1919/09/streetathon-2021.jpeg
END:VEVENT
BEGIN:VEVENT
DTSTART;VALUE=DATE:20200112
DTEND;VALUE=DATE:20200113
DTSTAMP:20260424T035357
CREATED:19190909T054604Z
LAST-MODIFIED:20211126T134028Z
UID:10004897-1578787200-1578873599@www.bcmagazine.net
SUMMARY:Hong Kong Streetathon
DESCRIPTION:Hong Kong Streetathon\nDate: 12 January\, 2020\nVenue: Victoria Harbour\nTickets: various
URL:https://www.bcmagazine.net/event/hong-kong-streetathon-2020/
LOCATION:Victoria Harbour\, Hong Kong
CATEGORIES:2020,Athletics,Fitness,Sport
ATTACH;FMTTYPE=image/png:https://www.bcmagazine.net/wp-content/uploads/2019/09/Hong-Kong-Streetathon-2020.png
END:VEVENT
BEGIN:VEVENT
DTSTART;VALUE=DATE:20181122
DTEND;VALUE=DATE:20181126
DTSTAMP:20260424T035357
CREATED:20181019T171954Z
LAST-MODIFIED:20181030T082746Z
UID:10006539-1542844800-1543190399@www.bcmagazine.net
SUMMARY:International Cruise and Yachting Festival
DESCRIPTION:The first International Cruise and Yachting Festival in Hong Kong is scheduled to be held from 22-25 November in Victoria Harbour. The festival aims to bring together global cruise and yacht brands and boats in an event that features Cruising and Yachting\, Maritime Lifestyle\, Marine and Leisure Tourism\, as well as Education and Employment.  \nThe ICYF also hopes to promote public understanding of Hong Kong’s waters and the sustainable development of the industry in the south China region. \nInternational Cruise and Yachting Festival\nDate: 22-25 November\, 2018\nVenue: Victoria Harbour\, China Merchants Wharf (Kennedy Town)\nTickets: free
URL:https://www.bcmagazine.net/event/international-cruise-and-yachting-festival-2018/
LOCATION:Victoria Harbour\, Hong Kong
CATEGORIES:2018,Free,Lifestyle,Sailing,Sport
ATTACH;FMTTYPE=image/jpeg:https://www.bcmagazine.net/wp-content/uploads/1918/07/The-ICYF-2018.jpg
END:VEVENT
BEGIN:VEVENT
DTSTART;VALUE=DATE:20181021
DTEND;VALUE=DATE:20181022
DTSTAMP:20260424T035357
CREATED:19170608T120614Z
LAST-MODIFIED:20181011T165006Z
UID:10002778-1540080000-1540166399@www.bcmagazine.net
SUMMARY:Cross Harbour Race
DESCRIPTION:Cross Harbour Race 2018\nDate: 21 October\, 2018\nVenue: Victoria Harbour\nTickets:  Free to watch
URL:https://www.bcmagazine.net/event/cross-harbour-race-2018/
LOCATION:Victoria Harbour\, Hong Kong
CATEGORIES:2018,Sport,Swimming
END:VEVENT
BEGIN:VEVENT
DTSTART;VALUE=DATE:20171029
DTEND;VALUE=DATE:20171030
DTSTAMP:20260424T035357
CREATED:19170608T120614Z
LAST-MODIFIED:20181011T164931Z
UID:10002777-1509235200-1509321599@www.bcmagazine.net
SUMMARY:Cross Harbour Race 2017
DESCRIPTION:Cross Harbour Race 2017\nDate: 29 October\, 2017\nVenue: Victoria Harbour\nTickets:  Free
URL:https://www.bcmagazine.net/event/cross-harbour-race-2017/
LOCATION:Victoria Harbour\, Hong Kong
CATEGORIES:2017,Sport,Swimming
END:VEVENT
BEGIN:VEVENT
DTSTART;TZID=Asia/Hong_Kong:20170129T200000
DTEND;TZID=Asia/Hong_Kong:20170129T200000
DTSTAMP:20260424T035357
CREATED:19170121T163005Z
LAST-MODIFIED:20170121T163313Z
UID:10002436-1485720000-1485720000@www.bcmagazine.net
SUMMARY:Lunar New Year Fireworks
DESCRIPTION:Lunar New Year Fireworks\nDate: 8pm\, 29 January\, 2017\nVenue: Victoria Harbour\nTickets: Free
URL:https://www.bcmagazine.net/event/lunar-new-year-fireworks-2017/
LOCATION:Victoria Harbour\, Hong Kong
CATEGORIES:2017,Cultural Festival,Free,Other
END:VEVENT
BEGIN:VEVENT
DTSTART;TZID=Asia/Hong_Kong:20161231T000000
DTEND;TZID=Asia/Hong_Kong:20170101T001000
DTSTAMP:20260424T035357
CREATED:20161213T055717Z
LAST-MODIFIED:20161213T055717Z
UID:10006353-1483142400-1483229400@www.bcmagazine.net
SUMMARY:New Years Eve Fireworks
DESCRIPTION:The New Year Countdown Celebrations will be the Hong Kong Tourist Board’s first celebratory event for the 20th anniversary of the establishment of the HKSAR. The fireworks display will be extended from 8 to 10 minutes and feature new fireworks patterns including a mock gun salute. And for the first time and we’ll quote the HKTB “there’ll be lighting effects for a stronger visual impact.” \nAs if the TST waterfront isn’t busy enough – and with the ‘Walk of Stars’ closed – even more packed on New Year’s Eve there will also be a ‘street party’ at the Tsim Sha Tsui Pier from 10pm where various artists will perform. Why this isn’t in Tamar Park or Central Harbourfront which have far more space is not a question we could get an answer to… \nNew Years Eve Fireworks\nDate: Midnight\, 31 December\, 2016\nVenue: Victoria Harbour\nTickets: Free
URL:https://www.bcmagazine.net/event/new-years-eve-fireworks-2016-2017/
LOCATION:Victoria Harbour\, Hong Kong
CATEGORIES:2016,2017,Free,Nightlife
END:VEVENT
BEGIN:VEVENT
DTSTART;TZID=Asia/Hong_Kong:20161016T083000
DTEND;TZID=Asia/Hong_Kong:20161016T170000
DTSTAMP:20260424T035357
CREATED:20160607T101338Z
LAST-MODIFIED:20160607T101744Z
UID:10006115-1476606600-1476637200@www.bcmagazine.net
SUMMARY:Victoria Harbour Race 2016
DESCRIPTION:The sixth Victoria Harbour Race takes place on the 16th October from Lei Yue Mun Sam Ka Tsuen Public Pier to Quarry Bay Park Public Pier. \nThe race comprises two groups\, Racing and Leisure\, which have respective quotas of 600 and 2\,400 swimmers. There are seven categories in the Racing Group: Youth (aged 12 to 16)\, Open A (aged 17 to 34)\, Open B (aged 35 to 49)\, Open C (aged 50 or above)\, International (aged 14 or above)\, the Invitation Cup and the School category. The Leisure Group is open to all eligible swimmers aged 12 or above. \nOnline entry registration starts at www.hkharbourrace.com on the 8th June with the number of entries increased to 3000 this year. \nVictoria Harbour Race 2016\nDate: 8:30am\, 16 October\, 2016\nVenue: Victoria Harbour\nTickets: Online registration starts on 8 June 2016 at www.hkharbourrace.com
URL:https://www.bcmagazine.net/event/victoria-harbour-race-2016/
LOCATION:Victoria Harbour\, Hong Kong
CATEGORIES:2016,Sport
END:VEVENT
BEGIN:VEVENT
DTSTART;VALUE=DATE:20151018
DTEND;VALUE=DATE:20151019
DTSTAMP:20260424T035357
CREATED:20150609T125650Z
LAST-MODIFIED:20150609T125650Z
UID:10006017-1445126400-1445212799@www.bcmagazine.net
SUMMARY:Victoria Harbour Race 2015
DESCRIPTION:The fifth Victoria Harbour Race takes place on the 18th October from Lei Yue Mun Sam Ka Tsuen Public Pier to Quarry Bay Park Public Pier. \nOnline entry registration starts at www.hkharbourrace.com on the 10th June with the number of entries increased to 2500 this year. \nHarbour Race 2015\nDate: 18 October\, 2015\nVenue: Victoria Harbour\nTickets: Online registration starts on 10 June 2015
URL:https://www.bcmagazine.net/event/victoria-harbour-race-2015/
LOCATION:Victoria Harbour\, Hong Kong
CATEGORIES:2015,Sport
END:VEVENT
BEGIN:VEVENT
DTSTART;VALUE=DATE:20150703
DTEND;VALUE=DATE:20150706
DTSTAMP:20260424T035357
CREATED:20150703T000850Z
LAST-MODIFIED:20150704T032628Z
UID:10005023-1435881600-1436140799@www.bcmagazine.net
SUMMARY:Hong Kong Dragon Boat Carnival
DESCRIPTION:The Hong Kong Dragon Boat Carnival takes place on the Tsim Sha Tsui waterfront from the 3 July 2015 (Friday) to 5 July 2015 (Sunday). The carnival features the Hong Kong International Dragon Boat Races in Victoria Harbour and a social and family fun day on the East Tsim Sha Tsui promenade \nThree days of intense racing will fill the harbour with a profusion of colour and the sounds of drummers and fans urging paddlers on to the finish line. 4\,000 paddlers comprising 411 teams from 143 dragon boat clubs\, with 311 local teams and 100 overseas teams from 13 countries\, including Australia\, Canada\, Mainland China\, Dubai\, Japan\, Korea\, Macau\, the Netherlands\, the Philippines\, Singapore\, Taiwan\, Thailand and the UK.  \nHong Kong Dragon Boat Carnival\nDate: 3-5 July 2015 (Friday to Sunday)\nVenue: Victoria Harbour\, East Tsim Sha Tsui\, Kowloon\nTickets: Free to watch\nMore info:\n3 July: Noon to 5pm\n4 July: 8:30am to 6pm\n5 July: 9am to 5pm
URL:https://www.bcmagazine.net/event/hong-kong-dragon-boat-carnival/
LOCATION:Victoria Harbour\, Hong Kong
CATEGORIES:2015,Free,Sport
END:VEVENT
END:VCALENDAR