BEGIN:VCALENDAR
VERSION:2.0
PRODID:-//bc magazine - ECPv6.15.20//NONSGML v1.0//EN
CALSCALE:GREGORIAN
METHOD:PUBLISH
X-WR-CALNAME:bc magazine
X-ORIGINAL-URL:https://www.bcmagazine.net
X-WR-CALDESC:Events for bc magazine
REFRESH-INTERVAL;VALUE=DURATION:PT1H
X-Robots-Tag:noindex
X-PUBLISHED-TTL:PT1H
BEGIN:VTIMEZONE
TZID:Asia/Hong_Kong
BEGIN:STANDARD
TZOFFSETFROM:+0800
TZOFFSETTO:+0800
TZNAME:HKT
DTSTART:20160101T000000
END:STANDARD
END:VTIMEZONE
BEGIN:VEVENT
DTSTART;TZID=Asia/Hong_Kong:20170429T140000
DTEND;TZID=Asia/Hong_Kong:20170429T230000
DTSTAMP:20260423T210714
CREATED:19170420T030758Z
LAST-MODIFIED:20170420T031227Z
UID:10001133-1493474400-1493506800@www.bcmagazine.net
SUMMARY:Papay Gyro Nights
DESCRIPTION:Papay Gyro Nights\nDate: 2-11pm\, 29 April\, 2017\nVenue: Videotage\nTickets: $200
URL:https://www.bcmagazine.net/event/papay-gyro-nights-2017/
LOCATION:Videotage\, Unit 13\, Cattle Depot Artist Village\, 63 Ma Tau Kok\, To Kwa Wan\, Hong Kong
CATEGORIES:2017,Art Gallery,Exhibition,Performing Arts
GEO:22.320838;114.191563
X-APPLE-STRUCTURED-LOCATION;VALUE=URI;X-ADDRESS=Videotage Unit 13 Cattle Depot Artist Village 63 Ma Tau Kok To Kwa Wan Hong Kong;X-APPLE-RADIUS=500;X-TITLE=Unit 13\, Cattle Depot Artist Village\, 63 Ma Tau Kok:geo:114.191563,22.320838
END:VEVENT
END:VCALENDAR