BEGIN:VCALENDAR
VERSION:2.0
PRODID:-//bc magazine - ECPv6.15.20//NONSGML v1.0//EN
CALSCALE:GREGORIAN
METHOD:PUBLISH
X-WR-CALNAME:bc magazine
X-ORIGINAL-URL:https://www.bcmagazine.net
X-WR-CALDESC:Events for bc magazine
REFRESH-INTERVAL;VALUE=DURATION:PT1H
X-Robots-Tag:noindex
X-PUBLISHED-TTL:PT1H
BEGIN:VTIMEZONE
TZID:Asia/Hong_Kong
BEGIN:STANDARD
TZOFFSETFROM:+0800
TZOFFSETTO:+0800
TZNAME:HKT
DTSTART:20180101T000000
END:STANDARD
END:VTIMEZONE
BEGIN:VEVENT
DTSTART;VALUE=DATE:20190517
DTEND;VALUE=DATE:20190520
DTSTAMP:20260421T151215
CREATED:20240212T084257Z
LAST-MODIFIED:20240313T145132Z
UID:10009456-1558051200-1558310399@www.bcmagazine.net
SUMMARY:World Triathlon Cup Hong Kong
DESCRIPTION:World Triathlon Cup Hong Kong\nDate: 9:30am\, 24 March 2024\nVenue: Central & Wanchai Waterfront\nTickets: Free
URL:https://www.bcmagazine.net/event/world-triathlon-cup-hong-kong-2024/
LOCATION:Wanchai Waterfront\, Hong Kong
CATEGORIES:2024,Athletics,Cycling,Free,Lifestyle,Sport,Swimming,Triathlon
ATTACH;FMTTYPE=image/jpeg:https://www.bcmagazine.net/wp-content/uploads/1919/04/world-triathlon-cup-triathlon-2024-HK.jpg
END:VEVENT
END:VCALENDAR