BEGIN:VCALENDAR
VERSION:2.0
PRODID:-//bc magazine - ECPv6.15.20//NONSGML v1.0//EN
CALSCALE:GREGORIAN
METHOD:PUBLISH
X-WR-CALNAME:bc magazine
X-ORIGINAL-URL:https://www.bcmagazine.net
X-WR-CALDESC:Events for bc magazine
REFRESH-INTERVAL;VALUE=DURATION:PT1H
X-Robots-Tag:noindex
X-PUBLISHED-TTL:PT1H
BEGIN:VTIMEZONE
TZID:Asia/Hong_Kong
BEGIN:STANDARD
TZOFFSETFROM:+0800
TZOFFSETTO:+0800
TZNAME:HKT
DTSTART:20140101T000000
END:STANDARD
END:VTIMEZONE
BEGIN:VEVENT
DTSTART;TZID=Asia/Hong_Kong:20170513T120000
DTEND;TZID=Asia/Hong_Kong:20170513T170000
DTSTAMP:20260422T012708
CREATED:19170419T151623Z
LAST-MODIFIED:20170419T152152Z
UID:10001126-1494676800-1494694800@www.bcmagazine.net
SUMMARY:Outlook Festival Hong Kong Launch Party
DESCRIPTION:Outlook Festival Hong Kong Launch Party\nDate: Noon\, 13 May\, 2017\nVenue: Whitehead Barbecue\, Ma On Shan\nTickets: $380\, $300\, $280 from Ticketflap
URL:https://www.bcmagazine.net/event/outlook-festival-hong-kong-launch-party-2017/
LOCATION:Whitehead Barbecue\, Ma On Shan\, Hong Kong
CATEGORIES:2017,DJ,Music,Nightlife
END:VEVENT
BEGIN:VEVENT
DTSTART;TZID=Asia/Hong_Kong:20150808T160000
DTEND;TZID=Asia/Hong_Kong:20150809T010000
DTSTAMP:20260422T012708
CREATED:20150609T050047Z
LAST-MODIFIED:20150709T050526Z
UID:10006010-1439049600-1439082000@www.bcmagazine.net
SUMMARY:Outlook Festival
DESCRIPTION:Outlook Festival\nDate: 4pm-1am August\, 2015\nVenue: Whitehead Barbecue\, Ma On Shan\nTickets: $380 from Ticketflap
URL:https://www.bcmagazine.net/event/outlook-festival/
LOCATION:Whitehead Barbecue\, Ma On Shan\, Hong Kong
CATEGORIES:2015,Concert,DJ,Music,Nightlife
END:VEVENT
END:VCALENDAR