BEGIN:VCALENDAR
VERSION:2.0
PRODID:-//bc magazine - ECPv6.15.20//NONSGML v1.0//EN
CALSCALE:GREGORIAN
METHOD:PUBLISH
X-WR-CALNAME:bc magazine
X-ORIGINAL-URL:https://www.bcmagazine.net
X-WR-CALDESC:Events for bc magazine
REFRESH-INTERVAL;VALUE=DURATION:PT1H
X-Robots-Tag:noindex
X-PUBLISHED-TTL:PT1H
BEGIN:VTIMEZONE
TZID:Asia/Hong_Kong
BEGIN:STANDARD
TZOFFSETFROM:+0800
TZOFFSETTO:+0800
TZNAME:HKT
DTSTART:20140101T000000
END:STANDARD
END:VTIMEZONE
BEGIN:VEVENT
DTSTART;TZID=Asia/Hong_Kong:20150214T200000
DTEND;TZID=Asia/Hong_Kong:20150214T230000
DTSTAMP:20260426T023521
CREATED:20150204T021509Z
LAST-MODIFIED:20150204T015849Z
UID:3229-1423944000-1423954800@www.bcmagazine.net
SUMMARY:2PM World Tour 「Go Crazy」@ AsiaWorld Expo - 8pm\, 14 February\, 2015
DESCRIPTION:South Korean boy band 2PM latest tour in support of their fourth studio album Go Crazy comes to Hong Kong on Valentines Day. \n2PM World Tour:「Go Crazy」\nWhen: 8pm\, 14 February\, 2015\nWhere: AsiaWorld Expo\nHow much: $1680\, $1380\, $980\, $680 from HKTicketing
URL:https://www.bcmagazine.net/event/2pm-world-tour-%e3%80%8cgo-crazy%e3%80%8d-asiaworld-expo-8pm-14-february-2015/
LOCATION:AsiaWorld-Expo\, Cheong Wing Road\, Chek Lap Kok\, Lantau\, Hong Kong
CATEGORIES:Concert,Music,Performing Arts
GEO:22.3217383;113.9402012
X-APPLE-STRUCTURED-LOCATION;VALUE=URI;X-ADDRESS=AsiaWorld-Expo Cheong Wing Road Chek Lap Kok Lantau Hong Kong;X-APPLE-RADIUS=500;X-TITLE=Cheong Wing Road\, Chek Lap Kok:geo:113.9402012,22.3217383
END:VEVENT
END:VCALENDAR