BEGIN:VCALENDAR
VERSION:2.0
PRODID:-//bc magazine - ECPv6.15.20//NONSGML v1.0//EN
CALSCALE:GREGORIAN
METHOD:PUBLISH
X-WR-CALNAME:bc magazine
X-ORIGINAL-URL:https://www.bcmagazine.net
X-WR-CALDESC:Events for bc magazine
REFRESH-INTERVAL;VALUE=DURATION:PT1H
X-Robots-Tag:noindex
X-PUBLISHED-TTL:PT1H
BEGIN:VTIMEZONE
TZID:Asia/Hong_Kong
BEGIN:STANDARD
TZOFFSETFROM:+0800
TZOFFSETTO:+0800
TZNAME:HKT
DTSTART:20150101T000000
END:STANDARD
END:VTIMEZONE
BEGIN:VEVENT
DTSTART;VALUE=DATE:20160819
DTEND;VALUE=DATE:20160822
DTSTAMP:20260421T142229
CREATED:19160708T084159Z
LAST-MODIFIED:20220924T100217Z
UID:11170-1471564800-1471823999@www.bcmagazine.net
SUMMARY:A Big Melon's Tour of Hong Kong
DESCRIPTION:A Big Melon’s Tour of Hong Kong\nThe Hong Kong Children’s Musical Theatre\nDate: 19-21 August\, 2016\nVenue: Kwai Tsing Theatre\, Auditorium\nTickets: $280\, $220\, $160 from Urbtix\nMore info:\n19-20 Aug – 8pm\n20-21 Aug – 2:15pm\, 4:30pm
URL:https://www.bcmagazine.net/event/a-big-melons-tour-of-hong-kong-2016/
LOCATION:Kwai Tsing Theatre\, Auditorium\, 12 Hing Ning Road\, Kwai Chung\, Hong Kong
CATEGORIES:2016,Performing Arts,Theatre
GEO:22.3568224;114.126199
X-APPLE-STRUCTURED-LOCATION;VALUE=URI;X-ADDRESS=Kwai Tsing Theatre Auditorium 12 Hing Ning Road Kwai Chung Hong Kong;X-APPLE-RADIUS=500;X-TITLE=12 Hing Ning Road:geo:114.126199,22.3568224
END:VEVENT
END:VCALENDAR