BEGIN:VCALENDAR
VERSION:2.0
PRODID:-//bc magazine - ECPv6.15.20//NONSGML v1.0//EN
CALSCALE:GREGORIAN
METHOD:PUBLISH
X-WR-CALNAME:bc magazine
X-ORIGINAL-URL:https://www.bcmagazine.net
X-WR-CALDESC:Events for bc magazine
REFRESH-INTERVAL;VALUE=DURATION:PT1H
X-Robots-Tag:noindex
X-PUBLISHED-TTL:PT1H
BEGIN:VTIMEZONE
TZID:Asia/Hong_Kong
BEGIN:STANDARD
TZOFFSETFROM:+0800
TZOFFSETTO:+0800
TZNAME:HKT
DTSTART:20140101T000000
END:STANDARD
END:VTIMEZONE
BEGIN:VEVENT
DTSTART;TZID=Asia/Hong_Kong:20150327T201500
DTEND;TZID=Asia/Hong_Kong:20150327T230000
DTSTAMP:20260423T220815
CREATED:20150113T231247Z
LAST-MODIFIED:20150306T093027Z
UID:3034-1427487300-1427497200@www.bcmagazine.net
SUMMARY:Alex To My Virtual Planet Tour Part II @ HK Coliseum - 27-28 March\, 2015
DESCRIPTION:Alex To My Virtual Planet Tour Part II\nWhen: 8:15pm\, 27 March\, 2015\nWhere: HK Coliseum\nHow Much: $680\, $380\, $280
URL:https://www.bcmagazine.net/event/alex-to-my-virtual-planet-tour-part-ii-hk-coliseum-27-28-march-2015/
LOCATION:HK Coliseum\, 9 Cheong Wan Road\, Hung Hom\, Hong Kong
CATEGORIES:Concert,Music
GEO:22.3014169;114.1820305
X-APPLE-STRUCTURED-LOCATION;VALUE=URI;X-ADDRESS=HK Coliseum 9 Cheong Wan Road Hung Hom Hong Kong;X-APPLE-RADIUS=500;X-TITLE=9 Cheong Wan Road:geo:114.1820305,22.3014169
END:VEVENT
END:VCALENDAR