BEGIN:VCALENDAR
VERSION:2.0
PRODID:-//bc magazine - ECPv6.15.20//NONSGML v1.0//EN
CALSCALE:GREGORIAN
METHOD:PUBLISH
X-WR-CALNAME:bc magazine
X-ORIGINAL-URL:https://www.bcmagazine.net
X-WR-CALDESC:Events for bc magazine
REFRESH-INTERVAL;VALUE=DURATION:PT1H
X-Robots-Tag:noindex
X-PUBLISHED-TTL:PT1H
BEGIN:VTIMEZONE
TZID:Asia/Hong_Kong
BEGIN:STANDARD
TZOFFSETFROM:+0800
TZOFFSETTO:+0800
TZNAME:HKT
DTSTART:20140101T000000
END:STANDARD
END:VTIMEZONE
BEGIN:VEVENT
DTSTART;VALUE=DATE:20150612
DTEND;VALUE=DATE:20150615
DTSTAMP:20260424T023704
CREATED:20150510T064807Z
LAST-MODIFIED:20150512T065353Z
UID:4495-1434067200-1434326399@www.bcmagazine.net
SUMMARY:BigBang 2015 World Tour [MADE] in Hong Kong - 12-14 June\, 2015
DESCRIPTION:BigBang 2015 World Tour [MADE] in Hong Kong\nDate: 12-14 June\, 2015\nVenue: AsiaWorld-Expo Arena\nTickets: $1\,888\, $1\,388\, $1\,188\, $988\, $788\, $488\nMore info:\n12 Jun 2015 (Fri) at 8pm\n13 Jun 2015 (Sat) at 8pm\n14 Jun 2015 (Sun) at 7pm
URL:https://www.bcmagazine.net/event/bigbang-2015-world-tour-made-in-hong-kong-12-14-june-2015/
LOCATION:AsiaWorld-Expo\, Arena\, Cheong Wing Road\, Chek Lap Kok\, Lantau\, Hong Kong
CATEGORIES:2015,Concert,concert,Music,Performing Arts
GEO:22.3217383;113.9402012
X-APPLE-STRUCTURED-LOCATION;VALUE=URI;X-ADDRESS=AsiaWorld-Expo Arena Cheong Wing Road Chek Lap Kok Lantau Hong Kong;X-APPLE-RADIUS=500;X-TITLE=Cheong Wing Road\, Chek Lap Kok:geo:113.9402012,22.3217383
END:VEVENT
END:VCALENDAR