BEGIN:VCALENDAR
VERSION:2.0
PRODID:-//bc magazine - ECPv6.15.20//NONSGML v1.0//EN
CALSCALE:GREGORIAN
METHOD:PUBLISH
X-WR-CALNAME:bc magazine
X-ORIGINAL-URL:https://www.bcmagazine.net
X-WR-CALDESC:Events for bc magazine
REFRESH-INTERVAL;VALUE=DURATION:PT1H
X-Robots-Tag:noindex
X-PUBLISHED-TTL:PT1H
BEGIN:VTIMEZONE
TZID:Asia/Hong_Kong
BEGIN:STANDARD
TZOFFSETFROM:+0800
TZOFFSETTO:+0800
TZNAME:HKT
DTSTART:20160101T000000
END:STANDARD
END:VTIMEZONE
BEGIN:VEVENT
DTSTART;VALUE=DATE:20170630
DTEND;VALUE=DATE:20170703
DTSTAMP:20260424T110841
CREATED:19170421T030904Z
LAST-MODIFIED:20220929T094342Z
UID:30737-1498780800-1499039999@www.bcmagazine.net
SUMMARY:Enlightenment of the Goddess of Mercy
DESCRIPTION:Enlightenment of the Goddess of Mercy\, Grand Birthday Celebration at Mount Heung Fa\nChinese Opera Festival 2017\, The Chinese Artists Association of Hong Kong\nDate: 30 June – 2 July\, 2017\nVenue: HK Cultural Centre\, Grand Theatre\nTickets: $450\, $350\, $250\, $150 from Urbtix\nMore info\n30 June\, 2 July – 7:30pm\n1 July – 2:30pm\nIn Chinese with English and Chinese surtitles
URL:https://www.bcmagazine.net/event/enlightenment-of-the-goddess-of-mercy-chinese-opera-festival-2017/
LOCATION:HK Cultural Centre\, Grand Theatre\,\, 10 Salisbury Road\, Tsim Sha Tsui\, Hong Kong
CATEGORIES:2017,Chinese opera,Cultural Festival,Music,Performing Arts
GEO:22.294318;114.171708
X-APPLE-STRUCTURED-LOCATION;VALUE=URI;X-ADDRESS=HK Cultural Centre Grand Theatre 10 Salisbury Road Tsim Sha Tsui Hong Kong;X-APPLE-RADIUS=500;X-TITLE=10 Salisbury Road:geo:114.171708,22.294318
END:VEVENT
END:VCALENDAR