BEGIN:VCALENDAR
VERSION:2.0
PRODID:-//bc magazine - ECPv6.15.20//NONSGML v1.0//EN
CALSCALE:GREGORIAN
METHOD:PUBLISH
X-WR-CALNAME:bc magazine
X-ORIGINAL-URL:https://www.bcmagazine.net
X-WR-CALDESC:Events for bc magazine
REFRESH-INTERVAL;VALUE=DURATION:PT1H
X-Robots-Tag:noindex
X-PUBLISHED-TTL:PT1H
BEGIN:VTIMEZONE
TZID:Asia/Hong_Kong
BEGIN:STANDARD
TZOFFSETFROM:+0800
TZOFFSETTO:+0800
TZNAME:HKT
DTSTART:20150101T000000
END:STANDARD
END:VTIMEZONE
BEGIN:VEVENT
DTSTART;TZID=Asia/Hong_Kong:20160516T200000
DTEND;TZID=Asia/Hong_Kong:20160516T200000
DTSTAMP:20260424T031929
CREATED:19160331T085050Z
LAST-MODIFIED:20160911T084003Z
UID:9813-1463428800-1463428800@www.bcmagazine.net
SUMMARY:Hong Kong Vocal Music Salon
DESCRIPTION:Songs of Spring Concert\nHong Kong Vocal Music Salon\nDate: 8pm\, 16 May\, 2016\nVenue: HK City Hall\, Theatre\nTickets: $100 from Urbtix
URL:https://www.bcmagazine.net/event/hk-vocal-music-salon-songs-of-spring-2016/
LOCATION:HK City Hall\, Theatre\, 5 Edinburgh Place\, Central\, Hong Kong
CATEGORIES:2016,Concert,Music,Performing Arts
GEO:22.2822646;114.1615275
X-APPLE-STRUCTURED-LOCATION;VALUE=URI;X-ADDRESS=HK City Hall Theatre 5 Edinburgh Place Central Hong Kong;X-APPLE-RADIUS=500;X-TITLE=5 Edinburgh Place:geo:114.1615275,22.2822646
END:VEVENT
END:VCALENDAR