BEGIN:VCALENDAR
VERSION:2.0
PRODID:-//bc magazine - ECPv6.15.20//NONSGML v1.0//EN
CALSCALE:GREGORIAN
METHOD:PUBLISH
X-WR-CALNAME:bc magazine
X-ORIGINAL-URL:https://www.bcmagazine.net
X-WR-CALDESC:Events for bc magazine
REFRESH-INTERVAL;VALUE=DURATION:PT1H
X-Robots-Tag:noindex
X-PUBLISHED-TTL:PT1H
BEGIN:VTIMEZONE
TZID:Asia/Hong_Kong
BEGIN:STANDARD
TZOFFSETFROM:+0800
TZOFFSETTO:+0800
TZNAME:HKT
DTSTART:20140101T000000
END:STANDARD
END:VTIMEZONE
BEGIN:VEVENT
DTSTART;TZID=Asia/Hong_Kong:20150823T200000
DTEND;TZID=Asia/Hong_Kong:20150823T230000
DTSTAMP:20260422T151159
CREATED:20150426T022902Z
LAST-MODIFIED:20150425T114021Z
UID:4117-1440360000-1440370800@www.bcmagazine.net
SUMMARY:Imagine Dragons: Smoke + Mirrors Tour @ AsiaWorld-Expo\, Arena - 23 August 2015
DESCRIPTION:Imagine Dragons: Smoke + Mirrors Tour\nDate: 8pm\, 23 August 2015 (Sunday)\nVenue: AsiaWorld-Expo\, Arena\nTickets: $588 (Standing)\, $788\, $588\, $388\, $288 (Seated) on-sale 29 April from HKTicketing
URL:https://www.bcmagazine.net/event/imagine-dragons-smoke-mirrors-tour-asiaworld-expo-arena-23-august-2015/
LOCATION:AsiaWorld-Expo\, Arena\, Cheong Wing Road\, Chek Lap Kok\, Lantau\, Hong Kong
CATEGORIES:Concert,concert,Music,Performing Arts
GEO:22.3217383;113.9402012
X-APPLE-STRUCTURED-LOCATION;VALUE=URI;X-ADDRESS=AsiaWorld-Expo Arena Cheong Wing Road Chek Lap Kok Lantau Hong Kong;X-APPLE-RADIUS=500;X-TITLE=Cheong Wing Road\, Chek Lap Kok:geo:113.9402012,22.3217383
END:VEVENT
END:VCALENDAR