BEGIN:VCALENDAR
VERSION:2.0
PRODID:-//bc magazine - ECPv6.15.20//NONSGML v1.0//EN
CALSCALE:GREGORIAN
METHOD:PUBLISH
X-WR-CALNAME:bc magazine
X-ORIGINAL-URL:https://www.bcmagazine.net
X-WR-CALDESC:Events for bc magazine
REFRESH-INTERVAL;VALUE=DURATION:PT1H
X-Robots-Tag:noindex
X-PUBLISHED-TTL:PT1H
BEGIN:VTIMEZONE
TZID:Asia/Hong_Kong
BEGIN:STANDARD
TZOFFSETFROM:+0800
TZOFFSETTO:+0800
TZNAME:HKT
DTSTART:20140101T000000
END:STANDARD
END:VTIMEZONE
BEGIN:VEVENT
DTSTART;VALUE=DATE:20150507
DTEND;VALUE=DATE:20150511
DTSTAMP:20260426T081025
CREATED:20150408T103845Z
LAST-MODIFIED:20150428T104036Z
UID:4252-1430956800-1431302399@www.bcmagazine.net
SUMMARY:Jekyll & Hyde @ Jockey Club Amphitheatre\, HKAPA - 1-3\, 7-10 May\, 2015
DESCRIPTION:A new adaptation of Robert Louis Stevenson’s mystery story Jekyll & Hyde brings this dark tale of terror and suspense to spin-chilling life! Following successful productions in London and at the Edinburgh Fringe Festival\, acclaimed playwright Jonathan Holloway (Les Miserables) directs Stevenson’s gothic horror masterpiece in Hong Kong. With a cast of professional UK and HK actors. \nJekyll & Hyde\nChung Ying Theatre\nDate: 1-10 May\, 2015\nVenue: Jockey Club Amphitheatre\, HKAPA\nTickets: $420\, $340\, $260 from HKTicketing\nMore info:\n1 May 2015 (Fri) at 8pm\n2 May 2015 (Sat) at 3pm & 8pm\n3 May 2015 (Sun) at 3pm \n7 May 2015 (Thu) at 8pm\n8 May 2015 (Fri) at 8pm\n9 May 2015 (Sat) at 8pm\n10 May 2015 (Sun) at 3pm
URL:https://www.bcmagazine.net/event/jekyll-hyde-jockey-club-amphitheatre-hkapa-1-3-7-10-may-2015-2/
LOCATION:HKAPA: Jockey Club Amphitheatre\, 1 Gloucester Road\, Wanchai\, Hong Kong
CATEGORIES:Performing Arts,Theatre
GEO:22.2801854;114.1695054
X-APPLE-STRUCTURED-LOCATION;VALUE=URI;X-ADDRESS=HKAPA: Jockey Club Amphitheatre 1 Gloucester Road Wanchai Hong Kong;X-APPLE-RADIUS=500;X-TITLE=1 Gloucester Road:geo:114.1695054,22.2801854
END:VEVENT
END:VCALENDAR