BEGIN:VCALENDAR
VERSION:2.0
PRODID:-//bc magazine - ECPv6.15.20//NONSGML v1.0//EN
CALSCALE:GREGORIAN
METHOD:PUBLISH
X-WR-CALNAME:bc magazine
X-ORIGINAL-URL:https://www.bcmagazine.net
X-WR-CALDESC:Events for bc magazine
REFRESH-INTERVAL;VALUE=DURATION:PT1H
X-Robots-Tag:noindex
X-PUBLISHED-TTL:PT1H
BEGIN:VTIMEZONE
TZID:Asia/Hong_Kong
BEGIN:STANDARD
TZOFFSETFROM:+0800
TZOFFSETTO:+0800
TZNAME:HKT
DTSTART:20140101T000000
END:STANDARD
END:VTIMEZONE
BEGIN:VEVENT
DTSTART;TZID=Asia/Hong_Kong:20150206T201500
DTEND;TZID=Asia/Hong_Kong:20150206T230000
DTSTAMP:20260421T100340
CREATED:20141118T223426Z
LAST-MODIFIED:20150118T224505Z
UID:3032-1423253700-1423263600@www.bcmagazine.net
SUMMARY:Mimi Choo in Concert 2015 @ HK Coliseum - 6-7 February\, 2015
DESCRIPTION:Mimi Choo in Concert 2015\nWhen: 8pm\, 6 February 2015\nWhere: HK Coliseum\nHow much: $580\, $480\, $280\, $180 from URBTIX
URL:https://www.bcmagazine.net/event/mimi-choo-in-concert-2015-hk-coliseum-6-7-february-2015-2/
LOCATION:HK Coliseum\, 9 Cheong Wan Road\, Hung Hom\, Hong Kong
GEO:22.3014169;114.1820305
X-APPLE-STRUCTURED-LOCATION;VALUE=URI;X-ADDRESS=HK Coliseum 9 Cheong Wan Road Hung Hom Hong Kong;X-APPLE-RADIUS=500;X-TITLE=9 Cheong Wan Road:geo:114.1820305,22.3014169
END:VEVENT
END:VCALENDAR