BEGIN:VCALENDAR
VERSION:2.0
PRODID:-//bc magazine - ECPv6.15.20//NONSGML v1.0//EN
CALSCALE:GREGORIAN
METHOD:PUBLISH
X-WR-CALNAME:bc magazine
X-ORIGINAL-URL:https://www.bcmagazine.net
X-WR-CALDESC:Events for bc magazine
REFRESH-INTERVAL;VALUE=DURATION:PT1H
X-Robots-Tag:noindex
X-PUBLISHED-TTL:PT1H
BEGIN:VTIMEZONE
TZID:Asia/Hong_Kong
BEGIN:STANDARD
TZOFFSETFROM:+0800
TZOFFSETTO:+0800
TZNAME:HKT
DTSTART:20140101T000000
END:STANDARD
END:VTIMEZONE
BEGIN:VEVENT
DTSTART;TZID=Asia/Hong_Kong:20150808T133000
DTEND;TZID=Asia/Hong_Kong:20150808T220000
DTSTAMP:20260424T102141
CREATED:20150428T103723Z
LAST-MODIFIED:20150728T104146Z
UID:5230-1439040600-1439071200@www.bcmagazine.net
SUMMARY:MYO-Band WBPF Pro Mr World & HKBPSF Championship 2015
DESCRIPTION:MYO-Band WBPF Pro Mr World & HKBPSF Championship 2015\nWhen: 1:30pm\, 8 August\, 2015\nWhere: Southorn Stadium\, Wanchai\nTickets: $300\, $200 from HKTicketing
URL:https://www.bcmagazine.net/event/myo-band-wbpf-pro-mr-world-hkbpsf-championship-2015/
LOCATION:Southorn Stadium\, 111 Johnston Road\, Wanchai\, Hong Kong
CATEGORIES:2015,Sport
GEO:22.2767697;114.1730209
X-APPLE-STRUCTURED-LOCATION;VALUE=URI;X-ADDRESS=Southorn Stadium 111 Johnston Road Wanchai Hong Kong;X-APPLE-RADIUS=500;X-TITLE=111 Johnston Road:geo:114.1730209,22.2767697
END:VEVENT
END:VCALENDAR