BEGIN:VCALENDAR
VERSION:2.0
PRODID:-//bc magazine - ECPv6.15.20//NONSGML v1.0//EN
CALSCALE:GREGORIAN
METHOD:PUBLISH
X-WR-CALNAME:bc magazine
X-ORIGINAL-URL:https://www.bcmagazine.net
X-WR-CALDESC:Events for bc magazine
REFRESH-INTERVAL;VALUE=DURATION:PT1H
X-Robots-Tag:noindex
X-PUBLISHED-TTL:PT1H
BEGIN:VTIMEZONE
TZID:Asia/Hong_Kong
BEGIN:STANDARD
TZOFFSETFROM:+0800
TZOFFSETTO:+0800
TZNAME:HKT
DTSTART:20170101T000000
END:STANDARD
END:VTIMEZONE
BEGIN:VEVENT
DTSTART;VALUE=DATE:20181201
DTEND;VALUE=DATE:20181202
DTSTAMP:20260424T081805
CREATED:19181104T041350Z
LAST-MODIFIED:20181121T070735Z
UID:72046-1543622400-1543708799@www.bcmagazine.net
SUMMARY:Pinot Palooza\, Wine + Music Festival
DESCRIPTION:Pinot Palooza\, Wine + Music Festival\nDate: 1 December\, 2018\nVenue: Hong Kong Observation Wheel\nTickets: $350
URL:https://www.bcmagazine.net/event/pinot-palooza-wine-music-festival-2018/
LOCATION:Hong Kong Observation Wheel\, 33 Man Kwong Street\, Central\, Hong Kong
CATEGORIES:2018,Food,Lifestyle,Music
ATTACH;FMTTYPE=image/jpeg:https://www.bcmagazine.net/wp-content/uploads/2018/11/PINOT-PALOOZA-4.jpg
END:VEVENT
END:VCALENDAR