BEGIN:VCALENDAR
VERSION:2.0
PRODID:-//bc magazine - ECPv6.15.20//NONSGML v1.0//EN
CALSCALE:GREGORIAN
METHOD:PUBLISH
X-WR-CALNAME:bc magazine
X-ORIGINAL-URL:https://www.bcmagazine.net
X-WR-CALDESC:Events for bc magazine
REFRESH-INTERVAL;VALUE=DURATION:PT1H
X-Robots-Tag:noindex
X-PUBLISHED-TTL:PT1H
BEGIN:VTIMEZONE
TZID:Asia/Hong_Kong
BEGIN:STANDARD
TZOFFSETFROM:+0800
TZOFFSETTO:+0800
TZNAME:HKT
DTSTART:20150101T000000
END:STANDARD
END:VTIMEZONE
BEGIN:VEVENT
DTSTART;TZID=Asia/Hong_Kong:20160329T194500
DTEND;TZID=Asia/Hong_Kong:20160329T194500
DTSTAMP:20260421T052636
CREATED:19160107T111622Z
LAST-MODIFIED:20160217T070911Z
UID:7933-1459280700-1459280700@www.bcmagazine.net
SUMMARY:Teresa Teng
DESCRIPTION:Teresa Teng Fan Club 40th Anniversary Charity Concert\nHong Kong Youth Symphonic Orchestra\nDate: 7:45pm\, 29 March\, 2016\nVenue: HK Cultural Centre\, Concert Hall\nTickets: $480\, $380\, $280\, $180 from Urbtix
URL:https://www.bcmagazine.net/event/teresa-teng-fan-club-40th-anniversary-charity-concert/
LOCATION:HK Cultural Centre\, Concert Hall\, 10 Salisbury Road\, Tsim Sha Tsui\, Hong Kong
CATEGORIES:2016,Concert,Music,Performing Arts
GEO:22.294318;114.171708
X-APPLE-STRUCTURED-LOCATION;VALUE=URI;X-ADDRESS=HK Cultural Centre Concert Hall 10 Salisbury Road Tsim Sha Tsui Hong Kong;X-APPLE-RADIUS=500;X-TITLE=10 Salisbury Road:geo:114.171708,22.294318
END:VEVENT
END:VCALENDAR