BEGIN:VCALENDAR
VERSION:2.0
PRODID:-//bc magazine - ECPv6.15.20//NONSGML v1.0//EN
CALSCALE:GREGORIAN
METHOD:PUBLISH
X-WR-CALNAME:bc magazine
X-ORIGINAL-URL:https://www.bcmagazine.net
X-WR-CALDESC:Events for bc magazine
REFRESH-INTERVAL;VALUE=DURATION:PT1H
X-Robots-Tag:noindex
X-PUBLISHED-TTL:PT1H
BEGIN:VTIMEZONE
TZID:Asia/Hong_Kong
BEGIN:STANDARD
TZOFFSETFROM:+0800
TZOFFSETTO:+0800
TZNAME:HKT
DTSTART:20150101T000000
END:STANDARD
END:VTIMEZONE
BEGIN:VEVENT
DTSTART;TZID=Asia/Hong_Kong:20160821T200000
DTEND;TZID=Asia/Hong_Kong:20160821T200000
DTSTAMP:20260421T072456
CREATED:19160716T153550Z
LAST-MODIFIED:20160716T160300Z
UID:21790-1471809600-1471809600@www.bcmagazine.net
SUMMARY:The Fab Fourever
DESCRIPTION:The Fab Fourever\nDate: 8pm\, 21 August\, 2016\nVenue: Music Zone@E-Max\nTickets: $400\, $300 from Cityline
URL:https://www.bcmagazine.net/event/the-fab-fourever-2016/
LOCATION:KITEC (Kowloon Bay International Trade & Exhibition Centre)\, 1 Trademart Drive\, Kowloon Bay\, Hong Kong
CATEGORIES:2016,Concert,Music
GEO:22.3239575;114.2037608
X-APPLE-STRUCTURED-LOCATION;VALUE=URI;X-ADDRESS=KITEC (Kowloon Bay International Trade & Exhibition Centre) 1 Trademart Drive Kowloon Bay Hong Kong;X-APPLE-RADIUS=500;X-TITLE=1 Trademart Drive:geo:114.2037608,22.3239575
END:VEVENT
END:VCALENDAR